BEGIN:VCALENDAR
VERSION:2.0
PRODID:-//Van Buren Advertising &amp; Promotions Commission - ECPv6.15.20//NONSGML v1.0//EN
CALSCALE:GREGORIAN
METHOD:PUBLISH
X-ORIGINAL-URL:https://vanburen.org
X-WR-CALDESC:Events for Van Buren Advertising &amp; Promotions Commission
REFRESH-INTERVAL;VALUE=DURATION:PT1H
X-Robots-Tag:noindex
X-PUBLISHED-TTL:PT1H
BEGIN:VTIMEZONE
TZID:America/Chicago
BEGIN:DAYLIGHT
TZOFFSETFROM:-0600
TZOFFSETTO:-0500
TZNAME:CDT
DTSTART:20210314T080000
END:DAYLIGHT
BEGIN:STANDARD
TZOFFSETFROM:-0500
TZOFFSETTO:-0600
TZNAME:CST
DTSTART:20211107T070000
END:STANDARD
BEGIN:DAYLIGHT
TZOFFSETFROM:-0600
TZOFFSETTO:-0500
TZNAME:CDT
DTSTART:20220313T080000
END:DAYLIGHT
BEGIN:STANDARD
TZOFFSETFROM:-0500
TZOFFSETTO:-0600
TZNAME:CST
DTSTART:20221106T070000
END:STANDARD
BEGIN:DAYLIGHT
TZOFFSETFROM:-0600
TZOFFSETTO:-0500
TZNAME:CDT
DTSTART:20230312T080000
END:DAYLIGHT
BEGIN:STANDARD
TZOFFSETFROM:-0500
TZOFFSETTO:-0600
TZNAME:CST
DTSTART:20231105T070000
END:STANDARD
END:VTIMEZONE
BEGIN:VEVENT
DTSTART;TZID=America/Chicago:20220528T110000
DTEND;TZID=America/Chicago:20220528T110000
DTSTAMP:20260425T031832
CREATED:20240401T165119Z
LAST-MODIFIED:20240401T165119Z
UID:10000891-1653735600-1653735600@vanburen.org
SUMMARY:RUN FOR A VETERAN 5K AND 1 MILE FUN RUN/WALK
DESCRIPTION:
URL:https://vanburen.org/event/run-for-a-veteran-5k-and-1-mile-fun-run-walk-2/
LOCATION:AR
END:VEVENT
BEGIN:VEVENT
DTSTART;TZID=America/Chicago:20220528T110000
DTEND;TZID=America/Chicago:20220528T140000
DTSTAMP:20260425T031832
CREATED:20240401T164436Z
LAST-MODIFIED:20240401T164436Z
UID:10000867-1653735600-1653746400@vanburen.org
SUMMARY:Ride The Train Van Buren to Winslow
DESCRIPTION:This three-hour\, 70-mile round trip excursion takes you through the ruggedly beautiful Boston Mountain range of the Ozarks\, over three valley trestles and through the 1700-foot-long Winslow tunnel.\nEnjoy some of the most breathtaking scenery you are likely to see in ‘The Natural State’ \n\nDeparts Van Buren 11:00am\nBoston Mountains\, Trestles\, Tunnel\nThree-hour round trip
URL:https://vanburen.org/event/ride-the-train-van-buren-to-winslow-33/
LOCATION:AR
END:VEVENT
BEGIN:VEVENT
DTSTART;TZID=America/Chicago:20220528T130000
DTEND;TZID=America/Chicago:20220528T130000
DTSTAMP:20260425T031832
CREATED:20240401T164902Z
LAST-MODIFIED:20240401T164902Z
UID:10000883-1653742800-1653742800@vanburen.org
SUMMARY:Van Buren Pioneer Day Parade
DESCRIPTION:More information to come.
URL:https://vanburen.org/event/van-buren-pioneer-day-parade-3/
LOCATION:AR
END:VEVENT
END:VCALENDAR