BEGIN:VCALENDAR
VERSION:2.0
PRODID:-//Van Buren Advertising &amp; Promotions Commission - ECPv6.15.20//NONSGML v1.0//EN
CALSCALE:GREGORIAN
METHOD:PUBLISH
X-ORIGINAL-URL:https://vanburen.org
X-WR-CALDESC:Events for Van Buren Advertising &amp; Promotions Commission
REFRESH-INTERVAL;VALUE=DURATION:PT1H
X-Robots-Tag:noindex
X-PUBLISHED-TTL:PT1H
BEGIN:VTIMEZONE
TZID:America/Chicago
BEGIN:DAYLIGHT
TZOFFSETFROM:-0600
TZOFFSETTO:-0500
TZNAME:CDT
DTSTART:20210314T080000
END:DAYLIGHT
BEGIN:STANDARD
TZOFFSETFROM:-0500
TZOFFSETTO:-0600
TZNAME:CST
DTSTART:20211107T070000
END:STANDARD
BEGIN:DAYLIGHT
TZOFFSETFROM:-0600
TZOFFSETTO:-0500
TZNAME:CDT
DTSTART:20220313T080000
END:DAYLIGHT
BEGIN:STANDARD
TZOFFSETFROM:-0500
TZOFFSETTO:-0600
TZNAME:CST
DTSTART:20221106T070000
END:STANDARD
BEGIN:DAYLIGHT
TZOFFSETFROM:-0600
TZOFFSETTO:-0500
TZNAME:CDT
DTSTART:20230312T080000
END:DAYLIGHT
BEGIN:STANDARD
TZOFFSETFROM:-0500
TZOFFSETTO:-0600
TZNAME:CST
DTSTART:20231105T070000
END:STANDARD
END:VTIMEZONE
BEGIN:VEVENT
DTSTART;TZID=America/Chicago:20221008T090000
DTEND;TZID=America/Chicago:20221008T170000
DTSTAMP:20260424T192105
CREATED:20240401T164918Z
LAST-MODIFIED:20240401T164918Z
UID:10000886-1665219600-1665248400@vanburen.org
SUMMARY:Fall Festival
DESCRIPTION:More information to come
URL:https://vanburen.org/event/fall-festival-6/
LOCATION:AR
END:VEVENT
BEGIN:VEVENT
DTSTART;TZID=America/Chicago:20221008T100000
DTEND;TZID=America/Chicago:20221008T180000
DTSTAMP:20260424T192105
CREATED:20240401T164114Z
LAST-MODIFIED:20240401T164114Z
UID:10000855-1665223200-1665252000@vanburen.org
SUMMARY:Second Saturday Shopping
DESCRIPTION:These days are full of shopping\, dinning\, and strolling the streets to find those sweet deals. Each month there is usually a different theme with live music\, food trucks and street vendors.
URL:https://vanburen.org/event/second-saturday-shopping-8/
LOCATION:AR
END:VEVENT
BEGIN:VEVENT
DTSTART;TZID=America/Chicago:20221008T110000
DTEND;TZID=America/Chicago:20221008T140000
DTSTAMP:20260424T192105
CREATED:20240401T171155Z
LAST-MODIFIED:20240401T171155Z
UID:10000934-1665226800-1665237600@vanburen.org
SUMMARY:Ride the Train Van Buren to Winslow
DESCRIPTION:This three-hour\, 70-mile round trip excursion takes you through the ruggedly beautiful Boston Mountain range of the Ozarks\, over three valley trestles and through the 1700-foot-long Winslow tunnel.
URL:https://vanburen.org/event/ride-the-train-van-buren-to-winslow-52/
LOCATION:AR
END:VEVENT
BEGIN:VEVENT
DTSTART;TZID=America/Chicago:20221008T180000
DTEND;TZID=America/Chicago:20221008T180000
DTSTAMP:20260424T192105
CREATED:20240401T172159Z
LAST-MODIFIED:20240401T172159Z
UID:10000956-1665252000-1665252000@vanburen.org
SUMMARY:"An Evening with Sinatra"    PRE-SHOW-PERFORMANCE-PARTY @ KOH
DESCRIPTION:Original choreography performed to the music of Frank Sinatra and other “Rat Pack entertainers. Saturday\, October 8\, 2022 at 6pm tickets are $80 per person for adults and includes reception\, performance\, and dinner. Catering by Uncork’d.Tickets available at www.waballet.org or by calling 479-785-0152.\nCocktail attire
URL:https://vanburen.org/event/an-evening-with-sinatra-pre-show-performance-party-koh-2/
LOCATION:AR
END:VEVENT
END:VCALENDAR