BEGIN:VCALENDAR
VERSION:2.0
PRODID:-//Van Buren Advertising &amp; Promotions Commission - ECPv6.15.20//NONSGML v1.0//EN
CALSCALE:GREGORIAN
METHOD:PUBLISH
X-ORIGINAL-URL:https://vanburen.org
X-WR-CALDESC:Events for Van Buren Advertising &amp; Promotions Commission
REFRESH-INTERVAL;VALUE=DURATION:PT1H
X-Robots-Tag:noindex
X-PUBLISHED-TTL:PT1H
BEGIN:VTIMEZONE
TZID:America/Chicago
BEGIN:DAYLIGHT
TZOFFSETFROM:-0600
TZOFFSETTO:-0500
TZNAME:CDT
DTSTART:20210314T080000
END:DAYLIGHT
BEGIN:STANDARD
TZOFFSETFROM:-0500
TZOFFSETTO:-0600
TZNAME:CST
DTSTART:20211107T070000
END:STANDARD
BEGIN:DAYLIGHT
TZOFFSETFROM:-0600
TZOFFSETTO:-0500
TZNAME:CDT
DTSTART:20220313T080000
END:DAYLIGHT
BEGIN:STANDARD
TZOFFSETFROM:-0500
TZOFFSETTO:-0600
TZNAME:CST
DTSTART:20221106T070000
END:STANDARD
BEGIN:DAYLIGHT
TZOFFSETFROM:-0600
TZOFFSETTO:-0500
TZNAME:CDT
DTSTART:20230312T080000
END:DAYLIGHT
BEGIN:STANDARD
TZOFFSETFROM:-0500
TZOFFSETTO:-0600
TZNAME:CST
DTSTART:20231105T070000
END:STANDARD
END:VTIMEZONE
BEGIN:VEVENT
DTSTART;TZID=America/Chicago:20221112T100000
DTEND;TZID=America/Chicago:20221112T100000
DTSTAMP:20260424T141355
CREATED:20240401T171958Z
LAST-MODIFIED:20240401T171958Z
UID:10000951-1668247200-1668247200@vanburen.org
SUMMARY:MISS RIVER VALLEY'S Winter Wonderland Pageant 2022
DESCRIPTION:
URL:https://vanburen.org/event/miss-river-valleys-winter-wonderland-pageant-2022-2/
LOCATION:AR
END:VEVENT
BEGIN:VEVENT
DTSTART;TZID=America/Chicago:20221112T100000
DTEND;TZID=America/Chicago:20221112T180000
DTSTAMP:20260424T141355
CREATED:20240401T164114Z
LAST-MODIFIED:20240401T164114Z
UID:10000856-1668247200-1668276000@vanburen.org
SUMMARY:Second Saturday Shopping
DESCRIPTION:These days are full of shopping\, dinning\, and strolling the streets to find those sweet deals. Each month there is usually a different theme with live music\, food trucks and street vendors.
URL:https://vanburen.org/event/second-saturday-shopping-9/
LOCATION:AR
END:VEVENT
BEGIN:VEVENT
DTSTART;TZID=America/Chicago:20221112T100000
DTEND;TZID=America/Chicago:20221112T180000
DTSTAMP:20260424T141355
CREATED:20240401T173204Z
LAST-MODIFIED:20240401T173204Z
UID:10000980-1668247200-1668276000@vanburen.org
SUMMARY:Holiday Open House
DESCRIPTION:
URL:https://vanburen.org/event/holiday-open-house-7/
LOCATION:AR
END:VEVENT
BEGIN:VEVENT
DTSTART;TZID=America/Chicago:20221112T110000
DTEND;TZID=America/Chicago:20221112T140000
DTSTAMP:20260424T141355
CREATED:20240401T171757Z
LAST-MODIFIED:20240401T171757Z
UID:10000946-1668250800-1668261600@vanburen.org
SUMMARY:Ride the Train Van Buren to Winslow
DESCRIPTION:This three-hour\, 70-mile round trip excursion takes you through the ruggedly beautiful Boston Mountain range of the Ozarks\, over three valley trestles and through the 1700-foot-long Winslow tunnel.
URL:https://vanburen.org/event/ride-the-train-van-buren-to-winslow-64/
LOCATION:AR
END:VEVENT
END:VCALENDAR