BEGIN:VCALENDAR
VERSION:2.0
PRODID:-//Van Buren Advertising &amp; Promotions Commission - ECPv6.15.20//NONSGML v1.0//EN
CALSCALE:GREGORIAN
METHOD:PUBLISH
X-ORIGINAL-URL:https://vanburen.org
X-WR-CALDESC:Events for Van Buren Advertising &amp; Promotions Commission
REFRESH-INTERVAL;VALUE=DURATION:PT1H
X-Robots-Tag:noindex
X-PUBLISHED-TTL:PT1H
BEGIN:VTIMEZONE
TZID:America/Chicago
BEGIN:DAYLIGHT
TZOFFSETFROM:-0600
TZOFFSETTO:-0500
TZNAME:CDT
DTSTART:20210314T080000
END:DAYLIGHT
BEGIN:STANDARD
TZOFFSETFROM:-0500
TZOFFSETTO:-0600
TZNAME:CST
DTSTART:20211107T070000
END:STANDARD
BEGIN:DAYLIGHT
TZOFFSETFROM:-0600
TZOFFSETTO:-0500
TZNAME:CDT
DTSTART:20220313T080000
END:DAYLIGHT
BEGIN:STANDARD
TZOFFSETFROM:-0500
TZOFFSETTO:-0600
TZNAME:CST
DTSTART:20221106T070000
END:STANDARD
BEGIN:DAYLIGHT
TZOFFSETFROM:-0600
TZOFFSETTO:-0500
TZNAME:CDT
DTSTART:20230312T080000
END:DAYLIGHT
BEGIN:STANDARD
TZOFFSETFROM:-0500
TZOFFSETTO:-0600
TZNAME:CST
DTSTART:20231105T070000
END:STANDARD
END:VTIMEZONE
BEGIN:VEVENT
DTSTART;TZID=America/Chicago:20221118T193000
DTEND;TZID=America/Chicago:20221118T193000
DTSTAMP:20260424T154231
CREATED:20240401T172401Z
LAST-MODIFIED:20240401T172401Z
UID:10000963-1668799800-1668799800@vanburen.org
SUMMARY:Twitty & Lynn: A Salute to Conway and Loretta 7:30 PM @ KOH
DESCRIPTION:
URL:https://vanburen.org/event/twitty-lynn-a-salute-to-conway-and-loretta-730-pm-koh-2/
LOCATION:AR
END:VEVENT
END:VCALENDAR