BEGIN:VCALENDAR
VERSION:2.0
PRODID:-//Van Buren Advertising &amp; Promotions Commission - ECPv6.15.20//NONSGML v1.0//EN
CALSCALE:GREGORIAN
METHOD:PUBLISH
X-ORIGINAL-URL:https://vanburen.org
X-WR-CALDESC:Events for Van Buren Advertising &amp; Promotions Commission
REFRESH-INTERVAL;VALUE=DURATION:PT1H
X-Robots-Tag:noindex
X-PUBLISHED-TTL:PT1H
BEGIN:VTIMEZONE
TZID:America/Chicago
BEGIN:DAYLIGHT
TZOFFSETFROM:-0600
TZOFFSETTO:-0500
TZNAME:CDT
DTSTART:20220313T080000
END:DAYLIGHT
BEGIN:STANDARD
TZOFFSETFROM:-0500
TZOFFSETTO:-0600
TZNAME:CST
DTSTART:20221106T070000
END:STANDARD
BEGIN:DAYLIGHT
TZOFFSETFROM:-0600
TZOFFSETTO:-0500
TZNAME:CDT
DTSTART:20230312T080000
END:DAYLIGHT
BEGIN:STANDARD
TZOFFSETFROM:-0500
TZOFFSETTO:-0600
TZNAME:CST
DTSTART:20231105T070000
END:STANDARD
BEGIN:DAYLIGHT
TZOFFSETFROM:-0600
TZOFFSETTO:-0500
TZNAME:CDT
DTSTART:20240310T080000
END:DAYLIGHT
BEGIN:STANDARD
TZOFFSETFROM:-0500
TZOFFSETTO:-0600
TZNAME:CST
DTSTART:20241103T070000
END:STANDARD
END:VTIMEZONE
BEGIN:VEVENT
DTSTART;TZID=America/Chicago:20230325T190000
DTEND;TZID=America/Chicago:20230325T190000
DTSTAMP:20260422T092804
CREATED:20240401T174813Z
LAST-MODIFIED:20240401T174813Z
UID:10001022-1679770800-1679770800@vanburen.org
SUMMARY:Tribute to the Beatles – Beatlemania64 @ The KOH
DESCRIPTION:Beatlemania64 – A TRIBUTE TO THE BEATLES is a live multi-media spectacular that takes you on a musical journey through the life and times of the world’s most celebrated band. Going further than before\, Beatlemania64 adds even more hits that you know and love from the Beatles touring years such as\, “I Want To Hold Your Hand”\, “Hard Day’s Night”\, and “She Loves You” as well as album favorites like “Nowhere Man”\, and “In My Life”. This stunning live concert event takes you back to Beatlemania in its hayday in the year 1964. The cast of The Four Fabs portrays the legendary foursome delivering a note-for-note theatrical event that is the next best thing to The Beatles. Don’t miss the the cast of Beatlemania64 in it’s 15th year as they take you through The Beatles’ first amazing year – A TRIBUTE TO THE BEATLES.
URL:https://vanburen.org/event/tribute-to-the-beatles-beatlemania64-the-koh-2/
LOCATION:AR
END:VEVENT
END:VCALENDAR