BEGIN:VCALENDAR
VERSION:2.0
PRODID:-//Van Buren Advertising &amp; Promotions Commission - ECPv6.15.20//NONSGML v1.0//EN
CALSCALE:GREGORIAN
METHOD:PUBLISH
X-ORIGINAL-URL:https://vanburen.org
X-WR-CALDESC:Events for Van Buren Advertising &amp; Promotions Commission
REFRESH-INTERVAL;VALUE=DURATION:PT1H
X-Robots-Tag:noindex
X-PUBLISHED-TTL:PT1H
BEGIN:VTIMEZONE
TZID:America/Chicago
BEGIN:DAYLIGHT
TZOFFSETFROM:-0600
TZOFFSETTO:-0500
TZNAME:CDT
DTSTART:20220313T080000
END:DAYLIGHT
BEGIN:STANDARD
TZOFFSETFROM:-0500
TZOFFSETTO:-0600
TZNAME:CST
DTSTART:20221106T070000
END:STANDARD
BEGIN:DAYLIGHT
TZOFFSETFROM:-0600
TZOFFSETTO:-0500
TZNAME:CDT
DTSTART:20230312T080000
END:DAYLIGHT
BEGIN:STANDARD
TZOFFSETFROM:-0500
TZOFFSETTO:-0600
TZNAME:CST
DTSTART:20231105T070000
END:STANDARD
BEGIN:DAYLIGHT
TZOFFSETFROM:-0600
TZOFFSETTO:-0500
TZNAME:CDT
DTSTART:20240310T080000
END:DAYLIGHT
BEGIN:STANDARD
TZOFFSETFROM:-0500
TZOFFSETTO:-0600
TZNAME:CST
DTSTART:20241103T070000
END:STANDARD
END:VTIMEZONE
BEGIN:VEVENT
DTSTART;VALUE=DATE:20230513
DTEND;VALUE=DATE:20230514
DTSTAMP:20260422T092710
CREATED:20240401T175014Z
LAST-MODIFIED:20240401T175014Z
UID:10001026-1683936000-1684022399@vanburen.org
SUMMARY:Western Arkansas Ballet Spring Concert at The KOH
DESCRIPTION:More information to come.
URL:https://vanburen.org/event/western-arkansas-ballet-spring-concert-at-the-koh-2/
LOCATION:AR
END:VEVENT
BEGIN:VEVENT
DTSTART;TZID=America/Chicago:20230513T090000
DTEND;TZID=America/Chicago:20230513T180000
DTSTAMP:20260422T092710
CREATED:20240401T173808Z
LAST-MODIFIED:20240401T173808Z
UID:10000997-1683968400-1684000800@vanburen.org
SUMMARY:OLD TIMERS DAY STEAMPUNK FESTIVAL
DESCRIPTION:MORE INFORMATION TO COME.
URL:https://vanburen.org/event/old-timers-day-steampunk-festival-13/
LOCATION:AR
END:VEVENT
BEGIN:VEVENT
DTSTART;TZID=America/Chicago:20230513T110000
DTEND;TZID=America/Chicago:20230513T140000
DTSTAMP:20260422T092710
CREATED:20240401T180421Z
LAST-MODIFIED:20240401T180421Z
UID:10001055-1683975600-1683986400@vanburen.org
SUMMARY:Ride the Train Van Buren to Winslow roundtrip
DESCRIPTION:This three-hour\, 70-mile round trip excursion takes you through the ruggedly beautiful Boston Mountain range of the Ozarks\, over three valley trestles and through the 1700-foot-long Winslow tunnel.
URL:https://vanburen.org/event/ride-the-train-van-buren-to-winslow-roundtrip-9/
LOCATION:AR
END:VEVENT
END:VCALENDAR