BEGIN:VCALENDAR
VERSION:2.0
PRODID:-//Van Buren Advertising &amp; Promotions Commission - ECPv6.15.20//NONSGML v1.0//EN
CALSCALE:GREGORIAN
METHOD:PUBLISH
X-ORIGINAL-URL:https://vanburen.org
X-WR-CALDESC:Events for Van Buren Advertising &amp; Promotions Commission
REFRESH-INTERVAL;VALUE=DURATION:PT1H
X-Robots-Tag:noindex
X-PUBLISHED-TTL:PT1H
BEGIN:VTIMEZONE
TZID:America/Chicago
BEGIN:DAYLIGHT
TZOFFSETFROM:-0600
TZOFFSETTO:-0500
TZNAME:CDT
DTSTART:20220313T080000
END:DAYLIGHT
BEGIN:STANDARD
TZOFFSETFROM:-0500
TZOFFSETTO:-0600
TZNAME:CST
DTSTART:20221106T070000
END:STANDARD
BEGIN:DAYLIGHT
TZOFFSETFROM:-0600
TZOFFSETTO:-0500
TZNAME:CDT
DTSTART:20230312T080000
END:DAYLIGHT
BEGIN:STANDARD
TZOFFSETFROM:-0500
TZOFFSETTO:-0600
TZNAME:CST
DTSTART:20231105T070000
END:STANDARD
BEGIN:DAYLIGHT
TZOFFSETFROM:-0600
TZOFFSETTO:-0500
TZNAME:CDT
DTSTART:20240310T080000
END:DAYLIGHT
BEGIN:STANDARD
TZOFFSETFROM:-0500
TZOFFSETTO:-0600
TZNAME:CST
DTSTART:20241103T070000
END:STANDARD
END:VTIMEZONE
BEGIN:VEVENT
DTSTART;TZID=America/Chicago:20230708T100000
DTEND;TZID=America/Chicago:20230708T180000
DTSTAMP:20260422T022931
CREATED:20240401T174008Z
LAST-MODIFIED:20240401T174008Z
UID:10001000-1688810400-1688839200@vanburen.org
SUMMARY:Second Saturday "Americana Days" Shopping on Main
DESCRIPTION:
URL:https://vanburen.org/event/second-saturday-americana-days-shopping-on-main-2/
LOCATION:AR
END:VEVENT
BEGIN:VEVENT
DTSTART;TZID=America/Chicago:20230708T110000
DTEND;TZID=America/Chicago:20230708T140000
DTSTAMP:20260422T022931
CREATED:20240401T180823Z
LAST-MODIFIED:20240401T180823Z
UID:10001064-1688814000-1688824800@vanburen.org
SUMMARY:Ride the Train Van Buren to Winslow roundtrip
DESCRIPTION:This three-hour\, 70-mile round trip excursion takes you through the ruggedly beautiful Boston Mountain range of the Ozarks\, over three valley trestles and through the 1700-foot-long Winslow tunnel.
URL:https://vanburen.org/event/ride-the-train-van-buren-to-winslow-roundtrip-18/
LOCATION:AR
END:VEVENT
BEGIN:VEVENT
DTSTART;TZID=America/Chicago:20230708T140000
DTEND;TZID=America/Chicago:20230708T140000
DTSTAMP:20260422T022931
CREATED:20240401T182523Z
LAST-MODIFIED:20240401T182523Z
UID:10001110-1688824800-1688824800@vanburen.org
SUMMARY:Movie @ the KOH "Indians\, Outlaws\, Marshalls\, and the Hangin Judge"
DESCRIPTION:This year the King Opera House is be offering a series of movies from the Fort Smith Film Festival. Admission is free\, but a $5 donation is suggested. Please note that these independent movies are not rated.\nIndians\, Outlaws\, Marshals and the Hangin’ Judge \nWhile set in the late 19th century\, the stories documented in this film resonate today: gun violence\, racial strife\, police brutality and American Indian rights. This is a true tale of Indian removal\, crime\, capital punishment and a charismatic federal judge who sentenced scores of felons to “hang by the neck until you are dead.” Outlaw gangs hid from the law in lands given to native people\, until Indian Territory was taken away and turned back to settlers. Told in first person using the actual words written by St. Louis Republic newspaper reporter Ada Patterson in September 1896\, this real-life story is set in and around Fort Smith\, Arkansas\, in the same time and place as the fictional Western novel and film\, True Grit. Patterson narrates\, much as Mattie Ross tells the story in the Charles Portis classic. With careful and honest detail to the words and visual history of the era\, we re-create Patterson’s interview with Judge Isaac Parker\, the infamous “hanging Judge\,” conducted on the date (September 1\, 1896) Parker’s court was stripped by Congress of its jurisdiction over Indian Territory. Parker\, who was dying of kidney disease\, tells Patterson a gripping tale of his court\, and his view of American Indians: “Twenty-one year’s experience has taught me they are a religiously inclined\, law-abiding\, authority-respecting people\,” and of the “brutes” who stood trial before his bench. “
URL:https://vanburen.org/event/movie-the-koh-indians-outlaws-marshalls-and-the-hangin-judge-2/
LOCATION:AR
END:VEVENT
END:VCALENDAR