BEGIN:VCALENDAR
VERSION:2.0
PRODID:-//Van Buren Advertising &amp; Promotions Commission - ECPv6.15.20//NONSGML v1.0//EN
CALSCALE:GREGORIAN
METHOD:PUBLISH
X-ORIGINAL-URL:https://vanburen.org
X-WR-CALDESC:Events for Van Buren Advertising &amp; Promotions Commission
REFRESH-INTERVAL;VALUE=DURATION:PT1H
X-Robots-Tag:noindex
X-PUBLISHED-TTL:PT1H
BEGIN:VTIMEZONE
TZID:America/Chicago
BEGIN:DAYLIGHT
TZOFFSETFROM:-0600
TZOFFSETTO:-0500
TZNAME:CDT
DTSTART:20220313T080000
END:DAYLIGHT
BEGIN:STANDARD
TZOFFSETFROM:-0500
TZOFFSETTO:-0600
TZNAME:CST
DTSTART:20221106T070000
END:STANDARD
BEGIN:DAYLIGHT
TZOFFSETFROM:-0600
TZOFFSETTO:-0500
TZNAME:CDT
DTSTART:20230312T080000
END:DAYLIGHT
BEGIN:STANDARD
TZOFFSETFROM:-0500
TZOFFSETTO:-0600
TZNAME:CST
DTSTART:20231105T070000
END:STANDARD
BEGIN:DAYLIGHT
TZOFFSETFROM:-0600
TZOFFSETTO:-0500
TZNAME:CDT
DTSTART:20240310T080000
END:DAYLIGHT
BEGIN:STANDARD
TZOFFSETFROM:-0500
TZOFFSETTO:-0600
TZNAME:CST
DTSTART:20241103T070000
END:STANDARD
END:VTIMEZONE
BEGIN:VEVENT
DTSTART;TZID=America/Chicago:20230909T090000
DTEND;TZID=America/Chicago:20230909T170000
DTSTAMP:20260421T230057
CREATED:20240401T174009Z
LAST-MODIFIED:20240401T174009Z
UID:10001003-1694250000-1694278800@vanburen.org
SUMMARY:DOWNTOWN JUNKFEST
DESCRIPTION:DETAILS SOON!
URL:https://vanburen.org/event/downtown-junkfest-9/
LOCATION:AR
END:VEVENT
BEGIN:VEVENT
DTSTART;TZID=America/Chicago:20230909T110000
DTEND;TZID=America/Chicago:20230909T140000
DTSTAMP:20260421T230057
CREATED:20240401T182029Z
LAST-MODIFIED:20240401T182029Z
UID:10001098-1694257200-1694268000@vanburen.org
SUMMARY:Ride the Train Van Buren to Winslow
DESCRIPTION:This three-hour\, 70 mile round trip excursion takes you through the ruggedly beautiful Boston Mountain range of the Ozarks\, over three valley trestles and through the 1700-foot long Winslow tunnel for some of the most breathtaking scenery you are likely to see in ‘The Natural State’. \nDeparts Van Buren 11:00am  \n\nBoston Mountains\, Trestles\, Tunnel\nThree hour round trip
URL:https://vanburen.org/event/ride-the-train-van-buren-to-winslow-71/
LOCATION:AR
END:VEVENT
BEGIN:VEVENT
DTSTART;TZID=America/Chicago:20230909T140000
DTEND;TZID=America/Chicago:20230909T140000
DTSTAMP:20260421T230057
CREATED:20240401T182553Z
LAST-MODIFIED:20240401T182553Z
UID:10001120-1694268000-1694268000@vanburen.org
SUMMARY:Anastasia\, The Musical held at the KOH
DESCRIPTION:Her past is a mystery. Her future is an adventure.\nAnastasia: The Musical is the spectacular new musical about discovering who you are and defining who you’re meant to be. This 60-minute adaptation of the Broadway hit is specially tailored for young actors. \nFrom Tony winners Terrence McNally\, Stephen Flaherty and Lynn Ahrens\, creators of such Broadway classics as Ragtime and Once On This Island\, this dazzling show transports its audience from the twilight of the Russian Empire to the euphoria of Paris in the 1920s\, as a brave young woman sets out to discover the mystery of her past. Pursued by a ruthless Soviet officer determined to silence her\, Anya enlists the aid of a dashing con man and a lovable ex-aristocrat. Together\, they embark on an epic adventure to help her find home\, love and family.
URL:https://vanburen.org/event/anastasia-the-musical-held-at-the-koh-7/
LOCATION:AR
END:VEVENT
BEGIN:VEVENT
DTSTART;TZID=America/Chicago:20230909T190000
DTEND;TZID=America/Chicago:20230909T190000
DTSTAMP:20260421T230057
CREATED:20240401T182553Z
LAST-MODIFIED:20240401T182553Z
UID:10001121-1694286000-1694286000@vanburen.org
SUMMARY:Anastasia\, The Musical held at the KOH
DESCRIPTION:Her past is a mystery. Her future is an adventure.\nAnastasia: The Musical is the spectacular new musical about discovering who you are and defining who you’re meant to be. This 60-minute adaptation of the Broadway hit is specially tailored for young actors. \nFrom Tony winners Terrence McNally\, Stephen Flaherty and Lynn Ahrens\, creators of such Broadway classics as Ragtime and Once On This Island\, this dazzling show transports its audience from the twilight of the Russian Empire to the euphoria of Paris in the 1920s\, as a brave young woman sets out to discover the mystery of her past. Pursued by a ruthless Soviet officer determined to silence her\, Anya enlists the aid of a dashing con man and a lovable ex-aristocrat. Together\, they embark on an epic adventure to help her find home\, love and family.
URL:https://vanburen.org/event/anastasia-the-musical-held-at-the-koh-8/
LOCATION:AR
END:VEVENT
END:VCALENDAR