BEGIN:VCALENDAR
VERSION:2.0
PRODID:-//Van Buren Advertising &amp; Promotions Commission - ECPv6.15.20//NONSGML v1.0//EN
CALSCALE:GREGORIAN
METHOD:PUBLISH
X-ORIGINAL-URL:https://vanburen.org
X-WR-CALDESC:Events for Van Buren Advertising &amp; Promotions Commission
REFRESH-INTERVAL;VALUE=DURATION:PT1H
X-Robots-Tag:noindex
X-PUBLISHED-TTL:PT1H
BEGIN:VTIMEZONE
TZID:America/Chicago
BEGIN:DAYLIGHT
TZOFFSETFROM:-0600
TZOFFSETTO:-0500
TZNAME:CDT
DTSTART:20220313T080000
END:DAYLIGHT
BEGIN:STANDARD
TZOFFSETFROM:-0500
TZOFFSETTO:-0600
TZNAME:CST
DTSTART:20221106T070000
END:STANDARD
BEGIN:DAYLIGHT
TZOFFSETFROM:-0600
TZOFFSETTO:-0500
TZNAME:CDT
DTSTART:20230312T080000
END:DAYLIGHT
BEGIN:STANDARD
TZOFFSETFROM:-0500
TZOFFSETTO:-0600
TZNAME:CST
DTSTART:20231105T070000
END:STANDARD
BEGIN:DAYLIGHT
TZOFFSETFROM:-0600
TZOFFSETTO:-0500
TZNAME:CDT
DTSTART:20240310T080000
END:DAYLIGHT
BEGIN:STANDARD
TZOFFSETFROM:-0500
TZOFFSETTO:-0600
TZNAME:CST
DTSTART:20241103T070000
END:STANDARD
END:VTIMEZONE
BEGIN:VEVENT
DTSTART;TZID=America/Chicago:20230923T110000
DTEND;TZID=America/Chicago:20230923T140000
DTSTAMP:20260421T230102
CREATED:20240401T182230Z
LAST-MODIFIED:20240401T182230Z
UID:10001100-1695466800-1695477600@vanburen.org
SUMMARY:Ride the Train Van Buren to Winslow
DESCRIPTION:This three-hour\, 70 mile round trip excursion takes you through the ruggedly beautiful Boston Mountain range of the Ozarks\, over three valley trestles and through the 1700-foot long Winslow tunnel for some of the most breathtaking scenery you are likely to see in ‘The Natural State’. \nDeparts Van Buren 11:00am  \n\nBoston Mountains\, Trestles\, Tunnel\nThree hour round trip
URL:https://vanburen.org/event/ride-the-train-van-buren-to-winslow-73/
LOCATION:AR
END:VEVENT
BEGIN:VEVENT
DTSTART;TZID=America/Chicago:20230923T190000
DTEND;TZID=America/Chicago:20230923T190000
DTSTAMP:20260421T230102
CREATED:20240401T182523Z
LAST-MODIFIED:20240401T182523Z
UID:10001113-1695495600-1695495600@vanburen.org
SUMMARY:Livin on Grandma's Prayers @ KOH
DESCRIPTION:Come and enjoy this original drama by Cosaundra Chapple.\n \nWhen Grandma’ Bradley’s daughter died suddenly of cancer\, she left behind a daughter. Although reluctant to take on the huge responsibility of adopting her grand daughter\, she knew it was the right thing to do. Throughout years of family drama\, Grandma’ was constantly praying and her prayers changed things!
URL:https://vanburen.org/event/livin-on-grandmas-prayers-koh-2/
LOCATION:AR
END:VEVENT
END:VCALENDAR