BEGIN:VCALENDAR
VERSION:2.0
PRODID:-//Van Buren Advertising &amp; Promotions Commission - ECPv6.15.20//NONSGML v1.0//EN
CALSCALE:GREGORIAN
METHOD:PUBLISH
X-ORIGINAL-URL:https://vanburen.org
X-WR-CALDESC:Events for Van Buren Advertising &amp; Promotions Commission
REFRESH-INTERVAL;VALUE=DURATION:PT1H
X-Robots-Tag:noindex
X-PUBLISHED-TTL:PT1H
BEGIN:VTIMEZONE
TZID:America/Chicago
BEGIN:DAYLIGHT
TZOFFSETFROM:-0600
TZOFFSETTO:-0500
TZNAME:CDT
DTSTART:20220313T080000
END:DAYLIGHT
BEGIN:STANDARD
TZOFFSETFROM:-0500
TZOFFSETTO:-0600
TZNAME:CST
DTSTART:20221106T070000
END:STANDARD
BEGIN:DAYLIGHT
TZOFFSETFROM:-0600
TZOFFSETTO:-0500
TZNAME:CDT
DTSTART:20230312T080000
END:DAYLIGHT
BEGIN:STANDARD
TZOFFSETFROM:-0500
TZOFFSETTO:-0600
TZNAME:CST
DTSTART:20231105T070000
END:STANDARD
BEGIN:DAYLIGHT
TZOFFSETFROM:-0600
TZOFFSETTO:-0500
TZNAME:CDT
DTSTART:20240310T080000
END:DAYLIGHT
BEGIN:STANDARD
TZOFFSETFROM:-0500
TZOFFSETTO:-0600
TZNAME:CST
DTSTART:20241103T070000
END:STANDARD
END:VTIMEZONE
BEGIN:VEVENT
DTSTART;TZID=America/Chicago:20230929T110000
DTEND;TZID=America/Chicago:20230929T140000
DTSTAMP:20260421T211821
CREATED:20240401T182230Z
LAST-MODIFIED:20240401T182230Z
UID:10001101-1695985200-1695996000@vanburen.org
SUMMARY:Ride the Train Van Buren to Winslow
DESCRIPTION:This three-hour\, 70 mile round trip excursion takes you through the ruggedly beautiful Boston Mountain range of the Ozarks\, over three valley trestles and through the 1700-foot long Winslow tunnel for some of the most breathtaking scenery you are likely to see in ‘The Natural State’. \nDeparts Van Buren 11:00am  \n\nBoston Mountains\, Trestles\, Tunnel\nThree hour round trip
URL:https://vanburen.org/event/ride-the-train-van-buren-to-winslow-74/
LOCATION:AR
END:VEVENT
BEGIN:VEVENT
DTSTART;TZID=America/Chicago:20230929T180000
DTEND;TZID=America/Chicago:20230929T180000
DTSTAMP:20260421T211821
CREATED:20240401T182553Z
LAST-MODIFIED:20240401T182553Z
UID:10001123-1696010400-1696010400@vanburen.org
SUMMARY:Reza\, The Edge of Illusion    at the KOH
DESCRIPTION:Reza is recognized as one of today’s most highly sought-after entertainers in the touring illusion industry\, delivering innovative\, engaging and spectacular performances worldwide.\nReza’s recent tour and television appearances have astounded over 30 million viewers from across the World on networks such as MTV\, A&E\, The CW\, PBS\, Reelz\, CX\, Fuji\, and Telemundo as well as live venues including the Alamodome (San Antonio)\, Philips Arena (Atlanta)\, Villanova Pavilion (Philadelphia)\, and Mundo Imperial Forum (Acapulco)\, to name a few. Reza’s new show “Edge of Illusion\,” is a ground-breaking grand scale production which Reza simultaneously designed to connect with the audience.
URL:https://vanburen.org/event/reza-the-edge-of-illusion-at-the-koh-2/
LOCATION:AR
END:VEVENT
END:VCALENDAR