BEGIN:VCALENDAR
VERSION:2.0
PRODID:-//Van Buren Advertising &amp; Promotions Commission - ECPv6.15.20//NONSGML v1.0//EN
CALSCALE:GREGORIAN
METHOD:PUBLISH
X-ORIGINAL-URL:https://vanburen.org
X-WR-CALDESC:Events for Van Buren Advertising &amp; Promotions Commission
REFRESH-INTERVAL;VALUE=DURATION:PT1H
X-Robots-Tag:noindex
X-PUBLISHED-TTL:PT1H
BEGIN:VTIMEZONE
TZID:America/Chicago
BEGIN:DAYLIGHT
TZOFFSETFROM:-0600
TZOFFSETTO:-0500
TZNAME:CDT
DTSTART:20220313T080000
END:DAYLIGHT
BEGIN:STANDARD
TZOFFSETFROM:-0500
TZOFFSETTO:-0600
TZNAME:CST
DTSTART:20221106T070000
END:STANDARD
BEGIN:DAYLIGHT
TZOFFSETFROM:-0600
TZOFFSETTO:-0500
TZNAME:CDT
DTSTART:20230312T080000
END:DAYLIGHT
BEGIN:STANDARD
TZOFFSETFROM:-0500
TZOFFSETTO:-0600
TZNAME:CST
DTSTART:20231105T070000
END:STANDARD
BEGIN:DAYLIGHT
TZOFFSETFROM:-0600
TZOFFSETTO:-0500
TZNAME:CDT
DTSTART:20240310T080000
END:DAYLIGHT
BEGIN:STANDARD
TZOFFSETFROM:-0500
TZOFFSETTO:-0600
TZNAME:CST
DTSTART:20241103T070000
END:STANDARD
END:VTIMEZONE
BEGIN:VEVENT
DTSTART;TZID=America/Chicago:20230930T190000
DTEND;TZID=America/Chicago:20230930T190000
DTSTAMP:20260421T211819
CREATED:20240401T175617Z
LAST-MODIFIED:20240401T175617Z
UID:10001036-1696100400-1696100400@vanburen.org
SUMMARY:The Blackwood Quartet
DESCRIPTION:Mark Blackwood joined his family in the Blackwood Brothers Quartet in 1986\, where he sang lead for many years alongside his dad\, Cecil\, and many other talented singers. Mark also worked as a producer on the Grammy-award winning Blackwood Brothers albums of the early 1980s. The group tours regularly and brings the word of Christ through song\, to both believers and non-believers alike. The quartet has had the privilege of performing with Willie Nelson and many other great artists. Recently\, we have seen our popularity grow among Elvis tribute artist fans\, as well. TICKET INFORMATION SOON!
URL:https://vanburen.org/event/the-blackwood-quartet-2/
LOCATION:AR
END:VEVENT
END:VCALENDAR