BEGIN:VCALENDAR
VERSION:2.0
PRODID:-//Van Buren Advertising &amp; Promotions Commission - ECPv6.15.20//NONSGML v1.0//EN
CALSCALE:GREGORIAN
METHOD:PUBLISH
X-ORIGINAL-URL:https://vanburen.org
X-WR-CALDESC:Events for Van Buren Advertising &amp; Promotions Commission
REFRESH-INTERVAL;VALUE=DURATION:PT1H
X-Robots-Tag:noindex
X-PUBLISHED-TTL:PT1H
BEGIN:VTIMEZONE
TZID:America/Chicago
BEGIN:DAYLIGHT
TZOFFSETFROM:-0600
TZOFFSETTO:-0500
TZNAME:CDT
DTSTART:20220313T080000
END:DAYLIGHT
BEGIN:STANDARD
TZOFFSETFROM:-0500
TZOFFSETTO:-0600
TZNAME:CST
DTSTART:20221106T070000
END:STANDARD
BEGIN:DAYLIGHT
TZOFFSETFROM:-0600
TZOFFSETTO:-0500
TZNAME:CDT
DTSTART:20230312T080000
END:DAYLIGHT
BEGIN:STANDARD
TZOFFSETFROM:-0500
TZOFFSETTO:-0600
TZNAME:CST
DTSTART:20231105T070000
END:STANDARD
BEGIN:DAYLIGHT
TZOFFSETFROM:-0600
TZOFFSETTO:-0500
TZNAME:CDT
DTSTART:20240310T080000
END:DAYLIGHT
BEGIN:STANDARD
TZOFFSETFROM:-0500
TZOFFSETTO:-0600
TZNAME:CST
DTSTART:20241103T070000
END:STANDARD
END:VTIMEZONE
BEGIN:VEVENT
DTSTART;TZID=America/Chicago:20231003T180000
DTEND;TZID=America/Chicago:20231003T200000
DTSTAMP:20260421T211710
CREATED:20240401T182800Z
LAST-MODIFIED:20240401T182800Z
UID:10001135-1696356000-1696363200@vanburen.org
SUMMARY:CRAWFORD COUNTY NATIONAL NIGHT OUT
DESCRIPTION:This year’s National Night Out Crawford County will be held in the parking lot of the hospital in Van Buren. Across from the Emergency Management Operations Center (1820 Chestnut) on Tuesday\, October 3rd: 6-8pm. This is a FREE community event for you to get to know your local first responders! POLICE\, FIRE\, EMS\, SAR\, and much more. There should be vendors with games and food! All FREE for the whole family! Hope to see you there! 211 Crawford Memorial Drive\, VB.
URL:https://vanburen.org/event/crawford-county-national-night-out-2/
LOCATION:AR
END:VEVENT
END:VCALENDAR