BEGIN:VCALENDAR
VERSION:2.0
PRODID:-//Van Buren Advertising &amp; Promotions Commission - ECPv6.15.20//NONSGML v1.0//EN
CALSCALE:GREGORIAN
METHOD:PUBLISH
X-ORIGINAL-URL:https://vanburen.org
X-WR-CALDESC:Events for Van Buren Advertising &amp; Promotions Commission
REFRESH-INTERVAL;VALUE=DURATION:PT1H
X-Robots-Tag:noindex
X-PUBLISHED-TTL:PT1H
BEGIN:VTIMEZONE
TZID:America/Chicago
BEGIN:DAYLIGHT
TZOFFSETFROM:-0600
TZOFFSETTO:-0500
TZNAME:CDT
DTSTART:20220313T080000
END:DAYLIGHT
BEGIN:STANDARD
TZOFFSETFROM:-0500
TZOFFSETTO:-0600
TZNAME:CST
DTSTART:20221106T070000
END:STANDARD
BEGIN:DAYLIGHT
TZOFFSETFROM:-0600
TZOFFSETTO:-0500
TZNAME:CDT
DTSTART:20230312T080000
END:DAYLIGHT
BEGIN:STANDARD
TZOFFSETFROM:-0500
TZOFFSETTO:-0600
TZNAME:CST
DTSTART:20231105T070000
END:STANDARD
BEGIN:DAYLIGHT
TZOFFSETFROM:-0600
TZOFFSETTO:-0500
TZNAME:CDT
DTSTART:20240310T080000
END:DAYLIGHT
BEGIN:STANDARD
TZOFFSETFROM:-0500
TZOFFSETTO:-0600
TZNAME:CST
DTSTART:20241103T070000
END:STANDARD
END:VTIMEZONE
BEGIN:VEVENT
DTSTART;TZID=America/Chicago:20231014T090000
DTEND;TZID=America/Chicago:20231014T170000
DTSTAMP:20260421T211708
CREATED:20240401T174210Z
LAST-MODIFIED:20240401T174210Z
UID:10001005-1697274000-1697302800@vanburen.org
SUMMARY:FALL FESTIVAL TRADIN' DAYS
DESCRIPTION:MORE INFORMATION SOON!
URL:https://vanburen.org/event/fall-festival-tradin-days-5/
LOCATION:AR
END:VEVENT
BEGIN:VEVENT
DTSTART;TZID=America/Chicago:20231014T100000
DTEND;TZID=America/Chicago:20231014T163000
DTSTAMP:20260421T211708
CREATED:20240401T183017Z
LAST-MODIFIED:20240401T183017Z
UID:10001151-1697277600-1697301000@vanburen.org
SUMMARY:UAFS Drennen-Scott Historic Site we will have a Civil War encampment telling the story of the 1862 Union Raid on Van Buren.
DESCRIPTION:
URL:https://vanburen.org/event/uafs-drennen-scott-historic-site-we-will-have-a-civil-war-encampment-telling-the-story-of-the-1862-union-raid-on-van-buren-2/
LOCATION:AR
END:VEVENT
BEGIN:VEVENT
DTSTART;TZID=America/Chicago:20231014T110000
DTEND;TZID=America/Chicago:20231014T140000
DTSTAMP:20260421T211708
CREATED:20240401T182230Z
LAST-MODIFIED:20240401T182230Z
UID:10001103-1697281200-1697292000@vanburen.org
SUMMARY:Ride the Train Van Buren to Winslow
DESCRIPTION:This three-hour\, 70 mile round trip excursion takes you through the ruggedly beautiful Boston Mountain range of the Ozarks\, over three valley trestles and through the 1700-foot long Winslow tunnel for some of the most breathtaking scenery you are likely to see in ‘The Natural State’. \nDeparts Van Buren 11:00am  \n\nBoston Mountains\, Trestles\, Tunnel\nThree hour round trip
URL:https://vanburen.org/event/ride-the-train-van-buren-to-winslow-76/
LOCATION:AR
END:VEVENT
BEGIN:VEVENT
DTSTART;TZID=America/Chicago:20231014T190000
DTEND;TZID=America/Chicago:20231014T190000
DTSTAMP:20260421T211708
CREATED:20240401T182609Z
LAST-MODIFIED:20240401T182609Z
UID:10001126-1697310000-1697310000@vanburen.org
SUMMARY:INTO THE WOODS JR. An Arts On Main\, Arts-In-Education presentation
DESCRIPTION:More information coming soon!
URL:https://vanburen.org/event/into-the-woods-jr-an-arts-on-main-arts-in-education-presentation-4/
LOCATION:AR
END:VEVENT
END:VCALENDAR