BEGIN:VCALENDAR
VERSION:2.0
PRODID:-//Van Buren Advertising &amp; Promotions Commission - ECPv6.15.20//NONSGML v1.0//EN
CALSCALE:GREGORIAN
METHOD:PUBLISH
X-ORIGINAL-URL:https://vanburen.org
X-WR-CALDESC:Events for Van Buren Advertising &amp; Promotions Commission
REFRESH-INTERVAL;VALUE=DURATION:PT1H
X-Robots-Tag:noindex
X-PUBLISHED-TTL:PT1H
BEGIN:VTIMEZONE
TZID:America/Chicago
BEGIN:DAYLIGHT
TZOFFSETFROM:-0600
TZOFFSETTO:-0500
TZNAME:CDT
DTSTART:20220313T080000
END:DAYLIGHT
BEGIN:STANDARD
TZOFFSETFROM:-0500
TZOFFSETTO:-0600
TZNAME:CST
DTSTART:20221106T070000
END:STANDARD
BEGIN:DAYLIGHT
TZOFFSETFROM:-0600
TZOFFSETTO:-0500
TZNAME:CDT
DTSTART:20230312T080000
END:DAYLIGHT
BEGIN:STANDARD
TZOFFSETFROM:-0500
TZOFFSETTO:-0600
TZNAME:CST
DTSTART:20231105T070000
END:STANDARD
BEGIN:DAYLIGHT
TZOFFSETFROM:-0600
TZOFFSETTO:-0500
TZNAME:CDT
DTSTART:20240310T080000
END:DAYLIGHT
BEGIN:STANDARD
TZOFFSETFROM:-0500
TZOFFSETTO:-0600
TZNAME:CST
DTSTART:20241103T070000
END:STANDARD
END:VTIMEZONE
BEGIN:VEVENT
DTSTART;TZID=America/Chicago:20231118T000000
DTEND;TZID=America/Chicago:20231231T000000
DTSTAMP:20260421T181609
CREATED:20240401T182800Z
LAST-MODIFIED:20240401T182800Z
UID:10001137-1700265600-1703980800@vanburen.org
SUMMARY:Van Buren's Christmas at the Parks
DESCRIPTION:More information to come!
URL:https://vanburen.org/event/van-burens-christmas-at-the-parks-4/
LOCATION:AR
END:VEVENT
BEGIN:VEVENT
DTSTART;TZID=America/Chicago:20231204T110000
DTEND;TZID=America/Chicago:20231204T120000
DTSTAMP:20260421T181609
CREATED:20240401T181426Z
LAST-MODIFIED:20240401T181426Z
UID:10001082-1701687600-1701691200@vanburen.org
SUMMARY:Holiday Express - Van Buren to Rudy
DESCRIPTION:Enjoy hot chocolate\, cookies\, and visits with Santa at the depot.
URL:https://vanburen.org/event/holiday-express-van-buren-to-rudy-16/
LOCATION:AR
END:VEVENT
BEGIN:VEVENT
DTSTART;TZID=America/Chicago:20231204T150000
DTEND;TZID=America/Chicago:20231204T160000
DTSTAMP:20260421T181609
CREATED:20240401T181426Z
LAST-MODIFIED:20240401T181426Z
UID:10001083-1701702000-1701705600@vanburen.org
SUMMARY:Holiday Express - Van Buren to Rudy
DESCRIPTION:Enjoy hot chocolate\, cookies\, and visits with Santa at the depot.
URL:https://vanburen.org/event/holiday-express-van-buren-to-rudy-17/
LOCATION:AR
END:VEVENT
BEGIN:VEVENT
DTSTART;TZID=America/Chicago:20231204T170000
DTEND;TZID=America/Chicago:20231204T180000
DTSTAMP:20260421T181609
CREATED:20240401T181627Z
LAST-MODIFIED:20240401T181627Z
UID:10001084-1701709200-1701712800@vanburen.org
SUMMARY:Holiday Express - Van Buren to Rudy
DESCRIPTION:Enjoy hot chocolate\, cookies\, and visits with Santa at the depot.
URL:https://vanburen.org/event/holiday-express-van-buren-to-rudy-18/
LOCATION:AR
END:VEVENT
BEGIN:VEVENT
DTSTART;TZID=America/Chicago:20231204T190000
DTEND;TZID=America/Chicago:20231204T200000
DTSTAMP:20260421T181609
CREATED:20240401T181627Z
LAST-MODIFIED:20240401T181627Z
UID:10001085-1701716400-1701720000@vanburen.org
SUMMARY:Holiday Express - Van Buren to Rudy
DESCRIPTION:Enjoy hot chocolate\, cookies\, and visits with Santa at the depot.
URL:https://vanburen.org/event/holiday-express-van-buren-to-rudy-19/
LOCATION:AR
END:VEVENT
END:VCALENDAR