BEGIN:VCALENDAR
VERSION:2.0
PRODID:-//Van Buren Advertising &amp; Promotions Commission - ECPv6.15.20//NONSGML v1.0//EN
CALSCALE:GREGORIAN
METHOD:PUBLISH
X-ORIGINAL-URL:https://vanburen.org
X-WR-CALDESC:Events for Van Buren Advertising &amp; Promotions Commission
REFRESH-INTERVAL;VALUE=DURATION:PT1H
X-Robots-Tag:noindex
X-PUBLISHED-TTL:PT1H
BEGIN:VTIMEZONE
TZID:America/Chicago
BEGIN:DAYLIGHT
TZOFFSETFROM:-0600
TZOFFSETTO:-0500
TZNAME:CDT
DTSTART:20220313T080000
END:DAYLIGHT
BEGIN:STANDARD
TZOFFSETFROM:-0500
TZOFFSETTO:-0600
TZNAME:CST
DTSTART:20221106T070000
END:STANDARD
BEGIN:DAYLIGHT
TZOFFSETFROM:-0600
TZOFFSETTO:-0500
TZNAME:CDT
DTSTART:20230312T080000
END:DAYLIGHT
BEGIN:STANDARD
TZOFFSETFROM:-0500
TZOFFSETTO:-0600
TZNAME:CST
DTSTART:20231105T070000
END:STANDARD
BEGIN:DAYLIGHT
TZOFFSETFROM:-0600
TZOFFSETTO:-0500
TZNAME:CDT
DTSTART:20240310T080000
END:DAYLIGHT
BEGIN:STANDARD
TZOFFSETFROM:-0500
TZOFFSETTO:-0600
TZNAME:CST
DTSTART:20241103T070000
END:STANDARD
END:VTIMEZONE
BEGIN:VEVENT
DTSTART;TZID=America/Chicago:20231118T000000
DTEND;TZID=America/Chicago:20231231T000000
DTSTAMP:20260421T180748
CREATED:20240401T182800Z
LAST-MODIFIED:20240401T182800Z
UID:10001137-1700265600-1703980800@vanburen.org
SUMMARY:Van Buren's Christmas at the Parks
DESCRIPTION:More information to come!
URL:https://vanburen.org/event/van-burens-christmas-at-the-parks-4/
LOCATION:AR
END:VEVENT
BEGIN:VEVENT
DTSTART;TZID=America/Chicago:20231216T110000
DTEND;TZID=America/Chicago:20231216T220000
DTSTAMP:20260421T180748
CREATED:20240401T182833Z
LAST-MODIFIED:20240401T182833Z
UID:10001145-1702724400-1702764000@vanburen.org
SUMMARY:Van Buren's Christmas Ice Skating Rink Sponsored by Generations Bank
DESCRIPTION:
URL:https://vanburen.org/event/van-burens-christmas-ice-skating-rink-sponsored-by-generations-bank-12/
LOCATION:AR
END:VEVENT
BEGIN:VEVENT
DTSTART;TZID=America/Chicago:20231216T140000
DTEND;TZID=America/Chicago:20231216T140000
DTSTAMP:20260421T180748
CREATED:20240401T183034Z
LAST-MODIFIED:20240401T183034Z
UID:10001157-1702735200-1702735200@vanburen.org
SUMMARY:A Christmas Story the Musical presented by CSA @ the KOH
DESCRIPTION:This musical\, which received rave reviews on its Broadway run\, is based on the movie classic that runs round-the-clock on television every Christmas. Set in the 1940s in the fictional town of Hohman\, Indiana\, the musical follows 9-year-old Ralphie Parker and his quest for the Holy Grail of Christmas gifts—an Official Red Ryder carbine-action 200-shot Range Model air rifle. Rebuffed at every turn with a similar echoing response\, Ralphie plots numerous schemes to achieve his desperate desire for the coveted BB gun. All the iconic scenes from the movie are here: Ralphie’s friend\, Flick\, getting his tongue stuck to the flagpole; his brother\, Randy\, getting dressed in his snowsuit; the bullies\, Farkus and Dill; the leg lamp award; the bunny suit; Christmas dinner; and many others. The delightfully versatile score ranges from gentle ballads to show-stopping full-ensemble numbers such as “Ralphie to the Rescue!”\, “A Major Award\,” “Sticky Situation\,” “Up on Santa’s Lap\,” “Somewhere Hovering Over Indiana” and the inevitable “You’ll Shoot Your Eye Out!” A Christmas Story\, The Musical will bring an exciting new dimension to those who have seen the movie and will certainly stand on its own for those who haven’t.
URL:https://vanburen.org/event/a-christmas-story-the-musical-presented-by-csa-the-koh-3/
LOCATION:AR
END:VEVENT
BEGIN:VEVENT
DTSTART;TZID=America/Chicago:20231216T190000
DTEND;TZID=America/Chicago:20231216T190000
DTSTAMP:20260421T180748
CREATED:20240401T183034Z
LAST-MODIFIED:20240401T183034Z
UID:10001158-1702753200-1702753200@vanburen.org
SUMMARY:A Christmas Story the Musical presented by CSA @ the KOH
DESCRIPTION:This musical\, which received rave reviews on its Broadway run\, is based on the movie classic that runs round-the-clock on television every Christmas. Set in the 1940s in the fictional town of Hohman\, Indiana\, the musical follows 9-year-old Ralphie Parker and his quest for the Holy Grail of Christmas gifts—an Official Red Ryder carbine-action 200-shot Range Model air rifle. Rebuffed at every turn with a similar echoing response\, Ralphie plots numerous schemes to achieve his desperate desire for the coveted BB gun. All the iconic scenes from the movie are here: Ralphie’s friend\, Flick\, getting his tongue stuck to the flagpole; his brother\, Randy\, getting dressed in his snowsuit; the bullies\, Farkus and Dill; the leg lamp award; the bunny suit; Christmas dinner; and many others. The delightfully versatile score ranges from gentle ballads to show-stopping full-ensemble numbers such as “Ralphie to the Rescue!”\, “A Major Award\,” “Sticky Situation\,” “Up on Santa’s Lap\,” “Somewhere Hovering Over Indiana” and the inevitable “You’ll Shoot Your Eye Out!” A Christmas Story\, The Musical will bring an exciting new dimension to those who have seen the movie and will certainly stand on its own for those who haven’t.
URL:https://vanburen.org/event/a-christmas-story-the-musical-presented-by-csa-the-koh-4/
LOCATION:AR
END:VEVENT
END:VCALENDAR