BEGIN:VCALENDAR
VERSION:2.0
PRODID:-//Van Buren Advertising &amp; Promotions Commission - ECPv6.15.20//NONSGML v1.0//EN
CALSCALE:GREGORIAN
METHOD:PUBLISH
X-ORIGINAL-URL:https://vanburen.org
X-WR-CALDESC:Events for Van Buren Advertising &amp; Promotions Commission
REFRESH-INTERVAL;VALUE=DURATION:PT1H
X-Robots-Tag:noindex
X-PUBLISHED-TTL:PT1H
BEGIN:VTIMEZONE
TZID:America/Chicago
BEGIN:DAYLIGHT
TZOFFSETFROM:-0600
TZOFFSETTO:-0500
TZNAME:CDT
DTSTART:20230312T080000
END:DAYLIGHT
BEGIN:STANDARD
TZOFFSETFROM:-0500
TZOFFSETTO:-0600
TZNAME:CST
DTSTART:20231105T070000
END:STANDARD
BEGIN:DAYLIGHT
TZOFFSETFROM:-0600
TZOFFSETTO:-0500
TZNAME:CDT
DTSTART:20240310T080000
END:DAYLIGHT
BEGIN:STANDARD
TZOFFSETFROM:-0500
TZOFFSETTO:-0600
TZNAME:CST
DTSTART:20241103T070000
END:STANDARD
BEGIN:DAYLIGHT
TZOFFSETFROM:-0600
TZOFFSETTO:-0500
TZNAME:CDT
DTSTART:20250309T080000
END:DAYLIGHT
BEGIN:STANDARD
TZOFFSETFROM:-0500
TZOFFSETTO:-0600
TZNAME:CST
DTSTART:20251102T070000
END:STANDARD
END:VTIMEZONE
BEGIN:VEVENT
DTSTART;TZID=America/Chicago:20240125T190000
DTEND;TZID=America/Chicago:20240125T190000
DTSTAMP:20260421T181613
CREATED:20240401T183234Z
LAST-MODIFIED:20240401T183234Z
UID:10001164-1706209200-1706209200@vanburen.org
SUMMARY:Twitty and Lynn – A Salute to Conway and Loretta     at KOH
DESCRIPTION:There’s a moment right at the very beginning of any Twitty & Lynn show that affords country music fans the chance to look back in time. Just after the band has played the signature intro to “Louisiana Woman\, Mississippi Man\,” Tre Twitty and Tayla Lynn shoot each other a glance that summons the electrifying chemistry of their grandparents: Tre is the grandson of Conway Twitty\, Tayla is the granddaughter of Loretta Lynn.\nAudiences can’t believe their eyes. From that moment\, for the next 90 minutes\, they’re in the presence of living country music history. \n“Fans have told Tayla and me that when they see us onstage singing\, talking\, and just looking at each other\, they think\, ‘Wow\, there must be something genetic in those two families\,’” Tre says. “It validates the experience of the concert for them. We’re telling our grandparents’ story through our story.”
URL:https://vanburen.org/event/twitty-and-lynn-a-salute-to-conway-and-loretta-at-koh-2/
LOCATION:AR
END:VEVENT
END:VCALENDAR