BEGIN:VCALENDAR
VERSION:2.0
PRODID:-//Van Buren Advertising &amp; Promotions Commission - ECPv6.15.20//NONSGML v1.0//EN
CALSCALE:GREGORIAN
METHOD:PUBLISH
X-ORIGINAL-URL:https://vanburen.org
X-WR-CALDESC:Events for Van Buren Advertising &amp; Promotions Commission
REFRESH-INTERVAL;VALUE=DURATION:PT1H
X-Robots-Tag:noindex
X-PUBLISHED-TTL:PT1H
BEGIN:VTIMEZONE
TZID:America/Chicago
BEGIN:DAYLIGHT
TZOFFSETFROM:-0600
TZOFFSETTO:-0500
TZNAME:CDT
DTSTART:20230312T080000
END:DAYLIGHT
BEGIN:STANDARD
TZOFFSETFROM:-0500
TZOFFSETTO:-0600
TZNAME:CST
DTSTART:20231105T070000
END:STANDARD
BEGIN:DAYLIGHT
TZOFFSETFROM:-0600
TZOFFSETTO:-0500
TZNAME:CDT
DTSTART:20240310T080000
END:DAYLIGHT
BEGIN:STANDARD
TZOFFSETFROM:-0500
TZOFFSETTO:-0600
TZNAME:CST
DTSTART:20241103T070000
END:STANDARD
BEGIN:DAYLIGHT
TZOFFSETFROM:-0600
TZOFFSETTO:-0500
TZNAME:CDT
DTSTART:20250309T080000
END:DAYLIGHT
BEGIN:STANDARD
TZOFFSETFROM:-0500
TZOFFSETTO:-0600
TZNAME:CST
DTSTART:20251102T070000
END:STANDARD
END:VTIMEZONE
BEGIN:VEVENT
DTSTART;TZID=America/Chicago:20240202T190000
DTEND;TZID=America/Chicago:20240202T190000
DTSTAMP:20260421T150700
CREATED:20240401T183235Z
LAST-MODIFIED:20240401T183235Z
UID:10001165-1706900400-1706900400@vanburen.org
SUMMARY:Chad Prather Comedy Tour      At KOH
DESCRIPTION:Most of us are born into this world kicking and screaming\, but Chad Prather most certainly came out laughing. The comedian\, musician and armchair philosopher is an unapologetic champion for anyone looking for a reason to smile. Prather’s God-given gift to entertain and inspire has made him a household name\, and he’s grown accustomed to captivating millions of viewers on any given day.\nChad Prather grew up in Augusta\, GA and learned to find joy and amusement in even the most unremarkable moments that life has to offer. “For me\,” Prather admits\, “comedy really isn’t all that complex. More often than not\, nothing makes me laugh harder than when common sense sneaks up and wins the day.” \nPerhaps the most compelling quality Chad Prather possesses is his refusal to compromise the things he’s most passionate about. From acting and comedy to music and motivational speaking\, there doesn’t seem to be a field in entertainment that Prather can’t conquer. \nChad Prather has made numerous appearances on Fox News\, CNN\, A&E\, The Blaze\, and more\, and his talents have been praised by the likes of Southern Living\, People\, Nash Country Weekly and Newsweek. \nIn addition to hosting Blaze TV’s “The Chad Prather Show” and contributing weekly to various networks\, Prather has celebrated his top-charting album “Y’All Shut Up” and his latest book “Am I Crazy: An Unapologetic Patriot Takes on the Insanity of Today’s Woke World.” He has had numerous international comedy tours and incorporates music into each show\, often with his band Chad Prather and The Ragamuffins.
URL:https://vanburen.org/event/chad-prather-comedy-tour-at-koh-2/
LOCATION:AR
END:VEVENT
BEGIN:VEVENT
DTSTART;TZID=America/Chicago:20240202T190000
DTEND;TZID=America/Chicago:20240202T190000
DTSTAMP:20260421T150700
CREATED:20240401T183435Z
LAST-MODIFIED:20240401T183435Z
UID:10001174-1706900400-1706900400@vanburen.org
SUMMARY:Sherlock the Musical... presented by The Young Actors Guild @ The Van Buren Fine Arts Center
DESCRIPTION:Are you watching close enough?Sherlock Holmes\, London’s greatest Victorian-era detective\, and his loyal friend and companion\, Dr. John Watson\, are faced with their most dire case yet.\nWhen a high-ranking government official disappears\, Sherlock will race against time to solve the mystery and uncover a more sinister plot than the sleuth and his companion ever could have imagined. The game is on! \nMusic & Lyrics by Denning Burton \nBook by Denning Burton and Stefan van de Graaff \nDirected by Missy Gipson \nMusic Directed by Gini Law \nMusic\, Book & Story: Steve Martin <https://www.theatricalrights.com/author/steve-martin/> \nMusic\, Lyrics & Story: Edie Brickell <https://www.theatricalrights.com/author/edie-brickell/>
URL:https://vanburen.org/event/sherlock-the-musical-presented-by-the-young-actors-guild-the-van-buren-fine-arts-center-4/
LOCATION:AR
END:VEVENT
END:VCALENDAR