BEGIN:VCALENDAR
VERSION:2.0
PRODID:-//Van Buren Advertising &amp; Promotions Commission - ECPv6.15.20//NONSGML v1.0//EN
CALSCALE:GREGORIAN
METHOD:PUBLISH
X-ORIGINAL-URL:https://vanburen.org
X-WR-CALDESC:Events for Van Buren Advertising &amp; Promotions Commission
REFRESH-INTERVAL;VALUE=DURATION:PT1H
X-Robots-Tag:noindex
X-PUBLISHED-TTL:PT1H
BEGIN:VTIMEZONE
TZID:America/Chicago
BEGIN:DAYLIGHT
TZOFFSETFROM:-0600
TZOFFSETTO:-0500
TZNAME:CDT
DTSTART:20230312T080000
END:DAYLIGHT
BEGIN:STANDARD
TZOFFSETFROM:-0500
TZOFFSETTO:-0600
TZNAME:CST
DTSTART:20231105T070000
END:STANDARD
BEGIN:DAYLIGHT
TZOFFSETFROM:-0600
TZOFFSETTO:-0500
TZNAME:CDT
DTSTART:20240310T080000
END:DAYLIGHT
BEGIN:STANDARD
TZOFFSETFROM:-0500
TZOFFSETTO:-0600
TZNAME:CST
DTSTART:20241103T070000
END:STANDARD
BEGIN:DAYLIGHT
TZOFFSETFROM:-0600
TZOFFSETTO:-0500
TZNAME:CDT
DTSTART:20250309T080000
END:DAYLIGHT
BEGIN:STANDARD
TZOFFSETFROM:-0500
TZOFFSETTO:-0600
TZNAME:CST
DTSTART:20251102T070000
END:STANDARD
END:VTIMEZONE
BEGIN:VEVENT
DTSTART;TZID=America/Chicago:20240203T140000
DTEND;TZID=America/Chicago:20240203T140000
DTSTAMP:20260421T144203
CREATED:20240401T183436Z
LAST-MODIFIED:20240401T183436Z
UID:10001175-1706968800-1706968800@vanburen.org
SUMMARY:Sherlock the Musical... presented by The Young Actors Guild @ The Van Buren Fine Arts Center
DESCRIPTION:Are you watching close enough?Sherlock Holmes\, London’s greatest Victorian-era detective\, and his loyal friend and companion\, Dr. John Watson\, are faced with their most dire case yet.\nWhen a high-ranking government official disappears\, Sherlock will race against time to solve the mystery and uncover a more sinister plot than the sleuth and his companion ever could have imagined. The game is on! \nMusic & Lyrics by Denning Burton \nBook by Denning Burton and Stefan van de Graaff \nDirected by Missy Gipson \nMusic Directed by Gini Law \nMusic\, Book & Story: Steve Martin <https://www.theatricalrights.com/author/steve-martin/> \nMusic\, Lyrics & Story: Edie Brickell <https://www.theatricalrights.com/author/edie-brickell/>
URL:https://vanburen.org/event/sherlock-the-musical-presented-by-the-young-actors-guild-the-van-buren-fine-arts-center-5/
LOCATION:AR
END:VEVENT
BEGIN:VEVENT
DTSTART;TZID=America/Chicago:20240203T190000
DTEND;TZID=America/Chicago:20240203T190000
DTSTAMP:20260421T144203
CREATED:20240401T183235Z
LAST-MODIFIED:20240401T183235Z
UID:10001166-1706986800-1706986800@vanburen.org
SUMMARY:The Larry B Soul Experience!     @ KOH
DESCRIPTION:Larry B (aka Larry Bedell)\, assembled the most sought after show\, “Larry B’s Soul Experience”! This band leaves a lasting memory of a performance you will want to see again and again! Performing a range of hits from the 70’s\,80’s\, 90’s and more!\nThis high energy band is sure to keep you moving\, or just reminiscing awesome music from the past & present! Larry B has captured an array of memorable music with this soul experience. You will groove to music from the Bee Gees\, Chic\, James Brown\, Lynn Collins\, KC & the Sunshine Band\, Bruno Mars\, Montel Jordan\, Prince\, Beyonce and more!! Get ready to be amazed! If you attended the first “Larry B Soul Experience”  concert at the King Opera House\, get ready for an encore with more music and more showmanship!
URL:https://vanburen.org/event/the-larry-b-soul-experience-koh-2/
LOCATION:AR
END:VEVENT
BEGIN:VEVENT
DTSTART;TZID=America/Chicago:20240203T190000
DTEND;TZID=America/Chicago:20240203T190000
DTSTAMP:20260421T144203
CREATED:20240401T183436Z
LAST-MODIFIED:20240401T183436Z
UID:10001176-1706986800-1706986800@vanburen.org
SUMMARY:Sherlock the Musical... presented by The Young Actors Guild @ The Van Buren Fine Arts Center
DESCRIPTION:Are you watching close enough?Sherlock Holmes\, London’s greatest Victorian-era detective\, and his loyal friend and companion\, Dr. John Watson\, are faced with their most dire case yet.\nWhen a high-ranking government official disappears\, Sherlock will race against time to solve the mystery and uncover a more sinister plot than the sleuth and his companion ever could have imagined. The game is on! \nMusic & Lyrics by Denning Burton \nBook by Denning Burton and Stefan van de Graaff \nDirected by Missy Gipson \nMusic Directed by Gini Law \nMusic\, Book & Story: Steve Martin <https://www.theatricalrights.com/author/steve-martin/> \nMusic\, Lyrics & Story: Edie Brickell <https://www.theatricalrights.com/author/edie-brickell/>
URL:https://vanburen.org/event/sherlock-the-musical-presented-by-the-young-actors-guild-the-van-buren-fine-arts-center-6/
LOCATION:AR
END:VEVENT
END:VCALENDAR