BEGIN:VCALENDAR
VERSION:2.0
PRODID:-//Van Buren Advertising &amp; Promotions Commission - ECPv6.15.20//NONSGML v1.0//EN
CALSCALE:GREGORIAN
METHOD:PUBLISH
X-ORIGINAL-URL:https://vanburen.org
X-WR-CALDESC:Events for Van Buren Advertising &amp; Promotions Commission
REFRESH-INTERVAL;VALUE=DURATION:PT1H
X-Robots-Tag:noindex
X-PUBLISHED-TTL:PT1H
BEGIN:VTIMEZONE
TZID:UTC
BEGIN:STANDARD
TZOFFSETFROM:+0000
TZOFFSETTO:+0000
TZNAME:UTC
DTSTART:20230101T000000
END:STANDARD
END:VTIMEZONE
BEGIN:VEVENT
DTSTART;TZID=UTC:20240406T190000
DTEND;TZID=UTC:20240406T210000
DTSTAMP:20260421T125959
CREATED:20240326T152835Z
LAST-MODIFIED:20240327T170022Z
UID:10000354-1712430000-1712437200@vanburen.org
SUMMARY:The World Famous Glenn Miller Orchestra      @ KOH
DESCRIPTION:The most popular and sought after big band in the world today for both concert and swing dance engagements. With its unique jazz sound\, the Glenn Miller Orchestra is considered to be one of the greatest bands of all time. The present Glenn Miller Orchestra was formed in 1956 and has been touring worldwide ever since.
URL:https://vanburen.org/event/the-world-famous-glenn-miller-orchestra-koh/
LOCATION:King Opera House\, 427 Main Street\, Van Buren\, AR\, 72956\, United States
END:VEVENT
END:VCALENDAR