BEGIN:VCALENDAR
VERSION:2.0
PRODID:-//Van Buren Advertising &amp; Promotions Commission - ECPv6.15.20//NONSGML v1.0//EN
CALSCALE:GREGORIAN
METHOD:PUBLISH
X-ORIGINAL-URL:https://vanburen.org
X-WR-CALDESC:Events for Van Buren Advertising &amp; Promotions Commission
REFRESH-INTERVAL;VALUE=DURATION:PT1H
X-Robots-Tag:noindex
X-PUBLISHED-TTL:PT1H
BEGIN:VTIMEZONE
TZID:UTC
BEGIN:STANDARD
TZOFFSETFROM:+0000
TZOFFSETTO:+0000
TZNAME:UTC
DTSTART:20230101T000000
END:STANDARD
END:VTIMEZONE
BEGIN:VEVENT
DTSTART;TZID=UTC:20240420T100000
DTEND;TZID=UTC:20240420T180000
DTSTAMP:20260421T125956
CREATED:20240326T153612Z
LAST-MODIFIED:20240326T213159Z
UID:10000383-1713607200-1713636000@vanburen.org
SUMMARY:2024 EARTH DAY FESTIVAL
DESCRIPTION:4th Annual Earth Day Festival! Join us for a day of family fun!!
URL:https://vanburen.org/event/2024-earth-day-festival/
LOCATION:Main Street Historic District\, 700-400 Main Street\, Van Buren\, AR\, 72956\, United States
ORGANIZER;CN="Keep Van Buren Beautiful":MAILTO:keepvbb@gmail.com
END:VEVENT
END:VCALENDAR