BEGIN:VCALENDAR
VERSION:2.0
PRODID:-//Van Buren Advertising &amp; Promotions Commission - ECPv6.15.20//NONSGML v1.0//EN
CALSCALE:GREGORIAN
METHOD:PUBLISH
X-ORIGINAL-URL:https://vanburen.org
X-WR-CALDESC:Events for Van Buren Advertising &amp; Promotions Commission
REFRESH-INTERVAL;VALUE=DURATION:PT1H
X-Robots-Tag:noindex
X-PUBLISHED-TTL:PT1H
BEGIN:VTIMEZONE
TZID:UTC
BEGIN:STANDARD
TZOFFSETFROM:+0000
TZOFFSETTO:+0000
TZNAME:UTC
DTSTART:20230101T000000
END:STANDARD
END:VTIMEZONE
BEGIN:VEVENT
DTSTART;TZID=UTC:20240530T110000
DTEND;TZID=UTC:20240530T180000
DTSTAMP:20260420T084323
CREATED:20240604T211043Z
LAST-MODIFIED:20240604T211135Z
UID:10001677-1717066800-1717092000@vanburen.org
SUMMARY:Shabana Kauser - Dupattas & Roses @ AOM
DESCRIPTION:Shabana Kauser creates contemporary realistic oil paintings and mixed media that are influenced by her shared experiences as the daughter of Pakistani immigrants\, and as an immigrant to the United States. In this exhibition titled “Dupattas & Roses”\, her paintings of South Asian women explore memories of cultural\, social\, and economic transition. The traditional ‘Dupatta’ (scarf) can be seen throughout her work. \nVictoria & Ken Kilgore Gallery
URL:https://vanburen.org/event/shabana-kauser-dupattas-roses-aom/2024-05-30/
LOCATION:ARTS ON MAIN\, 415 Main Street\, Van Buren\, AR\, 72956\, United States
ORGANIZER;CN="ARTS ON MAIN":MAILTO:Info@artsonmainvb.com
END:VEVENT
BEGIN:VEVENT
DTSTART;TZID=UTC:20240530T110000
DTEND;TZID=UTC:20240530T180000
DTSTAMP:20260420T084323
CREATED:20240604T211545Z
LAST-MODIFIED:20240604T211545Z
UID:10002079-1717066800-1717092000@vanburen.org
SUMMARY:Margo Duvall - The Tie That Binds @ AOM
DESCRIPTION:Margo Duvall’s artwork investigates photography’s role in the development of memory and identity through film\, mixed media and installation based pieces. “The idea for this piece came to me a year ago. One of the strongest women I know found herself in a situation beyond her control. She felt like her world was crumbling and there was little to grab hold to. I wanted to make her a net…a network of strong\, amazing women to catch her\, to reassure her\, and to lift her back to where she needed to be. Through this process of making this piece and watching this strong\, amazing woman regain her personal power\, I have never been more sure…the women are certainly stronger.” \nChloe & Joe Kirksey Gallery \nBIO \nMargo Duvall is an artist and educator currently living in Little Rock\, AR. She earned her MFA in Photography from San Jose State University (2009) and her BA in Studio Art from Humboldt State University (2006). She currently teaches at the University of the Ozarks in Clarksville\, AR. \nDuvall’s artwork investigates photography’s role in the development of memory and identity through film\, mixed media and installation-based pieces. She has received recognition as an artist with numerous solo and group exhibitions including the Arkansas Museum of Fine Arts annual Delta Exhibition\, Arkansas Arts Council’s Small Works on Paper\, Ft. Smith’s Regional Art Museum\, and many more. \nMargo Duvall: https://www.margoduvall.com/
URL:https://vanburen.org/event/margo-duvall-the-tie-that-binds-aom/2024-05-30/
LOCATION:ARTS ON MAIN\, 415 Main Street\, Van Buren\, AR\, 72956\, United States
ORGANIZER;CN="ARTS ON MAIN":MAILTO:Info@artsonmainvb.com
END:VEVENT
BEGIN:VEVENT
DTSTART;TZID=UTC:20240530T110000
DTEND;TZID=UTC:20240530T180000
DTSTAMP:20260420T084323
CREATED:20240604T211821Z
LAST-MODIFIED:20240604T212330Z
UID:10002116-1717066800-1717092000@vanburen.org
SUMMARY:Small Works on Paper @ AOM
DESCRIPTION:Small Works on Paper is a curated exhibition featuring 2D artwork no larger than 18 x 24 inches created by Arkansas artists who are members of the Arkansas Artist Registry. The Small Works on Paper exhibition travels to up to 10 venues throughout the state in a yearlong show and offers Arkansas artists an extraordinary opportunity to showcase their artwork to patrons all over the state. Arts On Main is proud to be able to exhibit the works selected for the 2023 SWOP exhibition tour. \nBeth & Gordon Watson Gallery
URL:https://vanburen.org/event/small-works-on-paper/2024-05-30/
LOCATION:ARTS ON MAIN\, 415 Main Street\, Van Buren\, AR\, 72956\, United States
ORGANIZER;CN="ARTS ON MAIN":MAILTO:Info@artsonmainvb.com
END:VEVENT
BEGIN:VEVENT
DTSTART;TZID=UTC:20240530T190000
DTEND;TZID=UTC:20240530T190000
DTSTAMP:20260420T084323
CREATED:20240516T193651Z
LAST-MODIFIED:20240516T193651Z
UID:10001286-1717095600-1717095600@vanburen.org
SUMMARY:The Neverending Story (Atreyu and the Great Quest). A Young Actors Guild Production
DESCRIPTION:Told with all the thrills of a classic adventure\, the story begins with Bastian\, a lonely boy\, who stumbles into a curious bookshop where he discovers a curious book—The Neverending Story. Bastian hides in the attic of his school and begins to read\, and a huge adventure surges into life. Fantastica\, a land of stories\, is being destroyed by the Nothing. The Childlike Empress has chosen Atreyu\, a young hunter\, to be the Hero of the Great Quest. Atreyu\, an orphan\, is an unlikely choice\, but he accepts and\, with his horse and companion\, Artax\, rides to face the menace. First\, he experiences the Nothing and discovers its thoughtless destruction. Then he is guided by a dream to the Swamps of Sadness where he meets Morla\, the Ancient One\, who reveals another solution. He must find the Childlike Empress a new name. With this new direction\, Atreyu faces Ygramul the Many\, befriends Falkor the Luck Dragon\, and solves the riddles of the three magic gates to meet Uyulala. From her he learns that only a human child can give the Empress a new name. In despair he faces his final test—the werewolf Gmork—and returns to the Childlike Empress without a new name. However\, his quest has attracted a human child. It is Bastian himself who calls out a new name for the Empress\, and the story rushes to its triumphant and moving conclusion. \nProduced by special arrangement with THE DRAMATIC PUBLISHING COMPANY of Woodstock\, Illinois
URL:https://vanburen.org/event/the-neverending-story-atreyu-and-the-great-quest-a-young-actors-guild-production/2024-05-30/
LOCATION:King Opera House\, 427 Main Street\, Van Buren\, AR\, 72956\, United States
END:VEVENT
END:VCALENDAR