BEGIN:VCALENDAR
VERSION:2.0
PRODID:-//Van Buren Advertising &amp; Promotions Commission - ECPv6.15.20//NONSGML v1.0//EN
CALSCALE:GREGORIAN
METHOD:PUBLISH
X-ORIGINAL-URL:https://vanburen.org
X-WR-CALDESC:Events for Van Buren Advertising &amp; Promotions Commission
REFRESH-INTERVAL;VALUE=DURATION:PT1H
X-Robots-Tag:noindex
X-PUBLISHED-TTL:PT1H
BEGIN:VTIMEZONE
TZID:UTC
BEGIN:STANDARD
TZOFFSETFROM:+0000
TZOFFSETTO:+0000
TZNAME:UTC
DTSTART:20230101T000000
END:STANDARD
END:VTIMEZONE
BEGIN:VEVENT
DTSTART;TZID=UTC:20240902T180000
DTEND;TZID=UTC:20240902T180000
DTSTAMP:20260424T110412
CREATED:20240726T155440Z
LAST-MODIFIED:20240726T155440Z
UID:10002275-1725300000-1725300000@vanburen.org
SUMMARY:$5 Movies at the Opera House: Airplane!
DESCRIPTION:A traumatized ex-flier boards a plane hoping to win back his flight attendant girlfriend. Meanwhile\, the pilots get food poisoning\, and someone has to land the jet.
URL:https://vanburen.org/event/5-movies-at-the-opera-house-airplane/
LOCATION:King Opera House\, 427 Main Street\, Van Buren\, AR\, 72956\, United States
END:VEVENT
END:VCALENDAR