BEGIN:VCALENDAR
VERSION:2.0
PRODID:-//Van Buren Advertising &amp; Promotions Commission - ECPv6.15.20//NONSGML v1.0//EN
CALSCALE:GREGORIAN
METHOD:PUBLISH
X-ORIGINAL-URL:https://vanburen.org
X-WR-CALDESC:Events for Van Buren Advertising &amp; Promotions Commission
REFRESH-INTERVAL;VALUE=DURATION:PT1H
X-Robots-Tag:noindex
X-PUBLISHED-TTL:PT1H
BEGIN:VTIMEZONE
TZID:UTC
BEGIN:STANDARD
TZOFFSETFROM:+0000
TZOFFSETTO:+0000
TZNAME:UTC
DTSTART:20240101T000000
END:STANDARD
END:VTIMEZONE
BEGIN:VEVENT
DTSTART;TZID=UTC:20250517T070000
DTEND;TZID=UTC:20250517T150000
DTSTAMP:20260420T224633
CREATED:20250303T185530Z
LAST-MODIFIED:20250303T185530Z
UID:10002402-1747465200-1747494000@vanburen.org
SUMMARY:River Valley Jeep Jam in Historic Downtown Van Buren
DESCRIPTION:
URL:https://vanburen.org/event/river-valley-jeep-jam-in-historic-downtown-van-buren/
LOCATION:Main Street Historic District\, 700-400 Main Street\, Van Buren\, AR\, 72956\, United States
END:VEVENT
BEGIN:VEVENT
DTSTART;TZID=UTC:20250517T110000
DTEND;TZID=UTC:20250517T140000
DTSTAMP:20260420T224633
CREATED:20250304T174049Z
LAST-MODIFIED:20250304T174049Z
UID:10002413-1747479600-1747490400@vanburen.org
SUMMARY:Ride the Train Van Buren to Winslow
DESCRIPTION:This three-hour\, 70 mile round trip excursion takes you through the ruggedly beautiful Boston Mountain range of the Ozarks\, over three valley trestles and through the 1700-foot long Winslow tunnel for some of the most breathtaking scenery you are likely to see in ‘The Natural State’. \n \nDeparts Van Buren 11:00am  \n– Boston Mountains\, Trestles\, Tunnel \n– Three hour round trip
URL:https://vanburen.org/event/ride-the-train-van-buren-to-winslow-112/2025-05-17/
LOCATION:Old Frisco Depot\, 813 Main Street\, Van Buren\, AR\, 72956\, United States
END:VEVENT
BEGIN:VEVENT
DTSTART;TZID=UTC:20250517T140000
DTEND;TZID=UTC:20250517T140000
DTSTAMP:20260420T224633
CREATED:20250312T165259Z
LAST-MODIFIED:20250312T165259Z
UID:10002428-1747490400-1747490400@vanburen.org
SUMMARY:The Spongebob Musical presented by CSA @ KOH
DESCRIPTION:
URL:https://vanburen.org/event/the-spongebob-musical-presented-by-csa-koh/2025-05-17/1/
LOCATION:King Opera House\, 427 Main Street\, Van Buren\, AR\, 72956\, United States
END:VEVENT
BEGIN:VEVENT
DTSTART;TZID=UTC:20250517T190000
DTEND;TZID=UTC:20250517T190000
DTSTAMP:20260420T224633
CREATED:20250312T165259Z
LAST-MODIFIED:20250312T165259Z
UID:10002429-1747508400-1747508400@vanburen.org
SUMMARY:The Spongebob Musical presented by CSA @ KOH
DESCRIPTION:
URL:https://vanburen.org/event/the-spongebob-musical-presented-by-csa-koh/2025-05-17/2/
LOCATION:King Opera House\, 427 Main Street\, Van Buren\, AR\, 72956\, United States
END:VEVENT
END:VCALENDAR