BEGIN:VCALENDAR
VERSION:2.0
PRODID:-//Van Buren Advertising &amp; Promotions Commission - ECPv6.15.20//NONSGML v1.0//EN
CALSCALE:GREGORIAN
METHOD:PUBLISH
X-ORIGINAL-URL:https://vanburen.org
X-WR-CALDESC:Events for Van Buren Advertising &amp; Promotions Commission
REFRESH-INTERVAL;VALUE=DURATION:PT1H
X-Robots-Tag:noindex
X-PUBLISHED-TTL:PT1H
BEGIN:VTIMEZONE
TZID:UTC
BEGIN:STANDARD
TZOFFSETFROM:+0000
TZOFFSETTO:+0000
TZNAME:UTC
DTSTART:20240101T000000
END:STANDARD
END:VTIMEZONE
BEGIN:VEVENT
DTSTART;TZID=UTC:20250617T090000
DTEND;TZID=UTC:20250617T130000
DTSTAMP:20260420T205320
CREATED:20250611T152639Z
LAST-MODIFIED:20250611T152639Z
UID:10002634-1750150800-1750165200@vanburen.org
SUMMARY:Touch a Truck Presented by United Way of Fort Smith Area
DESCRIPTION:
URL:https://vanburen.org/event/touch-a-truck-presented-by-united-way-of-fort-smith-area-3/
LOCATION:Van Buren High School\, 2001 E. Pointer Trail\, Van Buren\, AR\, 72956\, United States
ORGANIZER;CN="United Way of Fort Smith Area":MAILTO:CTerry@unitedwayfortsmith.org
END:VEVENT
END:VCALENDAR