BEGIN:VCALENDAR
VERSION:2.0
PRODID:-//Van Buren Advertising &amp; Promotions Commission - ECPv6.15.20//NONSGML v1.0//EN
CALSCALE:GREGORIAN
METHOD:PUBLISH
X-ORIGINAL-URL:https://vanburen.org
X-WR-CALDESC:Events for Van Buren Advertising &amp; Promotions Commission
REFRESH-INTERVAL;VALUE=DURATION:PT1H
X-Robots-Tag:noindex
X-PUBLISHED-TTL:PT1H
BEGIN:VTIMEZONE
TZID:UTC
BEGIN:STANDARD
TZOFFSETFROM:+0000
TZOFFSETTO:+0000
TZNAME:UTC
DTSTART:20240101T000000
END:STANDARD
END:VTIMEZONE
BEGIN:VEVENT
DTSTART;TZID=UTC:20250621T190000
DTEND;TZID=UTC:20250621T190000
DTSTAMP:20260420T205432
CREATED:20241108T192637Z
LAST-MODIFIED:20241108T192637Z
UID:10002327-1750532400-1750532400@vanburen.org
SUMMARY:Allen Hurt @ KOH
DESCRIPTION:Allen Hurt has been entertaining music fans since an early age and has written over 1500 original songs\, known for his unique tenor vocals that would become his trademark sound.    Over the years\, Allen’s music has been featured on radio and television stations throughout the U.S. and Europe. \nPerforming an exciting mix of Country and Americana music\, his career has crossed paths with many music legends like Ray Price\, who Allen toured with and shared the stage for many years along with other greats like Gene Watson\, Johnny Lee\, Chuck Berry\, Carl Perkins\, Tom Petty\, Three Dog Night and many more.
URL:https://vanburen.org/event/allen-hurt-koh/
LOCATION:King Opera House\, 427 Main Street\, Van Buren\, AR\, 72956\, United States
END:VEVENT
END:VCALENDAR