BEGIN:VCALENDAR
VERSION:2.0
PRODID:-//Van Buren Advertising &amp; Promotions Commission - ECPv6.15.20//NONSGML v1.0//EN
CALSCALE:GREGORIAN
METHOD:PUBLISH
X-ORIGINAL-URL:https://vanburen.org
X-WR-CALDESC:Events for Van Buren Advertising &amp; Promotions Commission
REFRESH-INTERVAL;VALUE=DURATION:PT1H
X-Robots-Tag:noindex
X-PUBLISHED-TTL:PT1H
BEGIN:VTIMEZONE
TZID:UTC
BEGIN:STANDARD
TZOFFSETFROM:+0000
TZOFFSETTO:+0000
TZNAME:UTC
DTSTART:20240101T000000
END:STANDARD
END:VTIMEZONE
BEGIN:VEVENT
DTSTART;TZID=UTC:20250712T100000
DTEND;TZID=UTC:20250712T180000
DTSTAMP:20260420T190419
CREATED:20250122T155619Z
LAST-MODIFIED:20250122T155619Z
UID:10002362-1752314400-1752343200@vanburen.org
SUMMARY:Christmas in July
DESCRIPTION:More information to come.
URL:https://vanburen.org/event/christmas-in-july-6/
LOCATION:Main Street Historic District\, 700-400 Main Street\, Van Buren\, AR\, 72956\, United States
ORGANIZER;CN="Old Town Merchants Association":MAILTO:oldtownvanburen@gmail.com
END:VEVENT
BEGIN:VEVENT
DTSTART;TZID=UTC:20250712T110000
DTEND;TZID=UTC:20250712T140000
DTSTAMP:20260420T190419
CREATED:20250331T191838Z
LAST-MODIFIED:20250331T191838Z
UID:10002439-1752318000-1752328800@vanburen.org
SUMMARY:Ride the Train Van Buren to Winslow
DESCRIPTION:This three-hour\, 70 mile round trip excursion takes you through the ruggedly beautiful Boston Mountain range of the Ozarks\, over one valley trestles and through the 1700-foot long Winslow tunnel for some of the most breathtaking scenery you are likely to see in ‘The Natural State’.\n-Boston Mountains\, Trestles\, Winslow tunnel \n\n\n\nWhat’s included\n\nTypes of Cars\nSilver Feather – #108 \n\nSpringdale to Winslow and Van Buren to Winslow passengers will select their meal when purchasing their ticket.\nAdditional soft drinks and snacks are available for purchase. Water\, coffee\, and hot tea are complimentary.\nGuests on the Springdale to Van Buren trip will ride in the Vista Dome one direction and downstairs the other.\nTicket sales for the Silver Feather car are cut off 48 hours prior to departure.\nPremium – #107 & #109\nSpringdale to Van Buren Passengers will receive morning and afternoon snacks.\nSpringdale to Winslow and Van Buren to Winslow passengers will select their meal when purchasing their ticket.\nAdditional soft drinks and snacks are available for purchase. Water\, coffee\, and hot tea are complimentary.\nTicket sales for premium cars are cut off 48 hours prior to departure.\nCoach – #105 & #106\nOur 1920’s vintage coach cars feature velvet bench seats that can flip to change the direction that you are facing.\nCoach tickets do not include food service\, but there is a coach upgrade that includes food available for purchase.\nAdditional drinks and snacks are available for purchase.
URL:https://vanburen.org/event/ride-the-train-van-buren-to-winslow-122/2025-07-12/
LOCATION:Old Frisco Depot\, 813 Main Street\, Van Buren\, AR\, 72956\, United States
END:VEVENT
BEGIN:VEVENT
DTSTART;TZID=UTC:20250712T140000
DTEND;TZID=UTC:20250712T140000
DTSTAMP:20260420T190419
CREATED:20250625T161238Z
LAST-MODIFIED:20250625T161238Z
UID:10002637-1752328800-1752328800@vanburen.org
SUMMARY:"The Wizard of Oz" @ The VB Fine Arts Center\, presented by: YAG
DESCRIPTION:Join us over the rainbow this summer with Dorothy\, Toto\, and a whole cast of colorful characters! \n\n\nExperience the timeless story of Dorothy\, the Scarecrow\, the Tin Man\, and the Cowardly Lion\, as they adventure into the enchanting land of Oz.\n\n\nHosted at the Van Buren Fine Arts Center in Van Buren\, Arkansas\, this production promises to be an unforgettable experience filled with heart\, courage\, and a little bit of magic. Don’t miss your chance to witness this enchanting performance!\n\n\nShowtimes:\nJuly 10 at 7:00 pm\nJuly 11 at 7:00 pm\nJuly 12 at 2:00 pm + 7:00 pm\nJuly 13 at 2:00 pm\n\n\nVenue:\nThe Van Buren Fine Arts Center\n2001 Pointer Trail\nVan Buren\, AR 72956\n\n\nDirected/Choreographed by: Missy Gipson\n\n\nMusic Directed/Conducted by: Gini Law\n\n\nTicket prices:\n$15.00 – Ages 17 and Under (General Admission)\n\n\n$20.00 – Ages 18 and Over (General Admission)\n\n\n$30.00 – General Admission with a $10.00 donation.\n\n\nDon’t miss this one! One weekend only!\n\n\nTickets: https://www.weareyag.com\n\n\n#weareyag
URL:https://vanburen.org/event/the-wizard-of-oz-the-vb-fine-arts-center-presented-by-yag/2025-07-12/1/
LOCATION:Van Buren Fine Arts Center\, 2001 East Pointer Trail\, Van Buren\, AR\, 72956\, United States
END:VEVENT
BEGIN:VEVENT
DTSTART;TZID=UTC:20250712T190000
DTEND;TZID=UTC:20250712T190000
DTSTAMP:20260420T190419
CREATED:20250625T161238Z
LAST-MODIFIED:20250625T161238Z
UID:10002638-1752346800-1752346800@vanburen.org
SUMMARY:"The Wizard of Oz" @ The VB Fine Arts Center\, presented by: YAG
DESCRIPTION:Join us over the rainbow this summer with Dorothy\, Toto\, and a whole cast of colorful characters! \n\n\nExperience the timeless story of Dorothy\, the Scarecrow\, the Tin Man\, and the Cowardly Lion\, as they adventure into the enchanting land of Oz.\n\n\nHosted at the Van Buren Fine Arts Center in Van Buren\, Arkansas\, this production promises to be an unforgettable experience filled with heart\, courage\, and a little bit of magic. Don’t miss your chance to witness this enchanting performance!\n\n\nShowtimes:\nJuly 10 at 7:00 pm\nJuly 11 at 7:00 pm\nJuly 12 at 2:00 pm + 7:00 pm\nJuly 13 at 2:00 pm\n\n\nVenue:\nThe Van Buren Fine Arts Center\n2001 Pointer Trail\nVan Buren\, AR 72956\n\n\nDirected/Choreographed by: Missy Gipson\n\n\nMusic Directed/Conducted by: Gini Law\n\n\nTicket prices:\n$15.00 – Ages 17 and Under (General Admission)\n\n\n$20.00 – Ages 18 and Over (General Admission)\n\n\n$30.00 – General Admission with a $10.00 donation.\n\n\nDon’t miss this one! One weekend only!\n\n\nTickets: https://www.weareyag.com\n\n\n#weareyag
URL:https://vanburen.org/event/the-wizard-of-oz-the-vb-fine-arts-center-presented-by-yag/2025-07-12/2/
LOCATION:Van Buren Fine Arts Center\, 2001 East Pointer Trail\, Van Buren\, AR\, 72956\, United States
END:VEVENT
END:VCALENDAR