BEGIN:VCALENDAR
VERSION:2.0
PRODID:-//Van Buren Advertising &amp; Promotions Commission - ECPv6.15.20//NONSGML v1.0//EN
CALSCALE:GREGORIAN
METHOD:PUBLISH
X-ORIGINAL-URL:https://vanburen.org
X-WR-CALDESC:Events for Van Buren Advertising &amp; Promotions Commission
REFRESH-INTERVAL;VALUE=DURATION:PT1H
X-Robots-Tag:noindex
X-PUBLISHED-TTL:PT1H
BEGIN:VTIMEZONE
TZID:UTC
BEGIN:STANDARD
TZOFFSETFROM:+0000
TZOFFSETTO:+0000
TZNAME:UTC
DTSTART:20240101T000000
END:STANDARD
END:VTIMEZONE
BEGIN:VEVENT
DTSTART;TZID=UTC:20250808T110000
DTEND;TZID=UTC:20250808T133000
DTSTAMP:20260420T171954
CREATED:20250729T180654Z
LAST-MODIFIED:20250729T180654Z
UID:10002644-1754650800-1754659800@vanburen.org
SUMMARY:Taste of Crawford County
DESCRIPTION:
URL:https://vanburen.org/event/taste-of-crawford-county-4/
LOCATION:Van Buren High School\, 2001 E. Pointer Trail\, Van Buren\, AR\, 72956\, United States
END:VEVENT
END:VCALENDAR