BEGIN:VCALENDAR
VERSION:2.0
PRODID:-//Van Buren Advertising &amp; Promotions Commission - ECPv6.15.20//NONSGML v1.0//EN
CALSCALE:GREGORIAN
METHOD:PUBLISH
X-ORIGINAL-URL:https://vanburen.org
X-WR-CALDESC:Events for Van Buren Advertising &amp; Promotions Commission
REFRESH-INTERVAL;VALUE=DURATION:PT1H
X-Robots-Tag:noindex
X-PUBLISHED-TTL:PT1H
BEGIN:VTIMEZONE
TZID:UTC
BEGIN:STANDARD
TZOFFSETFROM:+0000
TZOFFSETTO:+0000
TZNAME:UTC
DTSTART:20240101T000000
END:STANDARD
END:VTIMEZONE
BEGIN:VEVENT
DTSTART;TZID=UTC:20250809T100000
DTEND;TZID=UTC:20250809T180000
DTSTAMP:20260420T172037
CREATED:20250122T155741Z
LAST-MODIFIED:20250806T204329Z
UID:10002363-1754733600-1754762400@vanburen.org
SUMMARY:2nd Saturday Back to School Shopping
DESCRIPTION:Join us in Historic Downtown Van Buren\, during our Second Saturday Shopping! Enjoy a full day of shopping your local participating merchants on the 2nd Saturday of each month. \nSAMPLES\nGIVE-AWAYS\nSALES\nPHOTO OPPS\nAND MORE!
URL:https://vanburen.org/event/2nd-saturday-back-to-school-shopping/
LOCATION:Main Street Historic District\, 700-400 Main Street\, Van Buren\, AR\, 72956\, United States
ORGANIZER;CN="Old Town Merchants Association":MAILTO:oldtownvanburen@gmail.com
END:VEVENT
END:VCALENDAR