BEGIN:VCALENDAR
VERSION:2.0
PRODID:-//Van Buren Advertising &amp; Promotions Commission - ECPv6.15.20//NONSGML v1.0//EN
CALSCALE:GREGORIAN
METHOD:PUBLISH
X-ORIGINAL-URL:https://vanburen.org
X-WR-CALDESC:Events for Van Buren Advertising &amp; Promotions Commission
REFRESH-INTERVAL;VALUE=DURATION:PT1H
X-Robots-Tag:noindex
X-PUBLISHED-TTL:PT1H
BEGIN:VTIMEZONE
TZID:UTC
BEGIN:STANDARD
TZOFFSETFROM:+0000
TZOFFSETTO:+0000
TZNAME:UTC
DTSTART:20240101T000000
END:STANDARD
END:VTIMEZONE
BEGIN:VEVENT
DTSTART;TZID=UTC:20250927T110000
DTEND;TZID=UTC:20250927T140000
DTSTAMP:20260420T153412
CREATED:20250331T192913Z
LAST-MODIFIED:20250331T192913Z
UID:10002448-1758970800-1758981600@vanburen.org
SUMMARY:Ride the Train Van Buren to Winslow
DESCRIPTION:This three-hour\, 70 mile round trip excursion takes you through the ruggedly beautiful Boston Mountain range of the Ozarks\, over one valley trestles and through the 1700-foot long Winslow tunnel for some of the most breathtaking scenery you are likely to see in ‘The Natural State’.\n-Boston Mountains\, Trestles\, Winslow tunnel \n\n\n\nWhat’s included\n\nTypes of Cars\nSilver Feather – #108 \n\nSpringdale to Winslow and Van Buren to Winslow passengers will select their meal when purchasing their ticket.\nAdditional soft drinks and snacks are available for purchase. Water\, coffee\, and hot tea are complimentary.\nGuests on the Springdale to Van Buren trip will ride in the Vista Dome one direction and downstairs the other.\nTicket sales for the Silver Feather car are cut off 48 hours prior to departure.\nPremium – #107 & #109\nSpringdale to Van Buren Passengers will receive morning and afternoon snacks.\nSpringdale to Winslow and Van Buren to Winslow passengers will select their meal when purchasing their ticket.\nAdditional soft drinks and snacks are available for purchase. Water\, coffee\, and hot tea are complimentary.\nTicket sales for premium cars are cut off 48 hours prior to departure.\nCoach – #105 & #106\nOur 1920’s vintage coach cars feature velvet bench seats that can flip to change the direction that you are facing.\nCoach tickets do not include food service\, but there is a coach upgrade that includes food available for purchase.\nAdditional drinks and snacks are available for purchase.
URL:https://vanburen.org/event/ride-the-train-van-buren-to-winslow-124/2025-09-27/
LOCATION:Old Frisco Depot\, 813 Main Street\, Van Buren\, AR\, 72956\, United States
END:VEVENT
BEGIN:VEVENT
DTSTART;TZID=UTC:20250927T190000
DTEND;TZID=UTC:20250927T190000
DTSTAMP:20260420T153412
CREATED:20241108T194333Z
LAST-MODIFIED:20241108T194333Z
UID:10002333-1758999600-1758999600@vanburen.org
SUMMARY:Once          a Musical @ KOH
DESCRIPTION:From the very first note\, Once draws you in and never lets go. This emotionally captivating musical is the only show to have music that won an Academy Award\, a Grammy Award\, an Olivier Award and a Tony Award. \nOn the streets of Dublin\, an Irish musician and a Czech immigrant are drawn together by their shared love of music. Over the course of one fateful week\, an unexpected friendship and collaboration quickly evolves into a powerful but complicated love story\, underscored by emotionally charged music. \nFeaturing all of the magical songs from the critically acclaimed film\, including the Oscar-winning “Falling Slowly\,” this achingly beautiful\, joyously uplifting show strikes an unforgettable chord in audiences and speaks to the power of music to connect us all. A show like that only comes around Once.
URL:https://vanburen.org/event/once-a-musical-koh/2025-09-27/
LOCATION:King Opera House\, 427 Main Street\, Van Buren\, AR\, 72956\, United States
END:VEVENT
END:VCALENDAR