BEGIN:VCALENDAR
VERSION:2.0
PRODID:-//Van Buren Advertising &amp; Promotions Commission - ECPv6.15.20//NONSGML v1.0//EN
CALSCALE:GREGORIAN
METHOD:PUBLISH
X-ORIGINAL-URL:https://vanburen.org
X-WR-CALDESC:Events for Van Buren Advertising &amp; Promotions Commission
REFRESH-INTERVAL;VALUE=DURATION:PT1H
X-Robots-Tag:noindex
X-PUBLISHED-TTL:PT1H
BEGIN:VTIMEZONE
TZID:UTC
BEGIN:STANDARD
TZOFFSETFROM:+0000
TZOFFSETTO:+0000
TZNAME:UTC
DTSTART:20240101T000000
END:STANDARD
END:VTIMEZONE
BEGIN:VEVENT
DTSTART;TZID=UTC:20250928T140000
DTEND;TZID=UTC:20250928T140000
DTSTAMP:20260420T153330
CREATED:20241108T194333Z
LAST-MODIFIED:20241108T194333Z
UID:10002334-1759068000-1759068000@vanburen.org
SUMMARY:Once          a Musical @ KOH
DESCRIPTION:From the very first note\, Once draws you in and never lets go. This emotionally captivating musical is the only show to have music that won an Academy Award\, a Grammy Award\, an Olivier Award and a Tony Award. \nOn the streets of Dublin\, an Irish musician and a Czech immigrant are drawn together by their shared love of music. Over the course of one fateful week\, an unexpected friendship and collaboration quickly evolves into a powerful but complicated love story\, underscored by emotionally charged music. \nFeaturing all of the magical songs from the critically acclaimed film\, including the Oscar-winning “Falling Slowly\,” this achingly beautiful\, joyously uplifting show strikes an unforgettable chord in audiences and speaks to the power of music to connect us all. A show like that only comes around Once.
URL:https://vanburen.org/event/once-a-musical-koh/2025-09-28/
LOCATION:King Opera House\, 427 Main Street\, Van Buren\, AR\, 72956\, United States
END:VEVENT
END:VCALENDAR