BEGIN:VCALENDAR
VERSION:2.0
PRODID:-//Van Buren Advertising &amp; Promotions Commission - ECPv6.15.20//NONSGML v1.0//EN
CALSCALE:GREGORIAN
METHOD:PUBLISH
X-ORIGINAL-URL:https://vanburen.org
X-WR-CALDESC:Events for Van Buren Advertising &amp; Promotions Commission
REFRESH-INTERVAL;VALUE=DURATION:PT1H
X-Robots-Tag:noindex
X-PUBLISHED-TTL:PT1H
BEGIN:VTIMEZONE
TZID:UTC
BEGIN:STANDARD
TZOFFSETFROM:+0000
TZOFFSETTO:+0000
TZNAME:UTC
DTSTART:20240101T000000
END:STANDARD
END:VTIMEZONE
BEGIN:VEVENT
DTSTART;TZID=UTC:20251213T080000
DTEND;TZID=UTC:20251213T160000
DTSTAMP:20260420T124542
CREATED:20250122T161233Z
LAST-MODIFIED:20251113T203833Z
UID:10002375-1765612800-1765641600@vanburen.org
SUMMARY:Holiday in Whoville
DESCRIPTION:
URL:https://vanburen.org/event/holiday-in-whoville-5/
LOCATION:Main Street Historic District\, 700-400 Main Street\, Van Buren\, AR\, 72956\, United States
ORGANIZER;CN="Old Town Merchants Association":MAILTO:oldtownvanburen@gmail.com
END:VEVENT
BEGIN:VEVENT
DTSTART;TZID=UTC:20251213T140000
DTEND;TZID=UTC:20251213T160000
DTSTAMP:20260420T124542
CREATED:20250122T204114Z
LAST-MODIFIED:20250806T205523Z
UID:10002398-1765634400-1765641600@vanburen.org
SUMMARY:$5.00 Movie Night @ KOH    The GRINCH
DESCRIPTION:For more information visit https://kingoperahouse.com/upcoming-events/
URL:https://vanburen.org/event/5-00-movie-night-koh-the-grinch/
LOCATION:King Opera House\, 427 Main Street\, Van Buren\, AR\, 72956\, United States
END:VEVENT
BEGIN:VEVENT
DTSTART;TZID=UTC:20251213T173000
DTEND;TZID=UTC:20251213T210000
DTSTAMP:20260420T124542
CREATED:20251022T195919Z
LAST-MODIFIED:20251113T183629Z
UID:10003087-1765647000-1765659600@vanburen.org
SUMMARY:Jimmy Bell Real Estate Company Ice Skating Rink
DESCRIPTION:
URL:https://vanburen.org/event/jimmy-bell-real-estate-company-ice-skating-rink/2025-12-13/
LOCATION:Freedom Park\, 957 E. Main Street\, Van Buren\, AR\, 72956\, United States
END:VEVENT
BEGIN:VEVENT
DTSTART;TZID=UTC:20251213T180000
DTEND;TZID=UTC:20251213T180000
DTSTAMP:20260420T124542
CREATED:20250122T161339Z
LAST-MODIFIED:20251007T145943Z
UID:10002376-1765648800-1765648800@vanburen.org
SUMMARY:Christmas Parade
DESCRIPTION:The Old Town Merchants Association is hosting the Downtown Grinchy Candy Cane Lane Christmas Parade.\nJoin Downtown Van Buren in all the “Grinchiest” fun you can have this holiday season! \nFor more information contact 479-922-6862
URL:https://vanburen.org/event/christmas-parade-4/
LOCATION:Main Street Historic District\, 700-400 Main Street\, Van Buren\, AR\, 72956\, United States
ORGANIZER;CN="Old Town Merchants Association":MAILTO:oldtownvanburen@gmail.com
END:VEVENT
BEGIN:VEVENT
DTSTART;TZID=UTC:20251213T180000
DTEND;TZID=UTC:20251213T230000
DTSTAMP:20260420T124542
CREATED:20251022T195137Z
LAST-MODIFIED:20251113T183133Z
UID:10002697-1765648800-1765666800@vanburen.org
SUMMARY:Van Buren's Christmas at the Parks Light Displays
DESCRIPTION:
URL:https://vanburen.org/event/van-burens-christmas-at-the-parks-light-displays/2025-12-13/
LOCATION:Van Buren City Park\, 1300 City Park Rd\, Van Buren\, AR\, 72956
END:VEVENT
END:VCALENDAR