BEGIN:VCALENDAR
VERSION:2.0
PRODID:-//Van Buren Advertising &amp; Promotions Commission - ECPv6.15.20//NONSGML v1.0//EN
CALSCALE:GREGORIAN
METHOD:PUBLISH
X-ORIGINAL-URL:https://vanburen.org
X-WR-CALDESC:Events for Van Buren Advertising &amp; Promotions Commission
REFRESH-INTERVAL;VALUE=DURATION:PT1H
X-Robots-Tag:noindex
X-PUBLISHED-TTL:PT1H
BEGIN:VTIMEZONE
TZID:UTC
BEGIN:STANDARD
TZOFFSETFROM:+0000
TZOFFSETTO:+0000
TZNAME:UTC
DTSTART:20240101T000000
END:STANDARD
END:VTIMEZONE
BEGIN:VEVENT
DTSTART;TZID=UTC:20251214T110000
DTEND;TZID=UTC:20251214T210000
DTSTAMP:20260420T084343
CREATED:20251022T195919Z
LAST-MODIFIED:20251113T183629Z
UID:10003088-1765710000-1765746000@vanburen.org
SUMMARY:Jimmy Bell Real Estate Company Ice Skating Rink
DESCRIPTION:
URL:https://vanburen.org/event/jimmy-bell-real-estate-company-ice-skating-rink/2025-12-14/
LOCATION:Freedom Park\, 957 E. Main Street\, Van Buren\, AR\, 72956\, United States
END:VEVENT
BEGIN:VEVENT
DTSTART;TZID=UTC:20251214T180000
DTEND;TZID=UTC:20251214T180000
DTSTAMP:20260420T084343
CREATED:20251023T211826Z
LAST-MODIFIED:20251023T211826Z
UID:10003365-1765735200-1765735200@vanburen.org
SUMMARY:Christmas Card to the Community @ Van Buren Fine Arts Facility
DESCRIPTION:
URL:https://vanburen.org/event/christmas-card-to-the-community-van-buren-fine-arts-facility/
LOCATION:Van Buren Fine Arts Center\, 2001 East Pointer Trail\, Van Buren\, AR\, 72956\, United States
END:VEVENT
BEGIN:VEVENT
DTSTART;TZID=UTC:20251214T180000
DTEND;TZID=UTC:20251214T230000
DTSTAMP:20260420T084343
CREATED:20251022T195137Z
LAST-MODIFIED:20251113T183133Z
UID:10002698-1765735200-1765753200@vanburen.org
SUMMARY:Van Buren's Christmas at the Parks Light Displays
DESCRIPTION:
URL:https://vanburen.org/event/van-burens-christmas-at-the-parks-light-displays/2025-12-14/
LOCATION:Van Buren City Park\, 1300 City Park Rd\, Van Buren\, AR\, 72956
END:VEVENT
END:VCALENDAR