BEGIN:VCALENDAR
VERSION:2.0
PRODID:-//Van Buren Advertising &amp; Promotions Commission - ECPv6.15.20//NONSGML v1.0//EN
CALSCALE:GREGORIAN
METHOD:PUBLISH
X-ORIGINAL-URL:https://vanburen.org
X-WR-CALDESC:Events for Van Buren Advertising &amp; Promotions Commission
REFRESH-INTERVAL;VALUE=DURATION:PT1H
X-Robots-Tag:noindex
X-PUBLISHED-TTL:PT1H
BEGIN:VTIMEZONE
TZID:America/Chicago
BEGIN:DAYLIGHT
TZOFFSETFROM:-0600
TZOFFSETTO:-0500
TZNAME:CDT
DTSTART:20210314T080000
END:DAYLIGHT
BEGIN:STANDARD
TZOFFSETFROM:-0500
TZOFFSETTO:-0600
TZNAME:CST
DTSTART:20211107T070000
END:STANDARD
BEGIN:DAYLIGHT
TZOFFSETFROM:-0600
TZOFFSETTO:-0500
TZNAME:CDT
DTSTART:20220313T080000
END:DAYLIGHT
BEGIN:STANDARD
TZOFFSETFROM:-0500
TZOFFSETTO:-0600
TZNAME:CST
DTSTART:20221106T070000
END:STANDARD
BEGIN:DAYLIGHT
TZOFFSETFROM:-0600
TZOFFSETTO:-0500
TZNAME:CDT
DTSTART:20230312T080000
END:DAYLIGHT
BEGIN:STANDARD
TZOFFSETFROM:-0500
TZOFFSETTO:-0600
TZNAME:CST
DTSTART:20231105T070000
END:STANDARD
END:VTIMEZONE
BEGIN:VTIMEZONE
TZID:UTC
BEGIN:STANDARD
TZOFFSETFROM:+0000
TZOFFSETTO:+0000
TZNAME:UTC
DTSTART:20210101T000000
END:STANDARD
END:VTIMEZONE
BEGIN:VEVENT
DTSTART;TZID=America/Chicago:20220723T100000
DTEND;TZID=America/Chicago:20220723T170000
DTSTAMP:20260425T015133
CREATED:20240401T170953Z
LAST-MODIFIED:20240401T170953Z
UID:10000926-1658570400-1658595600@vanburen.org
SUMMARY:CHRISTMAS IN JULY
DESCRIPTION:Participating Merchants in Historic Downtown will join in Sidewalk Sales and In-Store Savings.
URL:https://vanburen.org/event/christmas-in-july-4/
LOCATION:AR
END:VEVENT
BEGIN:VEVENT
DTSTART;TZID=America/Chicago:20220723T110000
DTEND;TZID=America/Chicago:20220723T140000
DTSTAMP:20260425T015133
CREATED:20240401T164701Z
LAST-MODIFIED:20240401T164701Z
UID:10000876-1658574000-1658584800@vanburen.org
SUMMARY:Ride The Train Van Buren To Winslow
DESCRIPTION:This three-hour\, 70-mile round trip excursion takes you through the ruggedly beautiful Boston Mountain range of the Ozarks\, over three valley trestles and through the 1700-foot-long Winslow tunnel.\nEnjoy some of the most breathtaking scenery you are likely to see in ‘The Natural State’ \n\nDeparts Van Buren 11:00am\nBoston Mountains\, Trestles\, Tunnel\nThree-hour round trip
URL:https://vanburen.org/event/ride-the-train-van-buren-to-winslow-42/
LOCATION:AR
END:VEVENT
BEGIN:VEVENT
DTSTART;TZID=UTC:20220727T000000
DTEND;TZID=UTC:20220727T000000
DTSTAMP:20260425T015133
CREATED:20240326T143859Z
LAST-MODIFIED:20240326T144100Z
UID:10000196-1658880000-1658880000@vanburen.org
SUMMARY:Ride the Train Van Buren to Winslow
DESCRIPTION:This three-hour\, 70-mile round trip excursion takes you through the ruggedly beautiful Boston Mountain range of the Ozarks\, over three valley trestles and through the 1700-foot-long Winslow tunnel.
URL:https://vanburen.org/event/ride-the-train-van-buren-to-winslow-7/
LOCATION:AR
END:VEVENT
BEGIN:VEVENT
DTSTART;TZID=UTC:20220727T000000
DTEND;TZID=UTC:20220727T000000
DTSTAMP:20260425T015133
CREATED:20240326T143859Z
LAST-MODIFIED:20240326T143859Z
UID:10000197-1658880000-1658880000@vanburen.org
SUMMARY:Ride the Train Van Buren to Winslow
DESCRIPTION:This three-hour\, 70-mile round trip excursion takes you through the ruggedly beautiful Boston Mountain range of the Ozarks\, over three valley trestles and through the 1700-foot-long Winslow tunnel.
URL:https://vanburen.org/event/ride-the-train-van-buren-to-winslow-8/
LOCATION:AR
END:VEVENT
BEGIN:VEVENT
DTSTART;TZID=UTC:20220727T000000
DTEND;TZID=UTC:20220727T000000
DTSTAMP:20260425T015133
CREATED:20240326T143859Z
LAST-MODIFIED:20240326T143859Z
UID:10000198-1658880000-1658880000@vanburen.org
SUMMARY:Ride the Train Van Buren to Winslow
DESCRIPTION:This three-hour\, 70-mile round trip excursion takes you through the ruggedly beautiful Boston Mountain range of the Ozarks\, over three valley trestles and through the 1700-foot-long Winslow tunnel.
URL:https://vanburen.org/event/ride-the-train-van-buren-to-winslow-9/
LOCATION:AR
END:VEVENT
BEGIN:VEVENT
DTSTART;TZID=UTC:20220727T000000
DTEND;TZID=UTC:20220727T000000
DTSTAMP:20260425T015133
CREATED:20240326T143859Z
LAST-MODIFIED:20240326T143859Z
UID:10000199-1658880000-1658880000@vanburen.org
SUMMARY:Ride the Train Van Buren to Winslow
DESCRIPTION:This three-hour\, 70-mile round trip excursion takes you through the ruggedly beautiful Boston Mountain range of the Ozarks\, over three valley trestles and through the 1700-foot-long Winslow tunnel.
URL:https://vanburen.org/event/ride-the-train-van-buren-to-winslow-10/
LOCATION:AR
END:VEVENT
BEGIN:VEVENT
DTSTART;TZID=America/Chicago:20220730T110000
DTEND;TZID=America/Chicago:20220730T140000
DTSTAMP:20260425T015133
CREATED:20240401T164701Z
LAST-MODIFIED:20240401T164701Z
UID:10000877-1659178800-1659189600@vanburen.org
SUMMARY:Ride The Train Van Buren To Winslow
DESCRIPTION:This three-hour\, 70-mile round trip excursion takes you through the ruggedly beautiful Boston Mountain range of the Ozarks\, over three valley trestles and through the 1700-foot-long Winslow tunnel.\nEnjoy some of the most breathtaking scenery you are likely to see in ‘The Natural State’ \n\nDeparts Van Buren 11:00am\nBoston Mountains\, Trestles\, Tunnel\nThree-hour round trip
URL:https://vanburen.org/event/ride-the-train-van-buren-to-winslow-43/
LOCATION:AR
END:VEVENT
BEGIN:VEVENT
DTSTART;TZID=America/Chicago:20220802T170000
DTEND;TZID=America/Chicago:20220802T190000
DTSTAMP:20260425T015133
CREATED:20240401T164918Z
LAST-MODIFIED:20240401T164918Z
UID:10000890-1659459600-1659466800@vanburen.org
SUMMARY:National Night Out Crawford County 2022
DESCRIPTION:location is TBA may or may not be in Cedarville.This event is to have the community interact with police\, fire and first responders. the event is FREE! games\, food\, vendors!\n\n\nGames\, puzzles & play\n\n\nNational Night Out is an annual community-building campaign that promotes police-community partnerships. In Cedarville 2022.
URL:https://vanburen.org/event/national-night-out-crawford-county-2022-2/
LOCATION:AR
END:VEVENT
BEGIN:VEVENT
DTSTART;TZID=America/Chicago:20220806T110000
DTEND;TZID=America/Chicago:20220806T140000
DTSTAMP:20260425T015133
CREATED:20240401T170954Z
LAST-MODIFIED:20240401T170954Z
UID:10000928-1659783600-1659794400@vanburen.org
SUMMARY:Ride the Train Van Buren to Winslow
DESCRIPTION:This three-hour\, 70-mile round trip excursion takes you through the ruggedly beautiful Boston Mountain range of the Ozarks\, over three valley trestles and through the 1700-foot-long Winslow tunnel.
URL:https://vanburen.org/event/ride-the-train-van-buren-to-winslow-46/
LOCATION:AR
END:VEVENT
BEGIN:VEVENT
DTSTART;TZID=America/Chicago:20220813T100000
DTEND;TZID=America/Chicago:20220813T180000
DTSTAMP:20260425T015133
CREATED:20240401T164114Z
LAST-MODIFIED:20240401T164114Z
UID:10000854-1660384800-1660413600@vanburen.org
SUMMARY:Second Saturday Shopping
DESCRIPTION:These days are full of shopping\, dinning\, and strolling the streets to find those sweet deals. Each month there is usually a different theme with live music\, food trucks and street vendors.
URL:https://vanburen.org/event/second-saturday-shopping-7/
LOCATION:AR
END:VEVENT
BEGIN:VEVENT
DTSTART;TZID=America/Chicago:20220813T110000
DTEND;TZID=America/Chicago:20220813T140000
DTSTAMP:20260425T015133
CREATED:20240401T170954Z
LAST-MODIFIED:20240401T170954Z
UID:10000929-1660388400-1660399200@vanburen.org
SUMMARY:Ride the Train Van Buren to Winslow
DESCRIPTION:This three-hour\, 70-mile round trip excursion takes you through the ruggedly beautiful Boston Mountain range of the Ozarks\, over three valley trestles and through the 1700-foot-long Winslow tunnel.
URL:https://vanburen.org/event/ride-the-train-van-buren-to-winslow-47/
LOCATION:AR
END:VEVENT
BEGIN:VEVENT
DTSTART;TZID=UTC:20220819T000000
DTEND;TZID=UTC:20220819T000000
DTSTAMP:20260425T015133
CREATED:20240326T144229Z
LAST-MODIFIED:20240326T144229Z
UID:10000201-1660867200-1660867200@vanburen.org
SUMMARY:The Ultimate Johnny & June Tribute held at the King Opera House
DESCRIPTION:
URL:https://vanburen.org/event/the-ultimate-johnny-june-tribute-held-at-the-king-opera-house/
LOCATION:AR
END:VEVENT
BEGIN:VEVENT
DTSTART;TZID=UTC:20220819T000000
DTEND;TZID=UTC:20220819T000000
DTSTAMP:20260425T015133
CREATED:20240326T144229Z
LAST-MODIFIED:20240326T144229Z
UID:10000202-1660867200-1660867200@vanburen.org
SUMMARY:Tribute to Roy Orbison held at The King Opera House
DESCRIPTION:
URL:https://vanburen.org/event/tribute-to-roy-orbison-held-at-the-king-opera-house/
LOCATION:AR
END:VEVENT
BEGIN:VEVENT
DTSTART;TZID=UTC:20220819T000000
DTEND;TZID=UTC:20220819T000000
DTSTAMP:20260425T015133
CREATED:20240326T144229Z
LAST-MODIFIED:20240326T144229Z
UID:10000203-1660867200-1660867200@vanburen.org
SUMMARY:Elvis in Concert at The King Opera House
DESCRIPTION:
URL:https://vanburen.org/event/elvis-in-concert-at-the-king-opera-house/
LOCATION:AR
END:VEVENT
BEGIN:VEVENT
DTSTART;TZID=UTC:20220819T000000
DTEND;TZID=UTC:20220819T000000
DTSTAMP:20260425T015133
CREATED:20240326T144230Z
LAST-MODIFIED:20240326T144230Z
UID:10000204-1660867200-1660867200@vanburen.org
SUMMARY:MISS RIVER VALLEY'S Winter Wonderland Pageant 2022
DESCRIPTION:
URL:https://vanburen.org/event/miss-river-valleys-winter-wonderland-pageant-2022/
LOCATION:AR
END:VEVENT
BEGIN:VEVENT
DTSTART;TZID=UTC:20220819T000000
DTEND;TZID=UTC:20220819T000000
DTSTAMP:20260425T015133
CREATED:20240326T144230Z
LAST-MODIFIED:20240326T144242Z
UID:10000205-1660867200-1660867200@vanburen.org
SUMMARY:Rudolph the Red Nosed Reindeer JR by CSA Productions at The King Opera House
DESCRIPTION:
URL:https://vanburen.org/event/rudolph-the-red-nosed-reindeer-jr-by-csa-productions-at-the-king-opera-house/
LOCATION:AR
END:VEVENT
BEGIN:VEVENT
DTSTART;TZID=UTC:20220819T000000
DTEND;TZID=UTC:20220819T000000
DTSTAMP:20260425T015133
CREATED:20240326T144242Z
LAST-MODIFIED:20240326T144242Z
UID:10000206-1660867200-1660867200@vanburen.org
SUMMARY:William Lee Martin – Return of the Nutcracker at The King Opera House
DESCRIPTION:William Lee Martin is a prolific stand-up comedian\, writer\, actor\, songwriter and producer. His stand-up work sees him playing to sell out audiences at clubs and theaters around the country. He has produced 5 comedy one-hour specials including “Let the Laughter Roll” which aired on CMT\, and his current hits\, “Standing in the Middle” and “The Nutcracker: a Christmas Special based on his Vasectomy” which both can be streamed on Amazon Prime and Apple TV. He’s best known for signature bits “Grandma’s Pushy” and “Running with Diablo”. Martin’s comedy is authentic and although Martin works clean\, he admits he’s no choir boy. His comic timing is impeccable and he is by far one of the best storytellers working today.\n  \nFor more information contact 479-474-7767
URL:https://vanburen.org/event/william-lee-martin-return-of-the-nutcracker-at-the-king-opera-house/
LOCATION:AR
END:VEVENT
BEGIN:VEVENT
DTSTART;TZID=America/Chicago:20220827T110000
DTEND;TZID=America/Chicago:20220827T140000
DTSTAMP:20260425T015133
CREATED:20240401T171154Z
LAST-MODIFIED:20240401T171154Z
UID:10000930-1661598000-1661608800@vanburen.org
SUMMARY:Ride the Train Van Buren to Winslow
DESCRIPTION:This three-hour\, 70-mile round trip excursion takes you through the ruggedly beautiful Boston Mountain range of the Ozarks\, over three valley trestles and through the 1700-foot-long Winslow tunnel.
URL:https://vanburen.org/event/ride-the-train-van-buren-to-winslow-48/
LOCATION:AR
END:VEVENT
BEGIN:VEVENT
DTSTART;TZID=America/Chicago:20220903T110000
DTEND;TZID=America/Chicago:20220903T140000
DTSTAMP:20260425T015133
CREATED:20240401T171155Z
LAST-MODIFIED:20240401T171155Z
UID:10000931-1662202800-1662213600@vanburen.org
SUMMARY:Ride the Train Van Buren to Winslow
DESCRIPTION:This three-hour\, 70-mile round trip excursion takes you through the ruggedly beautiful Boston Mountain range of the Ozarks\, over three valley trestles and through the 1700-foot-long Winslow tunnel.
URL:https://vanburen.org/event/ride-the-train-van-buren-to-winslow-49/
LOCATION:AR
END:VEVENT
BEGIN:VEVENT
DTSTART;TZID=America/Chicago:20220903T193000
DTEND;TZID=America/Chicago:20220903T193000
DTSTAMP:20260425T015133
CREATED:20240401T171758Z
LAST-MODIFIED:20240401T171758Z
UID:10000948-1662233400-1662233400@vanburen.org
SUMMARY:The Ultimate Johnny & June Tribute held at the King Opera House
DESCRIPTION:
URL:https://vanburen.org/event/the-ultimate-johnny-june-tribute-held-at-the-king-opera-house-2/
LOCATION:AR
END:VEVENT
BEGIN:VEVENT
DTSTART;TZID=America/Chicago:20220910T090000
DTEND;TZID=America/Chicago:20220910T170000
DTSTAMP:20260425T015133
CREATED:20240401T164902Z
LAST-MODIFIED:20240401T164902Z
UID:10000884-1662800400-1662829200@vanburen.org
SUMMARY:Downtown Junkfest
DESCRIPTION:
URL:https://vanburen.org/event/downtown-junkfest-7/
LOCATION:AR
END:VEVENT
BEGIN:VEVENT
DTSTART;TZID=America/Chicago:20220911T090000
DTEND;TZID=America/Chicago:20220911T160000
DTSTAMP:20260425T015133
CREATED:20240401T164902Z
LAST-MODIFIED:20240401T164902Z
UID:10000885-1662886800-1662912000@vanburen.org
SUMMARY:Downtown Junkfest
DESCRIPTION:
URL:https://vanburen.org/event/downtown-junkfest-8/
LOCATION:AR
END:VEVENT
BEGIN:VEVENT
DTSTART;TZID=America/Chicago:20220911T150000
DTEND;TZID=America/Chicago:20220911T150000
DTSTAMP:20260425T015133
CREATED:20240401T171758Z
LAST-MODIFIED:20240401T171758Z
UID:10000949-1662908400-1662908400@vanburen.org
SUMMARY:Tribute to Roy Orbison held at The King Opera House
DESCRIPTION:
URL:https://vanburen.org/event/tribute-to-roy-orbison-held-at-the-king-opera-house-2/
LOCATION:AR
END:VEVENT
BEGIN:VEVENT
DTSTART;TZID=America/Chicago:20220924T110000
DTEND;TZID=America/Chicago:20220924T140000
DTSTAMP:20260425T015133
CREATED:20240401T171155Z
LAST-MODIFIED:20240401T171155Z
UID:10000932-1664017200-1664028000@vanburen.org
SUMMARY:Ride the Train Van Buren to Winslow
DESCRIPTION:This three-hour\, 70-mile round trip excursion takes you through the ruggedly beautiful Boston Mountain range of the Ozarks\, over three valley trestles and through the 1700-foot-long Winslow tunnel.
URL:https://vanburen.org/event/ride-the-train-van-buren-to-winslow-50/
LOCATION:AR
END:VEVENT
BEGIN:VEVENT
DTSTART;TZID=UTC:20220926T000000
DTEND;TZID=UTC:20220926T000000
DTSTAMP:20260425T015133
CREATED:20240326T144242Z
LAST-MODIFIED:20240326T144242Z
UID:10000207-1664150400-1664150400@vanburen.org
SUMMARY:"An Evening with Sinatra"    PRE-SHOW-PERFORMANCE-PARTY @ KOH
DESCRIPTION:Original choreography performed to the music of Frank Sinatra and other “Rat Pack entertainers. Saturday\, October 8\, 2022 at 6pm tickets are $80 per person for adults and includes reception\, performance\, and dinner. Catering by Uncork’d.Tickets available at www.waballet.org or by calling 479-785-0152.\nCocktail attire
URL:https://vanburen.org/event/an-evening-with-sinatra-pre-show-performance-party-koh/
LOCATION:AR
END:VEVENT
BEGIN:VEVENT
DTSTART;TZID=UTC:20220926T000000
DTEND;TZID=UTC:20220926T000000
DTSTAMP:20260425T015133
CREATED:20240326T144242Z
LAST-MODIFIED:20240326T144242Z
UID:10000208-1664150400-1664150400@vanburen.org
SUMMARY:"An Afternoon with Sinatra" Extended Matinee King Opera House
DESCRIPTION:Original choreography performed to the music of Frank Sinatra and other “Rat Pack entertainers. Sunday\, October 9\, 2022 at 2pm is and extended matinee with additional dances tickets are $15 per person all ages welcome.Tickets available at www.waballet.org or by calling 479-785-0152.\nCasual attire
URL:https://vanburen.org/event/an-afternoon-with-sinatra-extended-matinee-king-opera-house/
LOCATION:AR
END:VEVENT
BEGIN:VEVENT
DTSTART;TZID=UTC:20220926T000000
DTEND;TZID=UTC:20220926T000000
DTSTAMP:20260425T015133
CREATED:20240326T144301Z
LAST-MODIFIED:20240326T144301Z
UID:10000209-1664150400-1664150400@vanburen.org
SUMMARY:Heart of the King Arkansas A Tribute to Elvis @ KOH
DESCRIPTION:HEART OF THE KING ARKANSAS WEEKEND\nDust off your blue suede shoes and get ready to rock ‘n’ roll at Van Buren’s super fun Elvis Weekend\, HEART OF THE KING WEEKEND\, Friday\, October 14 – Sunday\, October 16\, 2022. The three-day weekend hosted by STARDOM ENTERTAINMENT is at the KING OPERA HOUSE in Downtown VAN BUREN\, ARKANSAS. The Heart of The King features four world-known Elvis Tribute Artist performers\, VICTOR TREVINO\, JR.\, JOSEPH HALL\, MOSES SNOW\, and DAVID ALLEN\, plus SHAKE RATTLE & ROLL and backed by EDGE OF REALITY BAND.
URL:https://vanburen.org/event/heart-of-the-king-arkansas-a-tribute-to-elvis-koh/
LOCATION:AR
END:VEVENT
BEGIN:VEVENT
DTSTART;TZID=UTC:20220926T000000
DTEND;TZID=UTC:20220926T000000
DTSTAMP:20260425T015133
CREATED:20240326T144301Z
LAST-MODIFIED:20240326T144301Z
UID:10000210-1664150400-1664150400@vanburen.org
SUMMARY:Heart of the King Arkansas A Tribute to Elvis @ KOH
DESCRIPTION:HEART OF THE KING ARKANSAS WEEKEND\nDust off your blue suede shoes and get ready to rock ‘n’ roll at Van Buren’s super fun Elvis Weekend\, HEART OF THE KING WEEKEND\, Friday\, October 14 – Sunday\, October 16\, 2022. The three-day weekend hosted by STARDOM ENTERTAINMENT is at the KING OPERA HOUSE in Downtown VAN BUREN\, ARKANSAS. The Heart of The King features four world-known Elvis Tribute Artist performers\, VICTOR TREVINO\, JR.\, JOSEPH HALL\, MOSES SNOW\, and DAVID ALLEN\, plus SHAKE RATTLE & ROLL and backed by EDGE OF REALITY BAND.
URL:https://vanburen.org/event/heart-of-the-king-arkansas-a-tribute-to-elvis-koh-2/
LOCATION:AR
END:VEVENT
BEGIN:VEVENT
DTSTART;TZID=UTC:20220926T000000
DTEND;TZID=UTC:20220926T000000
DTSTAMP:20260425T015133
CREATED:20240326T144301Z
LAST-MODIFIED:20240326T144301Z
UID:10000211-1664150400-1664150400@vanburen.org
SUMMARY:Heart of the King Arkansas A Tribute to Elvis @ KOH
DESCRIPTION:HEART OF THE KING ARKANSAS WEEKEND\nDust off your blue suede shoes and get ready to rock ‘n’ roll at Van Buren’s super fun Elvis Weekend\, HEART OF THE KING WEEKEND\, Friday\, October 14 – Sunday\, October 16\, 2022. The three-day weekend hosted by STARDOM ENTERTAINMENT is at the KING OPERA HOUSE in Downtown VAN BUREN\, ARKANSAS. The Heart of The King features four world-known Elvis Tribute Artist performers\, VICTOR TREVINO\, JR.\, JOSEPH HALL\, MOSES SNOW\, and DAVID ALLEN\, plus SHAKE RATTLE & ROLL and backed by EDGE OF REALITY BAND.
URL:https://vanburen.org/event/heart-of-the-king-arkansas-a-tribute-to-elvis-koh-3/
LOCATION:AR
END:VEVENT
BEGIN:VEVENT
DTSTART;TZID=UTC:20220926T000000
DTEND;TZID=UTC:20220926T000000
DTSTAMP:20260425T015133
CREATED:20240326T144301Z
LAST-MODIFIED:20240326T144301Z
UID:10000212-1664150400-1664150400@vanburen.org
SUMMARY:Elvis In Concert\, Cote Deonath & Michael Cullipher-  KOH Van Buren
DESCRIPTION: 
URL:https://vanburen.org/event/elvis-in-concert-cote-deonath-michael-cullipher-koh-van-buren/
LOCATION:AR
END:VEVENT
END:VCALENDAR