BEGIN:VCALENDAR
VERSION:2.0
PRODID:-//Van Buren Advertising &amp; Promotions Commission - ECPv6.15.20//NONSGML v1.0//EN
CALSCALE:GREGORIAN
METHOD:PUBLISH
X-ORIGINAL-URL:https://vanburen.org
X-WR-CALDESC:Events for Van Buren Advertising &amp; Promotions Commission
REFRESH-INTERVAL;VALUE=DURATION:PT1H
X-Robots-Tag:noindex
X-PUBLISHED-TTL:PT1H
BEGIN:VTIMEZONE
TZID:America/Chicago
BEGIN:DAYLIGHT
TZOFFSETFROM:-0600
TZOFFSETTO:-0500
TZNAME:CDT
DTSTART:20210314T080000
END:DAYLIGHT
BEGIN:STANDARD
TZOFFSETFROM:-0500
TZOFFSETTO:-0600
TZNAME:CST
DTSTART:20211107T070000
END:STANDARD
BEGIN:DAYLIGHT
TZOFFSETFROM:-0600
TZOFFSETTO:-0500
TZNAME:CDT
DTSTART:20220313T080000
END:DAYLIGHT
BEGIN:STANDARD
TZOFFSETFROM:-0500
TZOFFSETTO:-0600
TZNAME:CST
DTSTART:20221106T070000
END:STANDARD
BEGIN:DAYLIGHT
TZOFFSETFROM:-0600
TZOFFSETTO:-0500
TZNAME:CDT
DTSTART:20230312T080000
END:DAYLIGHT
BEGIN:STANDARD
TZOFFSETFROM:-0500
TZOFFSETTO:-0600
TZNAME:CST
DTSTART:20231105T070000
END:STANDARD
END:VTIMEZONE
BEGIN:VTIMEZONE
TZID:UTC
BEGIN:STANDARD
TZOFFSETFROM:+0000
TZOFFSETTO:+0000
TZNAME:UTC
DTSTART:20210101T000000
END:STANDARD
END:VTIMEZONE
BEGIN:VEVENT
DTSTART;TZID=America/Chicago:20221201T170000
DTEND;TZID=America/Chicago:20221201T210000
DTSTAMP:20260424T140430
CREATED:20240401T172602Z
LAST-MODIFIED:20240401T172602Z
UID:10000969-1669914000-1669928400@vanburen.org
SUMMARY:Van Buren Christmas Ice Skating Rink
DESCRIPTION:
URL:https://vanburen.org/event/van-buren-christmas-ice-skating-rink-5/
LOCATION:AR
END:VEVENT
BEGIN:VEVENT
DTSTART;TZID=America/Chicago:20221202T160000
DTEND;TZID=America/Chicago:20221202T160000
DTSTAMP:20260424T140430
CREATED:20240401T165521Z
LAST-MODIFIED:20240401T165521Z
UID:10000903-1669996800-1669996800@vanburen.org
SUMMARY:Holiday Express/Pajama Train Van Buren to Rudy
DESCRIPTION:For more information contact http://www.amtrainrides.com
URL:https://vanburen.org/event/holiday-express-pajama-train-van-buren-to-rudy-2/
LOCATION:AR
END:VEVENT
BEGIN:VEVENT
DTSTART;TZID=America/Chicago:20221202T170000
DTEND;TZID=America/Chicago:20221202T220000
DTSTAMP:20260424T140430
CREATED:20240401T173205Z
LAST-MODIFIED:20240401T173205Z
UID:10000982-1670000400-1670018400@vanburen.org
SUMMARY:Van Buren Christmas Ice Skating Rink
DESCRIPTION:
URL:https://vanburen.org/event/van-buren-christmas-ice-skating-rink-15/
LOCATION:AR
END:VEVENT
BEGIN:VEVENT
DTSTART;TZID=America/Chicago:20221202T180000
DTEND;TZID=America/Chicago:20221202T180000
DTSTAMP:20260424T140430
CREATED:20240401T165521Z
LAST-MODIFIED:20240401T165521Z
UID:10000904-1670004000-1670004000@vanburen.org
SUMMARY:Holiday Express/Pajama Train Van Buren to Rudy
DESCRIPTION:For more information contact http://www.amtrainrides.com
URL:https://vanburen.org/event/holiday-express-pajama-train-van-buren-to-rudy-3/
LOCATION:AR
END:VEVENT
BEGIN:VEVENT
DTSTART;TZID=America/Chicago:20221202T180000
DTEND;TZID=America/Chicago:20221202T200000
DTSTAMP:20260424T140430
CREATED:20240401T173406Z
LAST-MODIFIED:20240401T173406Z
UID:10000986-1670004000-1670011200@vanburen.org
SUMMARY:17th Annual Festival of Trees Presented by The Rotary Club of Van Buren
DESCRIPTION:
URL:https://vanburen.org/event/17th-annual-festival-of-trees-presented-by-the-rotary-club-of-van-buren-2/
LOCATION:AR
END:VEVENT
BEGIN:VEVENT
DTSTART;TZID=America/Chicago:20221202T200000
DTEND;TZID=America/Chicago:20221202T200000
DTSTAMP:20260424T140430
CREATED:20240401T165521Z
LAST-MODIFIED:20240401T165521Z
UID:10000905-1670011200-1670011200@vanburen.org
SUMMARY:Holiday Express/Pajama Train Van Buren to Rudy
DESCRIPTION:For more information contact http://www.amtrainrides.com
URL:https://vanburen.org/event/holiday-express-pajama-train-van-buren-to-rudy-4/
LOCATION:AR
END:VEVENT
BEGIN:VEVENT
DTSTART;TZID=America/Chicago:20221203T100000
DTEND;TZID=America/Chicago:20221203T100000
DTSTAMP:20260424T140430
CREATED:20240401T165722Z
LAST-MODIFIED:20240401T165722Z
UID:10000906-1670061600-1670061600@vanburen.org
SUMMARY:Holiday Express/Pajama Train Van Buren to Rudy
DESCRIPTION:For more information contact http://www.amtrainrides.com
URL:https://vanburen.org/event/holiday-express-pajama-train-van-buren-to-rudy-5/
LOCATION:AR
END:VEVENT
BEGIN:VEVENT
DTSTART;TZID=America/Chicago:20221203T100000
DTEND;TZID=America/Chicago:20221203T200000
DTSTAMP:20260424T140430
CREATED:20240401T164314Z
LAST-MODIFIED:20240401T164314Z
UID:10000857-1670061600-1670097600@vanburen.org
SUMMARY:Jingle & Mingle on Main
DESCRIPTION:Join us in Downtown Van Buren for our annual Jingle and Mingle on Main. Where there is holiday fun for everyone\, from local shopping\, crafts and games for kids\, food trucks and local dining options. This is always a must see and attend event. Make sure you mark your calendars.
URL:https://vanburen.org/event/jingle-mingle-on-main-9/
LOCATION:AR
END:VEVENT
BEGIN:VEVENT
DTSTART;TZID=America/Chicago:20221203T120000
DTEND;TZID=America/Chicago:20221203T120000
DTSTAMP:20260424T140430
CREATED:20240401T165722Z
LAST-MODIFIED:20240401T165722Z
UID:10000907-1670068800-1670068800@vanburen.org
SUMMARY:Holiday Express/Pajama Train Van Buren to Rudy
DESCRIPTION:For more information contact http://www.amtrainrides.com
URL:https://vanburen.org/event/holiday-express-pajama-train-van-buren-to-rudy-6/
LOCATION:AR
END:VEVENT
BEGIN:VEVENT
DTSTART;TZID=America/Chicago:20221203T130000
DTEND;TZID=America/Chicago:20221203T220000
DTSTAMP:20260424T140430
CREATED:20240401T173205Z
LAST-MODIFIED:20240401T173205Z
UID:10000983-1670072400-1670104800@vanburen.org
SUMMARY:Van Buren Christmas Ice Skating Rink
DESCRIPTION:
URL:https://vanburen.org/event/van-buren-christmas-ice-skating-rink-16/
LOCATION:AR
END:VEVENT
BEGIN:VEVENT
DTSTART;TZID=America/Chicago:20221203T140000
DTEND;TZID=America/Chicago:20221203T140000
DTSTAMP:20260424T140430
CREATED:20240401T165722Z
LAST-MODIFIED:20240401T165722Z
UID:10000908-1670076000-1670076000@vanburen.org
SUMMARY:Holiday Express/Pajama Train Van Buren to Rudy
DESCRIPTION:For more information contact http://www.amtrainrides.com
URL:https://vanburen.org/event/holiday-express-pajama-train-van-buren-to-rudy-7/
LOCATION:AR
END:VEVENT
BEGIN:VEVENT
DTSTART;TZID=America/Chicago:20221203T160000
DTEND;TZID=America/Chicago:20221203T160000
DTSTAMP:20260424T140430
CREATED:20240401T165722Z
LAST-MODIFIED:20240401T165722Z
UID:10000909-1670083200-1670083200@vanburen.org
SUMMARY:Holiday Express/Pajama Train Van Buren to Rudy
DESCRIPTION:For more information contact http://www.amtrainrides.com
URL:https://vanburen.org/event/holiday-express-pajama-train-van-buren-to-rudy-8/
LOCATION:AR
END:VEVENT
BEGIN:VEVENT
DTSTART;TZID=America/Chicago:20221203T180000
DTEND;TZID=America/Chicago:20221203T180000
DTSTAMP:20260424T140430
CREATED:20240401T165722Z
LAST-MODIFIED:20240401T165722Z
UID:10000910-1670090400-1670090400@vanburen.org
SUMMARY:Holiday Express/Pajama Train Van Buren to Rudy
DESCRIPTION:For more information contact http://www.amtrainrides.com
URL:https://vanburen.org/event/holiday-express-pajama-train-van-buren-to-rudy-9/
LOCATION:AR
END:VEVENT
BEGIN:VEVENT
DTSTART;TZID=America/Chicago:20221203T180000
DTEND;TZID=America/Chicago:20221203T180000
DTSTAMP:20260424T140430
CREATED:20240401T173406Z
LAST-MODIFIED:20240401T173406Z
UID:10000987-1670090400-1670090400@vanburen.org
SUMMARY:Lighting of the Crawford County Courthouse
DESCRIPTION:
URL:https://vanburen.org/event/lighting-of-the-crawford-county-courthouse-4/
LOCATION:AR
END:VEVENT
BEGIN:VEVENT
DTSTART;TZID=America/Chicago:20221204T120000
DTEND;TZID=America/Chicago:20221204T120000
DTSTAMP:20260424T140430
CREATED:20240401T165923Z
LAST-MODIFIED:20240401T165923Z
UID:10000911-1670155200-1670155200@vanburen.org
SUMMARY:Holiday Express/Pajama Train Van Buren to Rudy
DESCRIPTION:For more information contact http://www.amtrainrides.com
URL:https://vanburen.org/event/holiday-express-pajama-train-van-buren-to-rudy-10/
LOCATION:AR
END:VEVENT
BEGIN:VEVENT
DTSTART;TZID=America/Chicago:20221204T140000
DTEND;TZID=America/Chicago:20221204T140000
DTSTAMP:20260424T140430
CREATED:20240401T165923Z
LAST-MODIFIED:20240401T165923Z
UID:10000912-1670162400-1670162400@vanburen.org
SUMMARY:Holiday Express/Pajama Train Van Buren to Rudy
DESCRIPTION:For more information contact http://www.amtrainrides.com
URL:https://vanburen.org/event/holiday-express-pajama-train-van-buren-to-rudy-11/
LOCATION:AR
END:VEVENT
BEGIN:VEVENT
DTSTART;TZID=America/Chicago:20221204T160000
DTEND;TZID=America/Chicago:20221204T160000
DTSTAMP:20260424T140430
CREATED:20240401T165923Z
LAST-MODIFIED:20240401T165923Z
UID:10000913-1670169600-1670169600@vanburen.org
SUMMARY:Holiday Express/Pajama Train Van Buren to Rudy
DESCRIPTION:For more information contact http://www.amtrainrides.com
URL:https://vanburen.org/event/holiday-express-pajama-train-van-buren-to-rudy-12/
LOCATION:AR
END:VEVENT
BEGIN:VEVENT
DTSTART;TZID=America/Chicago:20221204T180000
DTEND;TZID=America/Chicago:20221204T180000
DTSTAMP:20260424T140430
CREATED:20240401T165923Z
LAST-MODIFIED:20240401T165923Z
UID:10000914-1670176800-1670176800@vanburen.org
SUMMARY:Holiday Express/Pajama Train Van Buren to Rudy
DESCRIPTION:For more information contact http://www.amtrainrides.com
URL:https://vanburen.org/event/holiday-express-pajama-train-van-buren-to-rudy-13/
LOCATION:AR
END:VEVENT
BEGIN:VEVENT
DTSTART;TZID=America/Chicago:20221205T110000
DTEND;TZID=America/Chicago:20221205T110000
DTSTAMP:20260424T140430
CREATED:20240401T165923Z
LAST-MODIFIED:20240401T165923Z
UID:10000915-1670238000-1670238000@vanburen.org
SUMMARY:Holiday Express/Pajama Train Van Buren to Rudy
DESCRIPTION:For more information contact http://www.amtrainrides.com
URL:https://vanburen.org/event/holiday-express-pajama-train-van-buren-to-rudy-14/
LOCATION:AR
END:VEVENT
BEGIN:VEVENT
DTSTART;TZID=America/Chicago:20221205T150000
DTEND;TZID=America/Chicago:20221205T150000
DTSTAMP:20260424T140430
CREATED:20240401T170547Z
LAST-MODIFIED:20240401T170547Z
UID:10000916-1670252400-1670252400@vanburen.org
SUMMARY:Holiday Express/Pajama Train Van Buren to Rudy
DESCRIPTION:For more information contact http://www.amtrainrides.com
URL:https://vanburen.org/event/holiday-express-pajama-train-van-buren-to-rudy-15/
LOCATION:AR
END:VEVENT
BEGIN:VEVENT
DTSTART;TZID=America/Chicago:20221205T170000
DTEND;TZID=America/Chicago:20221205T170000
DTSTAMP:20260424T140430
CREATED:20240401T170547Z
LAST-MODIFIED:20240401T170547Z
UID:10000917-1670259600-1670259600@vanburen.org
SUMMARY:Holiday Express/Pajama Train Van Buren to Rudy
DESCRIPTION:For more information contact http://www.amtrainrides.com
URL:https://vanburen.org/event/holiday-express-pajama-train-van-buren-to-rudy-16/
LOCATION:AR
END:VEVENT
BEGIN:VEVENT
DTSTART;TZID=America/Chicago:20221205T190000
DTEND;TZID=America/Chicago:20221205T190000
DTSTAMP:20260424T140430
CREATED:20240401T170547Z
LAST-MODIFIED:20240401T170547Z
UID:10000918-1670266800-1670266800@vanburen.org
SUMMARY:Holiday Express/Pajama Train Van Buren to Rudy
DESCRIPTION:For more information contact http://www.amtrainrides.com
URL:https://vanburen.org/event/holiday-express-pajama-train-van-buren-to-rudy-17/
LOCATION:AR
END:VEVENT
BEGIN:VEVENT
DTSTART;TZID=America/Chicago:20221206T090000
DTEND;TZID=America/Chicago:20221206T090000
DTSTAMP:20260424T140430
CREATED:20240401T170548Z
LAST-MODIFIED:20240401T170548Z
UID:10000919-1670317200-1670317200@vanburen.org
SUMMARY:Holiday Express/Pajama Train Van Buren to Rudy
DESCRIPTION:For more information contact http://www.amtrainrides.com
URL:https://vanburen.org/event/holiday-express-pajama-train-van-buren-to-rudy-18/
LOCATION:AR
END:VEVENT
BEGIN:VEVENT
DTSTART;TZID=America/Chicago:20221206T110000
DTEND;TZID=America/Chicago:20221206T110000
DTSTAMP:20260424T140430
CREATED:20240401T170548Z
LAST-MODIFIED:20240401T170548Z
UID:10000920-1670324400-1670324400@vanburen.org
SUMMARY:Holiday Express/Pajama Train Van Buren to Rudy
DESCRIPTION:For more information contact http://www.amtrainrides.com
URL:https://vanburen.org/event/holiday-express-pajama-train-van-buren-to-rudy-19/
LOCATION:AR
END:VEVENT
BEGIN:VEVENT
DTSTART;TZID=America/Chicago:20221206T180000
DTEND;TZID=America/Chicago:20221206T180000
DTSTAMP:20260424T140430
CREATED:20240401T170752Z
LAST-MODIFIED:20240401T170752Z
UID:10000921-1670349600-1670349600@vanburen.org
SUMMARY:Holiday Express/Pajama Train Van Buren to Rudy
DESCRIPTION:For more information contact http://www.amtrainrides.com
URL:https://vanburen.org/event/holiday-express-pajama-train-van-buren-to-rudy-20/
LOCATION:AR
END:VEVENT
BEGIN:VEVENT
DTSTART;TZID=America/Chicago:20221207T090000
DTEND;TZID=America/Chicago:20221207T090000
DTSTAMP:20260424T140430
CREATED:20240401T170752Z
LAST-MODIFIED:20240401T170752Z
UID:10000922-1670403600-1670403600@vanburen.org
SUMMARY:Holiday Express/Pajama Train Van Buren to Rudy
DESCRIPTION:For more information contact http://www.amtrainrides.com
URL:https://vanburen.org/event/holiday-express-pajama-train-van-buren-to-rudy-21/
LOCATION:AR
END:VEVENT
BEGIN:VEVENT
DTSTART;TZID=America/Chicago:20221207T110000
DTEND;TZID=America/Chicago:20221207T110000
DTSTAMP:20260424T140430
CREATED:20240401T170753Z
LAST-MODIFIED:20240401T170753Z
UID:10000923-1670410800-1670410800@vanburen.org
SUMMARY:Holiday Express/Pajama Train Van Buren to Rudy
DESCRIPTION:For more information contact http://www.amtrainrides.com
URL:https://vanburen.org/event/holiday-express-pajama-train-van-buren-to-rudy-22/
LOCATION:AR
END:VEVENT
BEGIN:VEVENT
DTSTART;TZID=America/Chicago:20221208T170000
DTEND;TZID=America/Chicago:20221208T210000
DTSTAMP:20260424T140430
CREATED:20240401T173405Z
LAST-MODIFIED:20240401T173405Z
UID:10000984-1670518800-1670533200@vanburen.org
SUMMARY:Van Buren Christmas Ice Skating Rink
DESCRIPTION:
URL:https://vanburen.org/event/van-buren-christmas-ice-skating-rink-17/
LOCATION:AR
END:VEVENT
BEGIN:VEVENT
DTSTART;TZID=UTC:20221209T000000
DTEND;TZID=UTC:20221209T000000
DTSTAMP:20260424T140430
CREATED:20240326T144832Z
LAST-MODIFIED:20240326T144832Z
UID:10000233-1670544000-1670544000@vanburen.org
SUMMARY:A Tribute to Buddy Holly\, Roy Orbison\, & Jerry Lee Lewis by David K
DESCRIPTION:Tribute to BUDDY HOLLY\, ROY ORBISON & JERRY LEE LEWIS\n“A Triple Tribute” 7pm Thurs.\, Jan. 19th & 7pm Fri.\, Jan. 20th \nKing Opera House\, Van Buren\, Arkansas \nBalcony $10 • Gen. Adm. $15 • Premiere Seating $25 \nDavid K sings Roy’s multi-octave range beautifully. He also rocks Buddy’s rockabilly style and beautiful ballads\, then switches from guitar to piano to blast a few hits of Jerry Lee lewis! This one man show is a heartfelt museum tour of exceptional musical memories. \nThis 2 hour show shares tidbits of history from these three legendary careers. See videos at www.royshow.com. \nDavid K has recorded with Joey Molland of Badfinger (Beatles Apple Records)\, and with Phil Solem of The Rembrandts (Friends TV show theme)\, has performed with Dr. Fink of Prince & The Revolution and Jeff Cook of Alabama. He has submitted original songs to Edgar Winter\, Toni Braxton\, Spencer Davis and Jon Anderson of YES. David also performs as Buddy Holly. David is originally from Eden Prairie\, MN but has lived in L.A.\, New York and Nashville pursuing his music endeavors. 
URL:https://vanburen.org/event/a-tribute-to-buddy-holly-roy-orbison-jerry-lee-lewis-by-david-k/
LOCATION:AR
END:VEVENT
BEGIN:VEVENT
DTSTART;TZID=UTC:20221209T000000
DTEND;TZID=UTC:20221209T000000
DTSTAMP:20260424T140430
CREATED:20240326T144832Z
LAST-MODIFIED:20240326T144832Z
UID:10000234-1670544000-1670544000@vanburen.org
SUMMARY:A Tribute to Buddy Holly\, Roy Orbison\, & Jerry Lee Lewis by David K
DESCRIPTION:Tribute to BUDDY HOLLY\, ROY ORBISON & JERRY LEE LEWIS\n“A Triple Tribute” 7pm Thurs.\, Jan. 19th & 7pm Fri.\, Jan. 20th \nKing Opera House\, Van Buren\, Arkansas \nBalcony $10 • Gen. Adm. $15 • Premiere Seating $25 \nDavid K sings Roy’s multi-octave range beautifully. He also rocks Buddy’s rockabilly style and beautiful ballads\, then switches from guitar to piano to blast a few hits of Jerry Lee lewis! This one man show is a heartfelt museum tour of exceptional musical memories. \nThis 2 hour show shares tidbits of history from these three legendary careers. See videos at www.royshow.com. \nDavid K has recorded with Joey Molland of Badfinger (Beatles Apple Records)\, and with Phil Solem of The Rembrandts (Friends TV show theme)\, has performed with Dr. Fink of Prince & The Revolution and Jeff Cook of Alabama. He has submitted original songs to Edgar Winter\, Toni Braxton\, Spencer Davis and Jon Anderson of YES. David also performs as Buddy Holly. David is originally from Eden Prairie\, MN but has lived in L.A.\, New York and Nashville pursuing his music endeavors. 
URL:https://vanburen.org/event/a-tribute-to-buddy-holly-roy-orbison-jerry-lee-lewis-by-david-k-2/
LOCATION:AR
END:VEVENT
END:VCALENDAR