BEGIN:VCALENDAR
VERSION:2.0
PRODID:-//Van Buren Advertising &amp; Promotions Commission - ECPv6.15.20//NONSGML v1.0//EN
CALSCALE:GREGORIAN
METHOD:PUBLISH
X-ORIGINAL-URL:https://vanburen.org
X-WR-CALDESC:Events for Van Buren Advertising &amp; Promotions Commission
REFRESH-INTERVAL;VALUE=DURATION:PT1H
X-Robots-Tag:noindex
X-PUBLISHED-TTL:PT1H
BEGIN:VTIMEZONE
TZID:America/Chicago
BEGIN:DAYLIGHT
TZOFFSETFROM:-0600
TZOFFSETTO:-0500
TZNAME:CDT
DTSTART:20210314T080000
END:DAYLIGHT
BEGIN:STANDARD
TZOFFSETFROM:-0500
TZOFFSETTO:-0600
TZNAME:CST
DTSTART:20211107T070000
END:STANDARD
BEGIN:DAYLIGHT
TZOFFSETFROM:-0600
TZOFFSETTO:-0500
TZNAME:CDT
DTSTART:20220313T080000
END:DAYLIGHT
BEGIN:STANDARD
TZOFFSETFROM:-0500
TZOFFSETTO:-0600
TZNAME:CST
DTSTART:20221106T070000
END:STANDARD
BEGIN:DAYLIGHT
TZOFFSETFROM:-0600
TZOFFSETTO:-0500
TZNAME:CDT
DTSTART:20230312T080000
END:DAYLIGHT
BEGIN:STANDARD
TZOFFSETFROM:-0500
TZOFFSETTO:-0600
TZNAME:CST
DTSTART:20231105T070000
END:STANDARD
END:VTIMEZONE
BEGIN:VTIMEZONE
TZID:UTC
BEGIN:STANDARD
TZOFFSETFROM:+0000
TZOFFSETTO:+0000
TZNAME:UTC
DTSTART:20210101T000000
END:STANDARD
END:VTIMEZONE
BEGIN:VEVENT
DTSTART;TZID=America/Chicago:20221208T170000
DTEND;TZID=America/Chicago:20221208T210000
DTSTAMP:20260424T153610
CREATED:20240401T173405Z
LAST-MODIFIED:20240401T173405Z
UID:10000984-1670518800-1670533200@vanburen.org
SUMMARY:Van Buren Christmas Ice Skating Rink
DESCRIPTION:
URL:https://vanburen.org/event/van-buren-christmas-ice-skating-rink-17/
LOCATION:AR
END:VEVENT
BEGIN:VEVENT
DTSTART;TZID=UTC:20221209T000000
DTEND;TZID=UTC:20221209T000000
DTSTAMP:20260424T153610
CREATED:20240326T144832Z
LAST-MODIFIED:20240326T144832Z
UID:10000233-1670544000-1670544000@vanburen.org
SUMMARY:A Tribute to Buddy Holly\, Roy Orbison\, & Jerry Lee Lewis by David K
DESCRIPTION:Tribute to BUDDY HOLLY\, ROY ORBISON & JERRY LEE LEWIS\n“A Triple Tribute” 7pm Thurs.\, Jan. 19th & 7pm Fri.\, Jan. 20th \nKing Opera House\, Van Buren\, Arkansas \nBalcony $10 • Gen. Adm. $15 • Premiere Seating $25 \nDavid K sings Roy’s multi-octave range beautifully. He also rocks Buddy’s rockabilly style and beautiful ballads\, then switches from guitar to piano to blast a few hits of Jerry Lee lewis! This one man show is a heartfelt museum tour of exceptional musical memories. \nThis 2 hour show shares tidbits of history from these three legendary careers. See videos at www.royshow.com. \nDavid K has recorded with Joey Molland of Badfinger (Beatles Apple Records)\, and with Phil Solem of The Rembrandts (Friends TV show theme)\, has performed with Dr. Fink of Prince & The Revolution and Jeff Cook of Alabama. He has submitted original songs to Edgar Winter\, Toni Braxton\, Spencer Davis and Jon Anderson of YES. David also performs as Buddy Holly. David is originally from Eden Prairie\, MN but has lived in L.A.\, New York and Nashville pursuing his music endeavors. 
URL:https://vanburen.org/event/a-tribute-to-buddy-holly-roy-orbison-jerry-lee-lewis-by-david-k/
LOCATION:AR
END:VEVENT
BEGIN:VEVENT
DTSTART;TZID=UTC:20221209T000000
DTEND;TZID=UTC:20221209T000000
DTSTAMP:20260424T153610
CREATED:20240326T144832Z
LAST-MODIFIED:20240326T144832Z
UID:10000234-1670544000-1670544000@vanburen.org
SUMMARY:A Tribute to Buddy Holly\, Roy Orbison\, & Jerry Lee Lewis by David K
DESCRIPTION:Tribute to BUDDY HOLLY\, ROY ORBISON & JERRY LEE LEWIS\n“A Triple Tribute” 7pm Thurs.\, Jan. 19th & 7pm Fri.\, Jan. 20th \nKing Opera House\, Van Buren\, Arkansas \nBalcony $10 • Gen. Adm. $15 • Premiere Seating $25 \nDavid K sings Roy’s multi-octave range beautifully. He also rocks Buddy’s rockabilly style and beautiful ballads\, then switches from guitar to piano to blast a few hits of Jerry Lee lewis! This one man show is a heartfelt museum tour of exceptional musical memories. \nThis 2 hour show shares tidbits of history from these three legendary careers. See videos at www.royshow.com. \nDavid K has recorded with Joey Molland of Badfinger (Beatles Apple Records)\, and with Phil Solem of The Rembrandts (Friends TV show theme)\, has performed with Dr. Fink of Prince & The Revolution and Jeff Cook of Alabama. He has submitted original songs to Edgar Winter\, Toni Braxton\, Spencer Davis and Jon Anderson of YES. David also performs as Buddy Holly. David is originally from Eden Prairie\, MN but has lived in L.A.\, New York and Nashville pursuing his music endeavors. 
URL:https://vanburen.org/event/a-tribute-to-buddy-holly-roy-orbison-jerry-lee-lewis-by-david-k-2/
LOCATION:AR
END:VEVENT
BEGIN:VEVENT
DTSTART;TZID=UTC:20221209T000000
DTEND;TZID=UTC:20221209T000000
DTSTAMP:20260424T153610
CREATED:20240326T144832Z
LAST-MODIFIED:20240326T144832Z
UID:10000235-1670544000-1670544000@vanburen.org
SUMMARY:SWEETHEART SATURDAY SHOPPING ON MAIN
DESCRIPTION:Come join us for some Second Saturday shopping fun\, spoil yourselves and your loved ones.  Make it a Galentine’s Shopping Day or Sweetheart Day Date.  Spend some time strolling the street shopping and visiting our local merchants and dine in one of our amazing restaurants.While visiting your local merchants don’t forget to collect those stamps on your cards\, to be entered in to our drawing for the prize package\n1- $50 Candy Arrangement from Rydlee’s Roost\n1 – $50 Gift Card from Pointer Brewery\nSpecial Gift Basket worth over $150 in product from our local merchants.
URL:https://vanburen.org/event/sweetheart-saturday-shopping-on-main/
LOCATION:AR
END:VEVENT
BEGIN:VEVENT
DTSTART;TZID=UTC:20221209T000000
DTEND;TZID=UTC:20221209T000000
DTSTAMP:20260424T153610
CREATED:20240326T144833Z
LAST-MODIFIED:20240326T144833Z
UID:10000236-1670544000-1670544000@vanburen.org
SUMMARY:Luck of the Draw Shopping on Main
DESCRIPTION:More details to come.
URL:https://vanburen.org/event/luck-of-the-draw-shopping-on-main/
LOCATION:AR
END:VEVENT
BEGIN:VEVENT
DTSTART;TZID=UTC:20221209T000000
DTEND;TZID=UTC:20221209T000000
DTSTAMP:20260424T153610
CREATED:20240326T144833Z
LAST-MODIFIED:20240326T144833Z
UID:10000237-1670544000-1670544000@vanburen.org
SUMMARY:Easter Shopping on Main
DESCRIPTION:More information to come.
URL:https://vanburen.org/event/easter-shopping-on-main/
LOCATION:AR
END:VEVENT
BEGIN:VEVENT
DTSTART;TZID=UTC:20221209T000000
DTEND;TZID=UTC:20221209T000000
DTSTAMP:20260424T153610
CREATED:20240326T144904Z
LAST-MODIFIED:20240326T144904Z
UID:10000238-1670544000-1670544000@vanburen.org
SUMMARY:OLD TIMERS DAY STEAMPUNK FESTIVAL
DESCRIPTION:MORE INFORMATION TO COME.
URL:https://vanburen.org/event/old-timers-day-steampunk-festival-5/
LOCATION:AR
END:VEVENT
BEGIN:VEVENT
DTSTART;TZID=UTC:20221209T000000
DTEND;TZID=UTC:20221209T000000
DTSTAMP:20260424T153610
CREATED:20240326T144904Z
LAST-MODIFIED:20240326T144904Z
UID:10000239-1670544000-1670544000@vanburen.org
SUMMARY:OLD TIMERS DAY STEAMPUNK FESTIVAL
DESCRIPTION:MORE INFORMATION TO COME.
URL:https://vanburen.org/event/old-timers-day-steampunk-festival-6/
LOCATION:AR
END:VEVENT
BEGIN:VEVENT
DTSTART;TZID=UTC:20221209T000000
DTEND;TZID=UTC:20221209T000000
DTSTAMP:20260424T153610
CREATED:20240326T144904Z
LAST-MODIFIED:20240326T144904Z
UID:10000240-1670544000-1670544000@vanburen.org
SUMMARY:Summer Street Eats Food Truck Festival
DESCRIPTION:More details on the way!
URL:https://vanburen.org/event/summer-street-eats-food-truck-festival/
LOCATION:AR
END:VEVENT
BEGIN:VEVENT
DTSTART;TZID=UTC:20221209T000000
DTEND;TZID=UTC:20221209T000000
DTSTAMP:20260424T153610
CREATED:20240326T144904Z
LAST-MODIFIED:20240326T144904Z
UID:10000241-1670544000-1670544000@vanburen.org
SUMMARY:Second Saturday "Americana Days" Shopping on Main
DESCRIPTION:
URL:https://vanburen.org/event/second-saturday-americana-days-shopping-on-main/
LOCATION:AR
END:VEVENT
BEGIN:VEVENT
DTSTART;TZID=UTC:20221209T000000
DTEND;TZID=UTC:20221209T000000
DTSTAMP:20260424T153610
CREATED:20240326T144905Z
LAST-MODIFIED:20240326T144905Z
UID:10000242-1670544000-1670544000@vanburen.org
SUMMARY:Christmas in July on Main
DESCRIPTION:Details soon!
URL:https://vanburen.org/event/christmas-in-july-on-main/
LOCATION:AR
END:VEVENT
BEGIN:VEVENT
DTSTART;TZID=UTC:20221209T000000
DTEND;TZID=UTC:20221209T000000
DTSTAMP:20260424T153610
CREATED:20240326T145752Z
LAST-MODIFIED:20240326T145753Z
UID:10000243-1670544000-1670544000@vanburen.org
SUMMARY:Back to School Shopping on Main
DESCRIPTION:More information to come.
URL:https://vanburen.org/event/back-to-school-shopping-on-main/
LOCATION:AR
END:VEVENT
BEGIN:VEVENT
DTSTART;TZID=UTC:20221209T000000
DTEND;TZID=UTC:20221209T000000
DTSTAMP:20260424T153610
CREATED:20240326T145753Z
LAST-MODIFIED:20240326T145753Z
UID:10000244-1670544000-1670544000@vanburen.org
SUMMARY:DOWNTOWN JUNKFEST
DESCRIPTION:DETAILS SOON!
URL:https://vanburen.org/event/downtown-junkfest-4/
LOCATION:AR
END:VEVENT
BEGIN:VEVENT
DTSTART;TZID=UTC:20221209T000000
DTEND;TZID=UTC:20221209T000000
DTSTAMP:20260424T153610
CREATED:20240326T145753Z
LAST-MODIFIED:20240326T145753Z
UID:10000245-1670544000-1670544000@vanburen.org
SUMMARY:DOWNTOWN JUNKFEST
DESCRIPTION:DETAILS SOON!
URL:https://vanburen.org/event/downtown-junkfest-5/
LOCATION:AR
END:VEVENT
BEGIN:VEVENT
DTSTART;TZID=UTC:20221209T000000
DTEND;TZID=UTC:20221209T000000
DTSTAMP:20260424T153610
CREATED:20240326T145753Z
LAST-MODIFIED:20240326T145753Z
UID:10000246-1670544000-1670544000@vanburen.org
SUMMARY:FALL FESTIVAL TRADIN' DAYS
DESCRIPTION:MORE INFORMATION SOON!
URL:https://vanburen.org/event/fall-festival-tradin-days-2/
LOCATION:AR
END:VEVENT
BEGIN:VEVENT
DTSTART;TZID=UTC:20221209T000000
DTEND;TZID=UTC:20221209T000000
DTSTAMP:20260424T153610
CREATED:20240326T145753Z
LAST-MODIFIED:20240326T145753Z
UID:10000247-1670544000-1670544000@vanburen.org
SUMMARY:FALL FESTIVAL TRADIN' DAYS
DESCRIPTION:MORE INFORMATION SOON!
URL:https://vanburen.org/event/fall-festival-tradin-days-3/
LOCATION:AR
END:VEVENT
BEGIN:VEVENT
DTSTART;TZID=UTC:20221209T000000
DTEND;TZID=UTC:20221209T000000
DTSTAMP:20260424T153610
CREATED:20240326T145757Z
LAST-MODIFIED:20240326T145757Z
UID:10000248-1670544000-1670544000@vanburen.org
SUMMARY:HALLOWEEN ON MAIN
DESCRIPTION:
URL:https://vanburen.org/event/halloween-on-main-3/
LOCATION:AR
END:VEVENT
BEGIN:VEVENT
DTSTART;TZID=UTC:20221209T000000
DTEND;TZID=UTC:20221209T000000
DTSTAMP:20260424T153610
CREATED:20240326T145757Z
LAST-MODIFIED:20240326T145757Z
UID:10000249-1670544000-1670544000@vanburen.org
SUMMARY:Annual Holiday Open House Girls Night Out in Historic Downtown Van Buren
DESCRIPTION:
URL:https://vanburen.org/event/annual-holiday-open-house-girls-night-out-in-historic-downtown-van-buren/
LOCATION:AR
END:VEVENT
BEGIN:VEVENT
DTSTART;TZID=UTC:20221209T000000
DTEND;TZID=UTC:20221209T000000
DTSTAMP:20260424T153610
CREATED:20240326T145757Z
LAST-MODIFIED:20240326T145757Z
UID:10000250-1670544000-1670544000@vanburen.org
SUMMARY:PLAID FRIDAY
DESCRIPTION:INFORMATION SOON!
URL:https://vanburen.org/event/plaid-friday/
LOCATION:AR
END:VEVENT
BEGIN:VEVENT
DTSTART;TZID=UTC:20221209T000000
DTEND;TZID=UTC:20221209T000000
DTSTAMP:20260424T153610
CREATED:20240326T145757Z
LAST-MODIFIED:20240326T145757Z
UID:10000251-1670544000-1670544000@vanburen.org
SUMMARY:SMALL BUSINESS SATURDAY ON MAIN
DESCRIPTION:DETAILS SOON!
URL:https://vanburen.org/event/small-business-saturday-on-main/
LOCATION:AR
END:VEVENT
BEGIN:VEVENT
DTSTART;TZID=UTC:20221209T000000
DTEND;TZID=UTC:20221209T000000
DTSTAMP:20260424T153610
CREATED:20240326T145757Z
LAST-MODIFIED:20240326T145757Z
UID:10000252-1670544000-1670544000@vanburen.org
SUMMARY:JINGLE & MINGLE ON MAIN
DESCRIPTION:STAY TOONED!
URL:https://vanburen.org/event/jingle-mingle-on-main-5/
LOCATION:AR
END:VEVENT
BEGIN:VEVENT
DTSTART;TZID=UTC:20221209T000000
DTEND;TZID=UTC:20221209T000000
DTSTAMP:20260424T153610
CREATED:20240326T145759Z
LAST-MODIFIED:20240326T145759Z
UID:10000253-1670544000-1670544000@vanburen.org
SUMMARY:HOLIDAY IN WHOVILLE
DESCRIPTION:MORE INFORMATION TO COME!
URL:https://vanburen.org/event/holiday-in-whoville/
LOCATION:AR
END:VEVENT
BEGIN:VEVENT
DTSTART;TZID=UTC:20221209T000000
DTEND;TZID=UTC:20221209T000000
DTSTAMP:20260424T153610
CREATED:20240326T145759Z
LAST-MODIFIED:20240326T145759Z
UID:10000254-1670544000-1670544000@vanburen.org
SUMMARY:Van Buren's Christmas Parade
DESCRIPTION:More details to come!
URL:https://vanburen.org/event/van-burens-christmas-parade-2/
LOCATION:AR
END:VEVENT
BEGIN:VEVENT
DTSTART;TZID=UTC:20221209T000000
DTEND;TZID=UTC:20221209T000000
DTSTAMP:20260424T153610
CREATED:20240326T152623Z
LAST-MODIFIED:20240326T152623Z
UID:10000344-1670544000-1670544000@vanburen.org
SUMMARY:Annual Holiday Open House in Historic Downtown Van Buren
DESCRIPTION:
URL:https://vanburen.org/event/annual-holiday-open-house-in-historic-downtown-van-buren/
LOCATION:AR
END:VEVENT
BEGIN:VEVENT
DTSTART;TZID=America/Chicago:20221209T170000
DTEND;TZID=America/Chicago:20221209T220000
DTSTAMP:20260424T153610
CREATED:20240401T172802Z
LAST-MODIFIED:20240401T172802Z
UID:10000970-1670605200-1670623200@vanburen.org
SUMMARY:Van Buren Christmas Ice Skating Rink
DESCRIPTION:
URL:https://vanburen.org/event/van-buren-christmas-ice-skating-rink-6/
LOCATION:AR
END:VEVENT
BEGIN:VEVENT
DTSTART;TZID=America/Chicago:20221209T173000
DTEND;TZID=America/Chicago:20221209T203000
DTSTAMP:20260424T153610
CREATED:20240401T173205Z
LAST-MODIFIED:20240401T173205Z
UID:10000981-1670607000-1670617800@vanburen.org
SUMMARY:DRENNEN-SCOTT HOLIDAY OPEN HOUSE
DESCRIPTION:5:30 PM-8:30 PM There will be live music\, egg nog\, and Victorian decorations.
URL:https://vanburen.org/event/drennen-scott-holiday-open-house-2/
LOCATION:AR
END:VEVENT
BEGIN:VEVENT
DTSTART;TZID=America/Chicago:20221209T190000
DTEND;TZID=America/Chicago:20221209T190000
DTSTAMP:20260424T153610
CREATED:20240401T171959Z
LAST-MODIFIED:20240401T171959Z
UID:10000952-1670612400-1670612400@vanburen.org
SUMMARY:Rudolph the Red Nosed Reindeer JR by CSA Productions at The King Opera House
DESCRIPTION:
URL:https://vanburen.org/event/rudolph-the-red-nosed-reindeer-jr-by-csa-productions-at-the-king-opera-house-2/
LOCATION:AR
END:VEVENT
BEGIN:VEVENT
DTSTART;TZID=America/Chicago:20221210T100000
DTEND;TZID=America/Chicago:20221210T150000
DTSTAMP:20260424T153610
CREATED:20240401T173406Z
LAST-MODIFIED:20240401T173406Z
UID:10000988-1670666400-1670684400@vanburen.org
SUMMARY:Holiday in Whoville on Main
DESCRIPTION:More information to come.
URL:https://vanburen.org/event/holiday-in-whoville-on-main-2/
LOCATION:AR
END:VEVENT
BEGIN:VEVENT
DTSTART;TZID=America/Chicago:20221210T130000
DTEND;TZID=America/Chicago:20221210T220000
DTSTAMP:20260424T153610
CREATED:20240401T172803Z
LAST-MODIFIED:20240401T172803Z
UID:10000971-1670677200-1670709600@vanburen.org
SUMMARY:Van Buren Christmas Ice Skating Rink
DESCRIPTION:
URL:https://vanburen.org/event/van-buren-christmas-ice-skating-rink-7/
LOCATION:AR
END:VEVENT
BEGIN:VEVENT
DTSTART;TZID=America/Chicago:20221210T140000
DTEND;TZID=America/Chicago:20221210T140000
DTSTAMP:20260424T153610
CREATED:20240401T171959Z
LAST-MODIFIED:20240401T171959Z
UID:10000953-1670680800-1670680800@vanburen.org
SUMMARY:Rudolph the Red Nosed Reindeer JR by CSA Productions at The King Opera House
DESCRIPTION:
URL:https://vanburen.org/event/rudolph-the-red-nosed-reindeer-jr-by-csa-productions-at-the-king-opera-house-3/
LOCATION:AR
END:VEVENT
END:VCALENDAR