BEGIN:VCALENDAR
VERSION:2.0
PRODID:-//Van Buren Advertising &amp; Promotions Commission - ECPv6.15.20//NONSGML v1.0//EN
CALSCALE:GREGORIAN
METHOD:PUBLISH
X-ORIGINAL-URL:https://vanburen.org
X-WR-CALDESC:Events for Van Buren Advertising &amp; Promotions Commission
REFRESH-INTERVAL;VALUE=DURATION:PT1H
X-Robots-Tag:noindex
X-PUBLISHED-TTL:PT1H
BEGIN:VTIMEZONE
TZID:America/Chicago
BEGIN:DAYLIGHT
TZOFFSETFROM:-0600
TZOFFSETTO:-0500
TZNAME:CDT
DTSTART:20210314T080000
END:DAYLIGHT
BEGIN:STANDARD
TZOFFSETFROM:-0500
TZOFFSETTO:-0600
TZNAME:CST
DTSTART:20211107T070000
END:STANDARD
BEGIN:DAYLIGHT
TZOFFSETFROM:-0600
TZOFFSETTO:-0500
TZNAME:CDT
DTSTART:20220313T080000
END:DAYLIGHT
BEGIN:STANDARD
TZOFFSETFROM:-0500
TZOFFSETTO:-0600
TZNAME:CST
DTSTART:20221106T070000
END:STANDARD
BEGIN:DAYLIGHT
TZOFFSETFROM:-0600
TZOFFSETTO:-0500
TZNAME:CDT
DTSTART:20230312T080000
END:DAYLIGHT
BEGIN:STANDARD
TZOFFSETFROM:-0500
TZOFFSETTO:-0600
TZNAME:CST
DTSTART:20231105T070000
END:STANDARD
BEGIN:DAYLIGHT
TZOFFSETFROM:-0600
TZOFFSETTO:-0500
TZNAME:CDT
DTSTART:20240310T080000
END:DAYLIGHT
BEGIN:STANDARD
TZOFFSETFROM:-0500
TZOFFSETTO:-0600
TZNAME:CST
DTSTART:20241103T070000
END:STANDARD
END:VTIMEZONE
BEGIN:VTIMEZONE
TZID:UTC
BEGIN:STANDARD
TZOFFSETFROM:+0000
TZOFFSETTO:+0000
TZNAME:UTC
DTSTART:20210101T000000
END:STANDARD
END:VTIMEZONE
BEGIN:VEVENT
DTSTART;TZID=America/Chicago:20221215T170000
DTEND;TZID=America/Chicago:20221215T210000
DTSTAMP:20260424T154436
CREATED:20240401T172803Z
LAST-MODIFIED:20240401T172803Z
UID:10000972-1671123600-1671138000@vanburen.org
SUMMARY:Van Buren Christmas Ice Skating Rink
DESCRIPTION:
URL:https://vanburen.org/event/van-buren-christmas-ice-skating-rink-8/
LOCATION:AR
END:VEVENT
BEGIN:VEVENT
DTSTART;TZID=America/Chicago:20221215T190000
DTEND;TZID=America/Chicago:20221215T190000
DTSTAMP:20260424T154436
CREATED:20240401T172401Z
LAST-MODIFIED:20240401T172401Z
UID:10000964-1671130800-1671130800@vanburen.org
SUMMARY:A Blane Howard Christmas @ KOH
DESCRIPTION:
URL:https://vanburen.org/event/a-blane-howard-christmas-koh-2/
LOCATION:AR
END:VEVENT
BEGIN:VEVENT
DTSTART;TZID=America/Chicago:20221216T170000
DTEND;TZID=America/Chicago:20221216T220000
DTSTAMP:20260424T154436
CREATED:20240401T172803Z
LAST-MODIFIED:20240401T172803Z
UID:10000973-1671210000-1671228000@vanburen.org
SUMMARY:Van Buren Christmas Ice Skating Rink
DESCRIPTION:
URL:https://vanburen.org/event/van-buren-christmas-ice-skating-rink-9/
LOCATION:AR
END:VEVENT
BEGIN:VEVENT
DTSTART;TZID=America/Chicago:20221217T130000
DTEND;TZID=America/Chicago:20221217T220000
DTSTAMP:20260424T154436
CREATED:20240401T172803Z
LAST-MODIFIED:20240401T172803Z
UID:10000974-1671282000-1671314400@vanburen.org
SUMMARY:Van Buren Christmas Ice Skating Rink
DESCRIPTION:
URL:https://vanburen.org/event/van-buren-christmas-ice-skating-rink-10/
LOCATION:AR
END:VEVENT
BEGIN:VEVENT
DTSTART;TZID=UTC:20221220T000000
DTEND;TZID=UTC:20221220T000000
DTSTAMP:20260424T154436
CREATED:20240326T145800Z
LAST-MODIFIED:20240326T145809Z
UID:10000256-1671494400-1671494400@vanburen.org
SUMMARY:HAUNTED ROOMS AMERICA INVITES YOU TO "King Opera House A Historic Venue Haunted by The Ghost of a Murdered Actor!"
DESCRIPTION:Located on Main Street in the heart of Van Buren’s Historic District\, the King Opera House has entertained the local community for over 140 years.Stories of the paranormal goings-on here have lasted nearly as long\, with reports going back to the early 1900s. Our ghost hunt at this historic opera house will take you back to the Victorian era. Join Haunted Rooms America as we explore the darkness of this incredibly haunted building.\nWhat’s Included?\nYour ghost hunt at The King Opera House includes the following:\nGhost Hunting Vigils\,\nStructured Vigils\,\nGhost Hunt with experienced Ghost Hunting Team\,\nUse of our traditional and state-of-the-art paranormal equipment which includes\, trigger objects and EMF Meters\, and more\,\nPrivate time to explore this location and to undertake your very own private vigils\,\nUnlimited refreshments are available throughout the night\, including Soft Drinks\, and Bottled Water.\nSelection of snacks.
URL:https://vanburen.org/event/haunted-rooms-america-invites-you-to-king-opera-house-a-historic-venue-haunted-by-the-ghost-of-a-murdered-actor/
LOCATION:AR
END:VEVENT
BEGIN:VEVENT
DTSTART;TZID=UTC:20221220T000000
DTEND;TZID=UTC:20221220T000000
DTSTAMP:20260424T154436
CREATED:20240326T145800Z
LAST-MODIFIED:20240326T145800Z
UID:10000257-1671494400-1671494400@vanburen.org
SUMMARY:YAG ALUMNI Holiday Fundraiser Show "A Very Stranger Things Christmas"
DESCRIPTION:
URL:https://vanburen.org/event/yag-alumni-holiday-fundraiser-show-a-very-stranger-things-christmas/
LOCATION:AR
END:VEVENT
BEGIN:VEVENT
DTSTART;TZID=America/Chicago:20221220T190000
DTEND;TZID=America/Chicago:20221220T190000
DTSTAMP:20260424T154436
CREATED:20240401T172159Z
LAST-MODIFIED:20240401T172159Z
UID:10000955-1671562800-1671562800@vanburen.org
SUMMARY:William Lee Martin – Return of the Nutcracker at The King Opera House
DESCRIPTION:William Lee Martin is a prolific stand-up comedian\, writer\, actor\, songwriter and producer. His stand-up work sees him playing to sell out audiences at clubs and theaters around the country. He has produced 5 comedy one-hour specials including “Let the Laughter Roll” which aired on CMT\, and his current hits\, “Standing in the Middle” and “The Nutcracker: a Christmas Special based on his Vasectomy” which both can be streamed on Amazon Prime and Apple TV. He’s best known for signature bits “Grandma’s Pushy” and “Running with Diablo”. Martin’s comedy is authentic and although Martin works clean\, he admits he’s no choir boy. His comic timing is impeccable and he is by far one of the best storytellers working today.\n  \nFor more information contact 479-474-7767
URL:https://vanburen.org/event/william-lee-martin-return-of-the-nutcracker-at-the-king-opera-house-2/
LOCATION:AR
END:VEVENT
BEGIN:VEVENT
DTSTART;TZID=America/Chicago:20221222T170000
DTEND;TZID=America/Chicago:20221222T210000
DTSTAMP:20260424T154436
CREATED:20240401T173003Z
LAST-MODIFIED:20240401T173003Z
UID:10000975-1671728400-1671742800@vanburen.org
SUMMARY:Van Buren Christmas Ice Skating Rink
DESCRIPTION:
URL:https://vanburen.org/event/van-buren-christmas-ice-skating-rink-11/
LOCATION:AR
END:VEVENT
BEGIN:VEVENT
DTSTART;TZID=America/Chicago:20221223T170000
DTEND;TZID=America/Chicago:20221223T220000
DTSTAMP:20260424T154436
CREATED:20240401T173004Z
LAST-MODIFIED:20240401T173004Z
UID:10000976-1671814800-1671832800@vanburen.org
SUMMARY:Van Buren Christmas Ice Skating Rink
DESCRIPTION:
URL:https://vanburen.org/event/van-buren-christmas-ice-skating-rink-12/
LOCATION:AR
END:VEVENT
BEGIN:VEVENT
DTSTART;TZID=America/Chicago:20221223T190000
DTEND;TZID=America/Chicago:20221223T190000
DTSTAMP:20260424T154436
CREATED:20240401T174612Z
LAST-MODIFIED:20240401T174612Z
UID:10001016-1671822000-1671822000@vanburen.org
SUMMARY:YAG ALUMNI Holiday Fundraiser Show "A Very Stranger Things Christmas"
DESCRIPTION:
URL:https://vanburen.org/event/yag-alumni-holiday-fundraiser-show-a-very-stranger-things-christmas-2/
LOCATION:AR
END:VEVENT
BEGIN:VEVENT
DTSTART;TZID=America/Chicago:20221224T130000
DTEND;TZID=America/Chicago:20221224T220000
DTSTAMP:20260424T154436
CREATED:20240401T173004Z
LAST-MODIFIED:20240401T173004Z
UID:10000977-1671886800-1671919200@vanburen.org
SUMMARY:Van Buren Christmas Ice Skating Rink
DESCRIPTION:
URL:https://vanburen.org/event/van-buren-christmas-ice-skating-rink-13/
LOCATION:AR
END:VEVENT
BEGIN:VEVENT
DTSTART;TZID=America/Chicago:20221229T170000
DTEND;TZID=America/Chicago:20221229T210000
DTSTAMP:20260424T154436
CREATED:20240401T173004Z
LAST-MODIFIED:20240401T173004Z
UID:10000978-1672333200-1672347600@vanburen.org
SUMMARY:Van Buren Christmas Ice Skating Rink
DESCRIPTION:
URL:https://vanburen.org/event/van-buren-christmas-ice-skating-rink-14/
LOCATION:AR
END:VEVENT
BEGIN:VEVENT
DTSTART;TZID=America/Chicago:20221230T170000
DTEND;TZID=America/Chicago:20221230T220000
DTSTAMP:20260424T154436
CREATED:20240401T173405Z
LAST-MODIFIED:20240401T173405Z
UID:10000985-1672419600-1672437600@vanburen.org
SUMMARY:Van Buren Christmas Ice Skating Rink
DESCRIPTION:
URL:https://vanburen.org/event/van-buren-christmas-ice-skating-rink-18/
LOCATION:AR
END:VEVENT
BEGIN:VEVENT
DTSTART;TZID=America/Chicago:20230107T200000
DTEND;TZID=America/Chicago:20230108T020000
DTSTAMP:20260424T154436
CREATED:20240401T174612Z
LAST-MODIFIED:20240401T174612Z
UID:10001015-1673121600-1673143200@vanburen.org
SUMMARY:HAUNTED ROOMS AMERICA INVITES YOU TO "King Opera House A Historic Venue Haunted by The Ghost of a Murdered Actor!"
DESCRIPTION:Located on Main Street in the heart of Van Buren’s Historic District\, the King Opera House has entertained the local community for over 140 years.Stories of the paranormal goings-on here have lasted nearly as long\, with reports going back to the early 1900s. Our ghost hunt at this historic opera house will take you back to the Victorian era. Join Haunted Rooms America as we explore the darkness of this incredibly haunted building.\nWhat’s Included?\nYour ghost hunt at The King Opera House includes the following:\nGhost Hunting Vigils\,\nStructured Vigils\,\nGhost Hunt with experienced Ghost Hunting Team\,\nUse of our traditional and state-of-the-art paranormal equipment which includes\, trigger objects and EMF Meters\, and more\,\nPrivate time to explore this location and to undertake your very own private vigils\,\nUnlimited refreshments are available throughout the night\, including Soft Drinks\, and Bottled Water.\nSelection of snacks.
URL:https://vanburen.org/event/haunted-rooms-america-invites-you-to-king-opera-house-a-historic-venue-haunted-by-the-ghost-of-a-murdered-actor-2/
LOCATION:AR
END:VEVENT
BEGIN:VEVENT
DTSTART;TZID=UTC:20230109T000000
DTEND;TZID=UTC:20230109T000000
DTSTAMP:20260424T154436
CREATED:20240326T145809Z
LAST-MODIFIED:20240326T145809Z
UID:10000258-1673222400-1673222400@vanburen.org
SUMMARY:KOH Host POETRY OUT LOUD State Championship
DESCRIPTION:
URL:https://vanburen.org/event/koh-host-poetry-out-loud-state-championship/
LOCATION:AR
END:VEVENT
BEGIN:VEVENT
DTSTART;TZID=UTC:20230109T000000
DTEND;TZID=UTC:20230109T000000
DTSTAMP:20260424T154436
CREATED:20240326T145809Z
LAST-MODIFIED:20240326T145809Z
UID:10000259-1673222400-1673222400@vanburen.org
SUMMARY:Fort Smith Symphony String Quartet – Sonic Dreamscapes at KOH
DESCRIPTION:
URL:https://vanburen.org/event/fort-smith-symphony-string-quartet-sonic-dreamscapes-at-koh/
LOCATION:AR
END:VEVENT
BEGIN:VEVENT
DTSTART;TZID=UTC:20230109T000000
DTEND;TZID=UTC:20230109T000000
DTSTAMP:20260424T154436
CREATED:20240326T145809Z
LAST-MODIFIED:20240326T145809Z
UID:10000260-1673222400-1673222400@vanburen.org
SUMMARY:Gladiator championship Wrestling @ The KOH
DESCRIPTION:
URL:https://vanburen.org/event/gladiator-championship-wrestling-the-koh/
LOCATION:AR
END:VEVENT
BEGIN:VEVENT
DTSTART;TZID=UTC:20230109T000000
DTEND;TZID=UTC:20230109T000000
DTSTAMP:20260424T154436
CREATED:20240326T145815Z
LAST-MODIFIED:20240326T145815Z
UID:10000261-1673222400-1673222400@vanburen.org
SUMMARY:Tribute to the Beatles – Beatlemania64 @ The KOH
DESCRIPTION:Beatlemania64 – A TRIBUTE TO THE BEATLES is a live multi-media spectacular that takes you on a musical journey through the life and times of the world’s most celebrated band. Going further than before\, Beatlemania64 adds even more hits that you know and love from the Beatles touring years such as\, “I Want To Hold Your Hand”\, “Hard Day’s Night”\, and “She Loves You” as well as album favorites like “Nowhere Man”\, and “In My Life”. This stunning live concert event takes you back to Beatlemania in its hayday in the year 1964. The cast of The Four Fabs portrays the legendary foursome delivering a note-for-note theatrical event that is the next best thing to The Beatles. Don’t miss the the cast of Beatlemania64 in it’s 15th year as they take you through The Beatles’ first amazing year – A TRIBUTE TO THE BEATLES.
URL:https://vanburen.org/event/tribute-to-the-beatles-beatlemania64-the-koh/
LOCATION:AR
END:VEVENT
BEGIN:VEVENT
DTSTART;TZID=UTC:20230109T000000
DTEND;TZID=UTC:20230109T000000
DTSTAMP:20260424T154436
CREATED:20240326T145815Z
LAST-MODIFIED:20240326T145815Z
UID:10000262-1673222400-1673222400@vanburen.org
SUMMARY:Western Arkansas Ballet presents Sleeping Beauty Ballet at the King Opera House
DESCRIPTION:More information to come
URL:https://vanburen.org/event/western-arkansas-ballet-presents-sleeping-beauty-ballet-at-the-king-opera-house/
LOCATION:AR
END:VEVENT
BEGIN:VEVENT
DTSTART;TZID=UTC:20230109T000000
DTEND;TZID=UTC:20230109T000000
DTSTAMP:20260424T154436
CREATED:20240326T145815Z
LAST-MODIFIED:20240326T145815Z
UID:10000263-1673222400-1673222400@vanburen.org
SUMMARY:Western Arkansas Ballet presents Sleeping Beauty Ballet at the King Opera House
DESCRIPTION:More information to come
URL:https://vanburen.org/event/western-arkansas-ballet-presents-sleeping-beauty-ballet-at-the-king-opera-house-2/
LOCATION:AR
END:VEVENT
BEGIN:VEVENT
DTSTART;TZID=UTC:20230109T000000
DTEND;TZID=UTC:20230109T000000
DTSTAMP:20260424T154436
CREATED:20240326T145815Z
LAST-MODIFIED:20240326T145815Z
UID:10000264-1673222400-1673222400@vanburen.org
SUMMARY:Western Arkansas Ballet presents Sleeping Beauty Ballet at the King Opera House
DESCRIPTION:More information to come
URL:https://vanburen.org/event/western-arkansas-ballet-presents-sleeping-beauty-ballet-at-the-king-opera-house-3/
LOCATION:AR
END:VEVENT
BEGIN:VEVENT
DTSTART;TZID=UTC:20230109T000000
DTEND;TZID=UTC:20230109T000000
DTSTAMP:20260424T154436
CREATED:20240326T145816Z
LAST-MODIFIED:20240326T145816Z
UID:10000265-1673222400-1673222400@vanburen.org
SUMMARY:Western Arkansas Ballet Spring Concert at The KOH
DESCRIPTION:More information to come.
URL:https://vanburen.org/event/western-arkansas-ballet-spring-concert-at-the-koh/
LOCATION:AR
END:VEVENT
BEGIN:VEVENT
DTSTART;TZID=UTC:20230109T000000
DTEND;TZID=UTC:20230109T000000
DTSTAMP:20260424T154436
CREATED:20240326T150010Z
LAST-MODIFIED:20240326T150010Z
UID:10000266-1673222400-1673222400@vanburen.org
SUMMARY:Community School of the Arts Production: Matilda jr
DESCRIPTION:
URL:https://vanburen.org/event/community-school-of-the-arts-production-matilda-jr/
LOCATION:AR
END:VEVENT
BEGIN:VEVENT
DTSTART;TZID=UTC:20230109T000000
DTEND;TZID=UTC:20230109T000000
DTSTAMP:20260424T154436
CREATED:20240326T150010Z
LAST-MODIFIED:20240326T150010Z
UID:10000267-1673222400-1673222400@vanburen.org
SUMMARY:Community School of the Arts Production: Matilda jr
DESCRIPTION:
URL:https://vanburen.org/event/community-school-of-the-arts-production-matilda-jr-2/
LOCATION:AR
END:VEVENT
BEGIN:VEVENT
DTSTART;TZID=UTC:20230109T000000
DTEND;TZID=UTC:20230109T000000
DTSTAMP:20260424T154436
CREATED:20240326T150010Z
LAST-MODIFIED:20240326T150010Z
UID:10000268-1673222400-1673222400@vanburen.org
SUMMARY:Community School of the Arts Production: Matilda jr
DESCRIPTION:
URL:https://vanburen.org/event/community-school-of-the-arts-production-matilda-jr-3/
LOCATION:AR
END:VEVENT
BEGIN:VEVENT
DTSTART;TZID=UTC:20230109T000000
DTEND;TZID=UTC:20230109T000000
DTSTAMP:20260424T154436
CREATED:20240326T150011Z
LAST-MODIFIED:20240326T150011Z
UID:10000269-1673222400-1673222400@vanburen.org
SUMMARY:The Edwards Twins – the Ultimate Variety Show!      Held at the KOH
DESCRIPTION:Remember all the wonderful Variety shows we all grew up on in the 70’s & 80’s? Now is your chance to see them live and re-created by Las Vegas’ number one impersonators of all time. All your favorite legendary Superstars come alive in An Evening with The Stars. The NBC Today show says “it’s one of the most extra­ordinary shows we have ever seen.” Sonny & Cher\, Billy Joel\, Elton John\, Neil Diamond\, Lionel Richie\, Stevie Wonder\, Ray Charles\, Lady Gaga\, Celine Dion\, Rod Stewart\, Bette Midler\, Barbra Streisand\, Andrea Bocelli\, Tom Jones\, and many many more hosted by THE EDWARDS TWINS FROM LAS VEGAS. All live vocals Each Star sings their number 1 hits as well as of your favorite Songs …\nIn a world of tribute shows and impersonators there is NO other show like The Edwards Twins … PERIOD! \nTwin brothers Anthony and Eddie Edwards are the country’s premiere Celebrity Illusionists! Utilizing the latest Hollywood grade make up and prosthetics as well as the fashion designers of the stars themselves- the end result is a non-stop parade of stars on stage that are all at once AMAZING\, FUNNY and ENTERTAINING. As one newspaper review noted “they bring such love and attention to recreating celebrities that in many ways it’s better than watching the real thing!” \nThe Brothers have been seen on shows such as The Tonight Show\, Entertainment Tonight\, The Today Show\, Ellen and currently appear in the “Kominsky Method” with Michael Douglas and Alan Arkin. The Edwards Twins perform over 250 shows per year around the country and the world. They recent performed 10 packed shows at The World Casino in Singapore and tour the state of Florida to sold out audiences from January until April annually. \nTICKET INFORMATION TO COME!
URL:https://vanburen.org/event/the-edwards-twins-the-ultimate-variety-show-held-at-the-koh/
LOCATION:AR
END:VEVENT
BEGIN:VEVENT
DTSTART;TZID=UTC:20230109T000000
DTEND;TZID=UTC:20230109T000000
DTSTAMP:20260424T154436
CREATED:20240326T150011Z
LAST-MODIFIED:20240326T150011Z
UID:10000270-1673222400-1673222400@vanburen.org
SUMMARY:Dixie’s Tupperware Party
DESCRIPTION:Everyone’s favorite Tupperware lady has traveled the globe not only bringing creative food storage solutions to the masses\, but also sharing laughs\, freshness and inspiring messages of empowerment.  From the living rooms of the south to theaters worldwide\, audiences and critics alike have marveled at this fast-talking\, gum chewing\, red-headed spitfire. She’s one part homemaker\, one part bull rider and one part Oprah Winfrey.  This makes all three of her parts something fantastic to behold.
URL:https://vanburen.org/event/dixies-tupperware-party/
LOCATION:AR
END:VEVENT
BEGIN:VEVENT
DTSTART;TZID=UTC:20230109T000000
DTEND;TZID=UTC:20230109T000000
DTSTAMP:20260424T154436
CREATED:20240326T150016Z
LAST-MODIFIED:20240326T150016Z
UID:10000271-1673222400-1673222400@vanburen.org
SUMMARY:Larry B’s Soul Funk Experience!
DESCRIPTION:The Larry B Experience\, one of his most sought out show\, speaks for itself! Larry B’s strong vocals take your mind back to old skool jams and can dive right into the new with his versatility of songs. He’s not only one of the best voices around\, but he is also a great entertainer! Larry B and his lovely wife Hazel performs as a Duo\, and both will engage you with duets from the past\, and several solos on her own. You will leave the show with gratification knowing you have experienced the joy of great memorable music!
URL:https://vanburen.org/event/larry-bs-soul-funk-experience/
LOCATION:AR
END:VEVENT
BEGIN:VEVENT
DTSTART;TZID=UTC:20230109T000000
DTEND;TZID=UTC:20230109T000000
DTSTAMP:20260424T154436
CREATED:20240326T150016Z
LAST-MODIFIED:20240326T150016Z
UID:10000272-1673222400-1673222400@vanburen.org
SUMMARY:The Remnants of Rock
DESCRIPTION:Rock and Roll was born in the late 1950s\, and by the end of the 1960s\, the music had produced such legends as Elvis Presley\, The Beatles\, The Beach Boys\, Motown and the Memphis sound. The consensus among historians is that the greatest popular music of all time was created during this ten-year period. Unquestionably\, the music defined a generation and continues to be embraced by younger generations. For example\, The Beatles sold approximately 70 million albums between 1963-69\, but have since sold over 2.3 billion albums.\nThe Remnants of Rock is composed of original band members that started out together in 1968\, with the addition of the current keyboard player. The band’s goal is to successfully recreate the music of the 1960s as authentically as possible. Imagine walking into the student union for the homecoming dance on any college campus during the years 1965-1969 and hearing the best dance band you’ve ever heard! Close your eyes and think back\, because this is the performance The Remnants will deliver. The band plays only the top hits from 1959-1969 – which is often called the sweet spot of the era.
URL:https://vanburen.org/event/the-remnants-of-rock/
LOCATION:AR
END:VEVENT
BEGIN:VEVENT
DTSTART;TZID=UTC:20230109T000000
DTEND;TZID=UTC:20230109T000000
DTSTAMP:20260424T154436
CREATED:20240326T150016Z
LAST-MODIFIED:20240326T150016Z
UID:10000273-1673222400-1673222400@vanburen.org
SUMMARY:The Cowboy Ain’t Dead Yet!
DESCRIPTION:An inspiring\, highly acclaimed one man musical comedy about the most fascinating character to ever ride across the pages of history\, the American Cowboy.\nJoe Texas dispels the rumor the cowboy is a dying breed. Through songs\, stories and poems\, Joe will share the true story of the cowboy not the Hollywood version. \nIt is a show not to be missed! Joe sings\, twirls a rope\, plays harmonica\, banjo\, guitar and throws in a few dance steps. His expressions have been compared to the legendary comic\, Red Skelton\, his wit to Will Rogers and his soulful vocal delivery is pure joy to the ear.
URL:https://vanburen.org/event/the-cowboy-aint-dead-yet/
LOCATION:AR
END:VEVENT
END:VCALENDAR