BEGIN:VCALENDAR
VERSION:2.0
PRODID:-//Van Buren Advertising &amp; Promotions Commission - ECPv6.15.20//NONSGML v1.0//EN
CALSCALE:GREGORIAN
METHOD:PUBLISH
X-ORIGINAL-URL:https://vanburen.org
X-WR-CALDESC:Events for Van Buren Advertising &amp; Promotions Commission
REFRESH-INTERVAL;VALUE=DURATION:PT1H
X-Robots-Tag:noindex
X-PUBLISHED-TTL:PT1H
BEGIN:VTIMEZONE
TZID:America/Chicago
BEGIN:DAYLIGHT
TZOFFSETFROM:-0600
TZOFFSETTO:-0500
TZNAME:CDT
DTSTART:20210314T080000
END:DAYLIGHT
BEGIN:STANDARD
TZOFFSETFROM:-0500
TZOFFSETTO:-0600
TZNAME:CST
DTSTART:20211107T070000
END:STANDARD
BEGIN:DAYLIGHT
TZOFFSETFROM:-0600
TZOFFSETTO:-0500
TZNAME:CDT
DTSTART:20220313T080000
END:DAYLIGHT
BEGIN:STANDARD
TZOFFSETFROM:-0500
TZOFFSETTO:-0600
TZNAME:CST
DTSTART:20221106T070000
END:STANDARD
BEGIN:DAYLIGHT
TZOFFSETFROM:-0600
TZOFFSETTO:-0500
TZNAME:CDT
DTSTART:20230312T080000
END:DAYLIGHT
BEGIN:STANDARD
TZOFFSETFROM:-0500
TZOFFSETTO:-0600
TZNAME:CST
DTSTART:20231105T070000
END:STANDARD
END:VTIMEZONE
BEGIN:VTIMEZONE
TZID:UTC
BEGIN:STANDARD
TZOFFSETFROM:+0000
TZOFFSETTO:+0000
TZNAME:UTC
DTSTART:20210101T000000
END:STANDARD
END:VTIMEZONE
BEGIN:VEVENT
DTSTART;TZID=America/Chicago:20221014T193000
DTEND;TZID=America/Chicago:20221014T193000
DTSTAMP:20260424T195010
CREATED:20240401T172200Z
LAST-MODIFIED:20240401T172200Z
UID:10000958-1665775800-1665775800@vanburen.org
SUMMARY:Heart of the King Arkansas A Tribute to Elvis @ KOH
DESCRIPTION:HEART OF THE KING ARKANSAS WEEKEND\nDust off your blue suede shoes and get ready to rock ‘n’ roll at Van Buren’s super fun Elvis Weekend\, HEART OF THE KING WEEKEND\, Friday\, October 14 – Sunday\, October 16\, 2022. The three-day weekend hosted by STARDOM ENTERTAINMENT is at the KING OPERA HOUSE in Downtown VAN BUREN\, ARKANSAS. The Heart of The King features four world-known Elvis Tribute Artist performers\, VICTOR TREVINO\, JR.\, JOSEPH HALL\, MOSES SNOW\, and DAVID ALLEN\, plus SHAKE RATTLE & ROLL and backed by EDGE OF REALITY BAND.
URL:https://vanburen.org/event/heart-of-the-king-arkansas-a-tribute-to-elvis-koh-4/
LOCATION:AR
END:VEVENT
BEGIN:VEVENT
DTSTART;TZID=America/Chicago:20221015T110000
DTEND;TZID=America/Chicago:20221015T140000
DTSTAMP:20260424T195010
CREATED:20240401T171355Z
LAST-MODIFIED:20240401T171355Z
UID:10000936-1665831600-1665842400@vanburen.org
SUMMARY:Ride the Train Van Buren to Winslow
DESCRIPTION:This three-hour\, 70-mile round trip excursion takes you through the ruggedly beautiful Boston Mountain range of the Ozarks\, over three valley trestles and through the 1700-foot-long Winslow tunnel.
URL:https://vanburen.org/event/ride-the-train-van-buren-to-winslow-54/
LOCATION:AR
END:VEVENT
BEGIN:VEVENT
DTSTART;TZID=America/Chicago:20221015T193000
DTEND;TZID=America/Chicago:20221015T193000
DTSTAMP:20260424T195010
CREATED:20240401T172200Z
LAST-MODIFIED:20240401T172200Z
UID:10000959-1665862200-1665862200@vanburen.org
SUMMARY:Heart of the King Arkansas A Tribute to Elvis @ KOH
DESCRIPTION:HEART OF THE KING ARKANSAS WEEKEND\nDust off your blue suede shoes and get ready to rock ‘n’ roll at Van Buren’s super fun Elvis Weekend\, HEART OF THE KING WEEKEND\, Friday\, October 14 – Sunday\, October 16\, 2022. The three-day weekend hosted by STARDOM ENTERTAINMENT is at the KING OPERA HOUSE in Downtown VAN BUREN\, ARKANSAS. The Heart of The King features four world-known Elvis Tribute Artist performers\, VICTOR TREVINO\, JR.\, JOSEPH HALL\, MOSES SNOW\, and DAVID ALLEN\, plus SHAKE RATTLE & ROLL and backed by EDGE OF REALITY BAND.
URL:https://vanburen.org/event/heart-of-the-king-arkansas-a-tribute-to-elvis-koh-5/
LOCATION:AR
END:VEVENT
BEGIN:VEVENT
DTSTART;TZID=America/Chicago:20221016T130000
DTEND;TZID=America/Chicago:20221016T130000
DTSTAMP:20260424T195010
CREATED:20240401T172400Z
LAST-MODIFIED:20240401T172400Z
UID:10000960-1665925200-1665925200@vanburen.org
SUMMARY:Heart of the King Arkansas A Tribute to Elvis @ KOH
DESCRIPTION:HEART OF THE KING ARKANSAS WEEKEND\nDust off your blue suede shoes and get ready to rock ‘n’ roll at Van Buren’s super fun Elvis Weekend\, HEART OF THE KING WEEKEND\, Friday\, October 14 – Sunday\, October 16\, 2022. The three-day weekend hosted by STARDOM ENTERTAINMENT is at the KING OPERA HOUSE in Downtown VAN BUREN\, ARKANSAS. The Heart of The King features four world-known Elvis Tribute Artist performers\, VICTOR TREVINO\, JR.\, JOSEPH HALL\, MOSES SNOW\, and DAVID ALLEN\, plus SHAKE RATTLE & ROLL and backed by EDGE OF REALITY BAND.
URL:https://vanburen.org/event/heart-of-the-king-arkansas-a-tribute-to-elvis-koh-6/
LOCATION:AR
END:VEVENT
BEGIN:VEVENT
DTSTART;TZID=UTC:20221017T000000
DTEND;TZID=UTC:20221017T000000
DTSTAMP:20260424T195011
CREATED:20240326T144631Z
LAST-MODIFIED:20240326T144631Z
UID:10000224-1665964800-1665964800@vanburen.org
SUMMARY:Holiday Open House
DESCRIPTION:
URL:https://vanburen.org/event/holiday-open-house-2/
LOCATION:AR
END:VEVENT
BEGIN:VEVENT
DTSTART;TZID=UTC:20221017T000000
DTEND;TZID=UTC:20221017T000000
DTSTAMP:20260424T195011
CREATED:20240326T144631Z
LAST-MODIFIED:20240326T144631Z
UID:10000225-1665964800-1665964800@vanburen.org
SUMMARY:Holiday Open House
DESCRIPTION:
URL:https://vanburen.org/event/holiday-open-house-3/
LOCATION:AR
END:VEVENT
BEGIN:VEVENT
DTSTART;TZID=UTC:20221017T000000
DTEND;TZID=UTC:20221017T000000
DTSTAMP:20260424T195011
CREATED:20240326T144632Z
LAST-MODIFIED:20240326T144632Z
UID:10000226-1665964800-1665964800@vanburen.org
SUMMARY:DRENNEN-SCOTT HOLIDAY OPEN HOUSE
DESCRIPTION:5:30 PM-8:30 PM There will be live music\, egg nog\, and Victorian decorations.
URL:https://vanburen.org/event/drennen-scott-holiday-open-house/
LOCATION:AR
END:VEVENT
BEGIN:VEVENT
DTSTART;TZID=America/Chicago:20221019T110000
DTEND;TZID=America/Chicago:20221019T140000
DTSTAMP:20260424T195011
CREATED:20240401T171356Z
LAST-MODIFIED:20240401T171356Z
UID:10000937-1666177200-1666188000@vanburen.org
SUMMARY:Ride the Train Van Buren to Winslow
DESCRIPTION:This three-hour\, 70-mile round trip excursion takes you through the ruggedly beautiful Boston Mountain range of the Ozarks\, over three valley trestles and through the 1700-foot-long Winslow tunnel.
URL:https://vanburen.org/event/ride-the-train-van-buren-to-winslow-55/
LOCATION:AR
END:VEVENT
BEGIN:VEVENT
DTSTART;TZID=America/Chicago:20221020T110000
DTEND;TZID=America/Chicago:20221020T140000
DTSTAMP:20260424T195011
CREATED:20240401T171356Z
LAST-MODIFIED:20240401T171356Z
UID:10000938-1666263600-1666274400@vanburen.org
SUMMARY:Ride the Train Van Buren to Winslow
DESCRIPTION:This three-hour\, 70-mile round trip excursion takes you through the ruggedly beautiful Boston Mountain range of the Ozarks\, over three valley trestles and through the 1700-foot-long Winslow tunnel.
URL:https://vanburen.org/event/ride-the-train-van-buren-to-winslow-56/
LOCATION:AR
END:VEVENT
BEGIN:VEVENT
DTSTART;TZID=America/Chicago:20221021T110000
DTEND;TZID=America/Chicago:20221021T140000
DTSTAMP:20260424T195011
CREATED:20240401T171356Z
LAST-MODIFIED:20240401T171356Z
UID:10000939-1666350000-1666360800@vanburen.org
SUMMARY:Ride the Train Van Buren to Winslow
DESCRIPTION:This three-hour\, 70-mile round trip excursion takes you through the ruggedly beautiful Boston Mountain range of the Ozarks\, over three valley trestles and through the 1700-foot-long Winslow tunnel.
URL:https://vanburen.org/event/ride-the-train-van-buren-to-winslow-57/
LOCATION:AR
END:VEVENT
BEGIN:VEVENT
DTSTART;VALUE=DATE:20221022
DTEND;VALUE=DATE:20221023
DTSTAMP:20260424T195011
CREATED:20240401T164902Z
LAST-MODIFIED:20240401T164902Z
UID:10000882-1666396800-1666483199@vanburen.org
SUMMARY:Coughran's Hot Rod Shop Auto Show
DESCRIPTION:MORE INFORMATION TO COME!
URL:https://vanburen.org/event/coughrans-hot-rod-shop-auto-show-4/
LOCATION:AR
END:VEVENT
BEGIN:VEVENT
DTSTART;VALUE=DATE:20221022
DTEND;VALUE=DATE:20221023
DTSTAMP:20260424T195011
CREATED:20240401T170953Z
LAST-MODIFIED:20240401T170953Z
UID:10000927-1666396800-1666483199@vanburen.org
SUMMARY:5th Annual Coughran's Hot Rod Shop Auto Show Presented by Broadway Motors
DESCRIPTION:Coughran Auto Show 2022
URL:https://vanburen.org/event/5th-annual-coughrans-hot-rod-shop-auto-show-presented-by-broadway-motors-2/
LOCATION:AR
END:VEVENT
BEGIN:VEVENT
DTSTART;TZID=America/Chicago:20221022T110000
DTEND;TZID=America/Chicago:20221022T140000
DTSTAMP:20260424T195011
CREATED:20240401T171557Z
LAST-MODIFIED:20240401T171557Z
UID:10000940-1666436400-1666447200@vanburen.org
SUMMARY:Ride the Train Van Buren to Winslow
DESCRIPTION:This three-hour\, 70-mile round trip excursion takes you through the ruggedly beautiful Boston Mountain range of the Ozarks\, over three valley trestles and through the 1700-foot-long Winslow tunnel.
URL:https://vanburen.org/event/ride-the-train-van-buren-to-winslow-58/
LOCATION:AR
END:VEVENT
BEGIN:VEVENT
DTSTART;TZID=America/Chicago:20221027T190000
DTEND;TZID=America/Chicago:20221027T190000
DTSTAMP:20260424T195011
CREATED:20240401T172601Z
LAST-MODIFIED:20240401T172601Z
UID:10000965-1666897200-1666897200@vanburen.org
SUMMARY:Descendants the Musical Presented by Young Actor Guild @ KOH
DESCRIPTION:
URL:https://vanburen.org/event/descendants-the-musical-presented-by-young-actor-guild-koh-4/
LOCATION:AR
END:VEVENT
BEGIN:VEVENT
DTSTART;TZID=America/Chicago:20221028T190000
DTEND;TZID=America/Chicago:20221028T190000
DTSTAMP:20260424T195011
CREATED:20240401T172602Z
LAST-MODIFIED:20240401T172602Z
UID:10000966-1666983600-1666983600@vanburen.org
SUMMARY:Descendants the Musical Presented by Young Actor Guild @ KOH
DESCRIPTION:
URL:https://vanburen.org/event/descendants-the-musical-presented-by-young-actor-guild-koh-5/
LOCATION:AR
END:VEVENT
BEGIN:VEVENT
DTSTART;TZID=America/Chicago:20221029T110000
DTEND;TZID=America/Chicago:20221029T140000
DTSTAMP:20260424T195011
CREATED:20240401T171557Z
LAST-MODIFIED:20240401T171557Z
UID:10000941-1667041200-1667052000@vanburen.org
SUMMARY:Ride the Train Van Buren to Winslow
DESCRIPTION:This three-hour\, 70-mile round trip excursion takes you through the ruggedly beautiful Boston Mountain range of the Ozarks\, over three valley trestles and through the 1700-foot-long Winslow tunnel.
URL:https://vanburen.org/event/ride-the-train-van-buren-to-winslow-59/
LOCATION:AR
END:VEVENT
BEGIN:VEVENT
DTSTART;TZID=America/Chicago:20221029T143000
DTEND;TZID=America/Chicago:20221029T143000
DTSTAMP:20260424T195011
CREATED:20240401T172602Z
LAST-MODIFIED:20240401T172602Z
UID:10000967-1667053800-1667053800@vanburen.org
SUMMARY:Descendants the Musical Presented by Young Actor Guild @ KOH
DESCRIPTION:
URL:https://vanburen.org/event/descendants-the-musical-presented-by-young-actor-guild-koh-6/
LOCATION:AR
END:VEVENT
BEGIN:VEVENT
DTSTART;TZID=America/Chicago:20221029T180000
DTEND;TZID=America/Chicago:20221029T180000
DTSTAMP:20260424T195011
CREATED:20240401T164918Z
LAST-MODIFIED:20240401T164918Z
UID:10000888-1667066400-1667066400@vanburen.org
SUMMARY:Halloween on Main
DESCRIPTION:For More Information contact 479-922-6862.
URL:https://vanburen.org/event/halloween-on-main-5/
LOCATION:AR
END:VEVENT
BEGIN:VEVENT
DTSTART;TZID=America/Chicago:20221029T190000
DTEND;TZID=America/Chicago:20221029T190000
DTSTAMP:20260424T195011
CREATED:20240401T172602Z
LAST-MODIFIED:20240401T172602Z
UID:10000968-1667070000-1667070000@vanburen.org
SUMMARY:Descendants the Musical Presented by Young Actor Guild @ KOH
DESCRIPTION:
URL:https://vanburen.org/event/descendants-the-musical-presented-by-young-actor-guild-koh-7/
LOCATION:AR
END:VEVENT
BEGIN:VEVENT
DTSTART;TZID=America/Chicago:20221102T110000
DTEND;TZID=America/Chicago:20221102T140000
DTSTAMP:20260424T195011
CREATED:20240401T171557Z
LAST-MODIFIED:20240401T171557Z
UID:10000943-1667386800-1667397600@vanburen.org
SUMMARY:Ride the Train Van Buren to Winslow
DESCRIPTION:This three-hour\, 70-mile round trip excursion takes you through the ruggedly beautiful Boston Mountain range of the Ozarks\, over three valley trestles and through the 1700-foot-long Winslow tunnel.
URL:https://vanburen.org/event/ride-the-train-van-buren-to-winslow-61/
LOCATION:AR
END:VEVENT
BEGIN:VEVENT
DTSTART;TZID=America/Chicago:20221105T110000
DTEND;TZID=America/Chicago:20221105T140000
DTSTAMP:20260424T195011
CREATED:20240401T171557Z
LAST-MODIFIED:20240401T171557Z
UID:10000944-1667646000-1667656800@vanburen.org
SUMMARY:Ride the Train Van Buren to Winslow
DESCRIPTION:This three-hour\, 70-mile round trip excursion takes you through the ruggedly beautiful Boston Mountain range of the Ozarks\, over three valley trestles and through the 1700-foot-long Winslow tunnel.
URL:https://vanburen.org/event/ride-the-train-van-buren-to-winslow-62/
LOCATION:AR
END:VEVENT
BEGIN:VEVENT
DTSTART;TZID=America/Chicago:20221105T190000
DTEND;TZID=America/Chicago:20221105T210000
DTSTAMP:20260424T195011
CREATED:20240401T172401Z
LAST-MODIFIED:20240401T172401Z
UID:10000962-1667674800-1667682000@vanburen.org
SUMMARY:The King Opera House Presents Even Keel "Castaway Cruise"
DESCRIPTION:Even Keel takes you on a 2-hour musical cruise to the islands as they perform all of your favorite “dune tunes” from the 50’s to today!
URL:https://vanburen.org/event/the-king-opera-house-presents-even-keel-castaway-cruise-2/
LOCATION:AR
END:VEVENT
BEGIN:VEVENT
DTSTART;TZID=America/Chicago:20221111T110000
DTEND;TZID=America/Chicago:20221111T140000
DTSTAMP:20260424T195011
CREATED:20240401T171757Z
LAST-MODIFIED:20240401T171757Z
UID:10000945-1668164400-1668175200@vanburen.org
SUMMARY:Ride the Train Van Buren to Winslow
DESCRIPTION:This three-hour\, 70-mile round trip excursion takes you through the ruggedly beautiful Boston Mountain range of the Ozarks\, over three valley trestles and through the 1700-foot-long Winslow tunnel.
URL:https://vanburen.org/event/ride-the-train-van-buren-to-winslow-63/
LOCATION:AR
END:VEVENT
BEGIN:VEVENT
DTSTART;TZID=America/Chicago:20221111T160000
DTEND;TZID=America/Chicago:20221111T190000
DTSTAMP:20260424T195011
CREATED:20240401T173204Z
LAST-MODIFIED:20240401T173204Z
UID:10000979-1668182400-1668193200@vanburen.org
SUMMARY:Holiday Open House
DESCRIPTION:
URL:https://vanburen.org/event/holiday-open-house-6/
LOCATION:AR
END:VEVENT
BEGIN:VEVENT
DTSTART;TZID=America/Chicago:20221112T100000
DTEND;TZID=America/Chicago:20221112T100000
DTSTAMP:20260424T195011
CREATED:20240401T171958Z
LAST-MODIFIED:20240401T171958Z
UID:10000951-1668247200-1668247200@vanburen.org
SUMMARY:MISS RIVER VALLEY'S Winter Wonderland Pageant 2022
DESCRIPTION:
URL:https://vanburen.org/event/miss-river-valleys-winter-wonderland-pageant-2022-2/
LOCATION:AR
END:VEVENT
BEGIN:VEVENT
DTSTART;TZID=America/Chicago:20221112T100000
DTEND;TZID=America/Chicago:20221112T180000
DTSTAMP:20260424T195011
CREATED:20240401T164114Z
LAST-MODIFIED:20240401T164114Z
UID:10000856-1668247200-1668276000@vanburen.org
SUMMARY:Second Saturday Shopping
DESCRIPTION:These days are full of shopping\, dinning\, and strolling the streets to find those sweet deals. Each month there is usually a different theme with live music\, food trucks and street vendors.
URL:https://vanburen.org/event/second-saturday-shopping-9/
LOCATION:AR
END:VEVENT
BEGIN:VEVENT
DTSTART;TZID=America/Chicago:20221112T100000
DTEND;TZID=America/Chicago:20221112T180000
DTSTAMP:20260424T195011
CREATED:20240401T173204Z
LAST-MODIFIED:20240401T173204Z
UID:10000980-1668247200-1668276000@vanburen.org
SUMMARY:Holiday Open House
DESCRIPTION:
URL:https://vanburen.org/event/holiday-open-house-7/
LOCATION:AR
END:VEVENT
BEGIN:VEVENT
DTSTART;TZID=America/Chicago:20221112T110000
DTEND;TZID=America/Chicago:20221112T140000
DTSTAMP:20260424T195011
CREATED:20240401T171757Z
LAST-MODIFIED:20240401T171757Z
UID:10000946-1668250800-1668261600@vanburen.org
SUMMARY:Ride the Train Van Buren to Winslow
DESCRIPTION:This three-hour\, 70-mile round trip excursion takes you through the ruggedly beautiful Boston Mountain range of the Ozarks\, over three valley trestles and through the 1700-foot-long Winslow tunnel.
URL:https://vanburen.org/event/ride-the-train-van-buren-to-winslow-64/
LOCATION:AR
END:VEVENT
BEGIN:VEVENT
DTSTART;TZID=America/Chicago:20221113T140000
DTEND;TZID=America/Chicago:20221113T140000
DTSTAMP:20260424T195011
CREATED:20240401T164918Z
LAST-MODIFIED:20240401T164918Z
UID:10000889-1668348000-1668348000@vanburen.org
SUMMARY:20th Annual Van Buren Veterans Day Parade
DESCRIPTION:For information regarding the parade please contact parade organizer vbvetparade@gmail.com or 479.652.3374
URL:https://vanburen.org/event/20th-annual-van-buren-veterans-day-parade-2/
LOCATION:AR
END:VEVENT
BEGIN:VEVENT
DTSTART;TZID=UTC:20221115T000000
DTEND;TZID=UTC:20221115T000000
DTSTAMP:20260424T195011
CREATED:20240326T144645Z
LAST-MODIFIED:20240326T144645Z
UID:10000227-1668470400-1668470400@vanburen.org
SUMMARY:17th Annual Festival of Trees Presented by The Rotary Club of Van Buren
DESCRIPTION:
URL:https://vanburen.org/event/17th-annual-festival-of-trees-presented-by-the-rotary-club-of-van-buren/
LOCATION:AR
END:VEVENT
END:VCALENDAR