BEGIN:VCALENDAR
VERSION:2.0
PRODID:-//Van Buren Advertising &amp; Promotions Commission - ECPv6.15.20//NONSGML v1.0//EN
CALSCALE:GREGORIAN
METHOD:PUBLISH
X-ORIGINAL-URL:https://vanburen.org
X-WR-CALDESC:Events for Van Buren Advertising &amp; Promotions Commission
REFRESH-INTERVAL;VALUE=DURATION:PT1H
X-Robots-Tag:noindex
X-PUBLISHED-TTL:PT1H
BEGIN:VTIMEZONE
TZID:UTC
BEGIN:STANDARD
TZOFFSETFROM:+0000
TZOFFSETTO:+0000
TZNAME:UTC
DTSTART:20230101T000000
END:STANDARD
END:VTIMEZONE
BEGIN:VTIMEZONE
TZID:America/Chicago
BEGIN:DAYLIGHT
TZOFFSETFROM:-0600
TZOFFSETTO:-0500
TZNAME:CDT
DTSTART:20230312T080000
END:DAYLIGHT
BEGIN:STANDARD
TZOFFSETFROM:-0500
TZOFFSETTO:-0600
TZNAME:CST
DTSTART:20231105T070000
END:STANDARD
BEGIN:DAYLIGHT
TZOFFSETFROM:-0600
TZOFFSETTO:-0500
TZNAME:CDT
DTSTART:20240310T080000
END:DAYLIGHT
BEGIN:STANDARD
TZOFFSETFROM:-0500
TZOFFSETTO:-0600
TZNAME:CST
DTSTART:20241103T070000
END:STANDARD
BEGIN:DAYLIGHT
TZOFFSETFROM:-0600
TZOFFSETTO:-0500
TZNAME:CDT
DTSTART:20250309T080000
END:DAYLIGHT
BEGIN:STANDARD
TZOFFSETFROM:-0500
TZOFFSETTO:-0600
TZNAME:CST
DTSTART:20251102T070000
END:STANDARD
END:VTIMEZONE
BEGIN:VEVENT
DTSTART;TZID=UTC:20240206T000000
DTEND;TZID=UTC:20240206T000000
DTSTAMP:20260421T162056
CREATED:20240326T152954Z
LAST-MODIFIED:20240326T153009Z
UID:10000369-1707177600-1707177600@vanburen.org
SUMMARY:Steel Magnolias......@ KOH
DESCRIPTION:The action is set in Truvy’s beauty salon in Chinquapin\, Louisiana\, where all the ladies who are “anybody” come to have their hair done. Helped by her eager new assistant\, Annelle (who is not sure whether or not she is still married)\, the outspoken\, wise-cracking Truvy dispenses shampoos and free advice to the town’s rich curmudgeon\, Ouiser\, (“I’m not crazy\, I’ve just been in a bad mood for forty years”); an eccentric millionaire\, Miss Clairee\, who has a raging sweet tooth; and the local social leader\, M’Lynn\, whose daughter\, Shelby (the prettiest girl in town)\, is about to marry a “good ole boy.” Filled with hilarious repartee and not a few acerbic but humorously revealing verbal collisions\, the play moves toward tragedy when\, in the second act\, the spunky Shelby (who is a diabetic) risks pregnancy and forfeits her life. The sudden realization of their mortality affects the others\, but also draws on the underlying strength—and love—which give the play\, and its characters\, the special quality to make them truly touching\, funny and marvelously amiable company in good times and bad.
URL:https://vanburen.org/event/steel-magnolias-koh/
LOCATION:AR
END:VEVENT
BEGIN:VEVENT
DTSTART;TZID=UTC:20240206T000000
DTEND;TZID=UTC:20240206T000000
DTSTAMP:20260421T162056
CREATED:20240326T152954Z
LAST-MODIFIED:20240326T152954Z
UID:10000370-1707177600-1707177600@vanburen.org
SUMMARY:Steel Magnolias......@ KOH
DESCRIPTION:The action is set in Truvy’s beauty salon in Chinquapin\, Louisiana\, where all the ladies who are “anybody” come to have their hair done. Helped by her eager new assistant\, Annelle (who is not sure whether or not she is still married)\, the outspoken\, wise-cracking Truvy dispenses shampoos and free advice to the town’s rich curmudgeon\, Ouiser\, (“I’m not crazy\, I’ve just been in a bad mood for forty years”); an eccentric millionaire\, Miss Clairee\, who has a raging sweet tooth; and the local social leader\, M’Lynn\, whose daughter\, Shelby (the prettiest girl in town)\, is about to marry a “good ole boy.” Filled with hilarious repartee and not a few acerbic but humorously revealing verbal collisions\, the play moves toward tragedy when\, in the second act\, the spunky Shelby (who is a diabetic) risks pregnancy and forfeits her life. The sudden realization of their mortality affects the others\, but also draws on the underlying strength—and love—which give the play\, and its characters\, the special quality to make them truly touching\, funny and marvelously amiable company in good times and bad.
URL:https://vanburen.org/event/steel-magnolias-koh-2/
LOCATION:AR
END:VEVENT
BEGIN:VEVENT
DTSTART;TZID=UTC:20240206T000000
DTEND;TZID=UTC:20240206T000000
DTSTAMP:20260421T162056
CREATED:20240326T152954Z
LAST-MODIFIED:20240326T152954Z
UID:10000371-1707177600-1707177600@vanburen.org
SUMMARY:Steel Magnolias......@ KOH
DESCRIPTION:The action is set in Truvy’s beauty salon in Chinquapin\, Louisiana\, where all the ladies who are “anybody” come to have their hair done. Helped by her eager new assistant\, Annelle (who is not sure whether or not she is still married)\, the outspoken\, wise-cracking Truvy dispenses shampoos and free advice to the town’s rich curmudgeon\, Ouiser\, (“I’m not crazy\, I’ve just been in a bad mood for forty years”); an eccentric millionaire\, Miss Clairee\, who has a raging sweet tooth; and the local social leader\, M’Lynn\, whose daughter\, Shelby (the prettiest girl in town)\, is about to marry a “good ole boy.” Filled with hilarious repartee and not a few acerbic but humorously revealing verbal collisions\, the play moves toward tragedy when\, in the second act\, the spunky Shelby (who is a diabetic) risks pregnancy and forfeits her life. The sudden realization of their mortality affects the others\, but also draws on the underlying strength—and love—which give the play\, and its characters\, the special quality to make them truly touching\, funny and marvelously amiable company in good times and bad.
URL:https://vanburen.org/event/steel-magnolias-koh-3/
LOCATION:AR
END:VEVENT
BEGIN:VEVENT
DTSTART;TZID=UTC:20240206T000000
DTEND;TZID=UTC:20240206T000000
DTSTAMP:20260421T162056
CREATED:20240326T152954Z
LAST-MODIFIED:20240326T152954Z
UID:10000372-1707177600-1707177600@vanburen.org
SUMMARY:Steel Magnolias......@ KOH
DESCRIPTION:The action is set in Truvy’s beauty salon in Chinquapin\, Louisiana\, where all the ladies who are “anybody” come to have their hair done. Helped by her eager new assistant\, Annelle (who is not sure whether or not she is still married)\, the outspoken\, wise-cracking Truvy dispenses shampoos and free advice to the town’s rich curmudgeon\, Ouiser\, (“I’m not crazy\, I’ve just been in a bad mood for forty years”); an eccentric millionaire\, Miss Clairee\, who has a raging sweet tooth; and the local social leader\, M’Lynn\, whose daughter\, Shelby (the prettiest girl in town)\, is about to marry a “good ole boy.” Filled with hilarious repartee and not a few acerbic but humorously revealing verbal collisions\, the play moves toward tragedy when\, in the second act\, the spunky Shelby (who is a diabetic) risks pregnancy and forfeits her life. The sudden realization of their mortality affects the others\, but also draws on the underlying strength—and love—which give the play\, and its characters\, the special quality to make them truly touching\, funny and marvelously amiable company in good times and bad.
URL:https://vanburen.org/event/steel-magnolias-koh-4/
LOCATION:AR
END:VEVENT
BEGIN:VEVENT
DTSTART;TZID=UTC:20240206T000000
DTEND;TZID=UTC:20240206T000000
DTSTAMP:20260421T162056
CREATED:20240326T152954Z
LAST-MODIFIED:20240326T152954Z
UID:10000373-1707177600-1707177600@vanburen.org
SUMMARY:Steel Magnolias......@ KOH
DESCRIPTION:The action is set in Truvy’s beauty salon in Chinquapin\, Louisiana\, where all the ladies who are “anybody” come to have their hair done. Helped by her eager new assistant\, Annelle (who is not sure whether or not she is still married)\, the outspoken\, wise-cracking Truvy dispenses shampoos and free advice to the town’s rich curmudgeon\, Ouiser\, (“I’m not crazy\, I’ve just been in a bad mood for forty years”); an eccentric millionaire\, Miss Clairee\, who has a raging sweet tooth; and the local social leader\, M’Lynn\, whose daughter\, Shelby (the prettiest girl in town)\, is about to marry a “good ole boy.” Filled with hilarious repartee and not a few acerbic but humorously revealing verbal collisions\, the play moves toward tragedy when\, in the second act\, the spunky Shelby (who is a diabetic) risks pregnancy and forfeits her life. The sudden realization of their mortality affects the others\, but also draws on the underlying strength—and love—which give the play\, and its characters\, the special quality to make them truly touching\, funny and marvelously amiable company in good times and bad.
URL:https://vanburen.org/event/steel-magnolias-koh-5/
LOCATION:AR
END:VEVENT
BEGIN:VEVENT
DTSTART;TZID=UTC:20240206T000000
DTEND;TZID=UTC:20240206T000000
DTSTAMP:20260421T162056
CREATED:20240326T153009Z
LAST-MODIFIED:20240326T153009Z
UID:10000374-1707177600-1707177600@vanburen.org
SUMMARY:Ride the Train\, Van Buren to Winslow
DESCRIPTION:This three-hour\, 70 mile round trip excursion takes you through the ruggedly beautiful Boston Mountain range of the Ozarks\, over three valley trestles and through the 1700-foot long Winslow tunnel for some of the most breathtaking scenery you are likely to see in ‘The Natural State’.\n \nDeparts Van Buren 11:00am  \n– Boston Mountains\, Trestles\, Tunnel \n– Three hour round trip \nTicket types\n \nSilver Feather – 108: Silver Feather Premium is a 1940’s style car with a 360° Dome top view with booth/table top seating\, a downstairs dining area with chair/table top seating and a downstairs lounge. \n\nIncludes lunch\, drink and dessert\nGuests may book seats either upstairs in the Vista Dome or downstairs\n\n                                                                                                                                                        \n  \nPremium – #107 & #109: Premium Service includes either 1950’s diner car with booth/table top seating or 1950’s parlor car with chair/table top seating and a back platform for photography (weather permitting). \n\n Includes lunch\, drink\, and dessert\nParties of two may share a table with other guests\n\n  \n \nVintage Coach – #105 & #106: Coach Service is in our 1920’s vintage car with reversible seating and windows on all sides for the perfect view. Ticket includes round trip excursion with snacks and beverages available for purchase\n \n\nCoach: Snacks and drinks available for purchase\nCoach with lunch: Includes box lunch\, drink and dessert
URL:https://vanburen.org/event/ride-the-train-van-buren-to-winslow-16/
LOCATION:AR
END:VEVENT
BEGIN:VEVENT
DTSTART;TZID=UTC:20240206T000000
DTEND;TZID=UTC:20240206T000000
DTSTAMP:20260421T162056
CREATED:20240326T153009Z
LAST-MODIFIED:20240326T153009Z
UID:10000375-1707177600-1707177600@vanburen.org
SUMMARY:Ride the Train\, Van Buren to Winslow
DESCRIPTION:This three-hour\, 70 mile round trip excursion takes you through the ruggedly beautiful Boston Mountain range of the Ozarks\, over three valley trestles and through the 1700-foot long Winslow tunnel for some of the most breathtaking scenery you are likely to see in ‘The Natural State’.\n \nDeparts Van Buren 11:00am  \n– Boston Mountains\, Trestles\, Tunnel \n– Three hour round trip \nTicket types\n \nSilver Feather – 108: Silver Feather Premium is a 1940’s style car with a 360° Dome top view with booth/table top seating\, a downstairs dining area with chair/table top seating and a downstairs lounge. \n\nIncludes lunch\, drink and dessert\nGuests may book seats either upstairs in the Vista Dome or downstairs\n\n                                                                                                                                                        \n  \nPremium – #107 & #109: Premium Service includes either 1950’s diner car with booth/table top seating or 1950’s parlor car with chair/table top seating and a back platform for photography (weather permitting). \n\n Includes lunch\, drink\, and dessert\nParties of two may share a table with other guests\n\n  \n \nVintage Coach – #105 & #106: Coach Service is in our 1920’s vintage car with reversible seating and windows on all sides for the perfect view. Ticket includes round trip excursion with snacks and beverages available for purchase\n \n\nCoach: Snacks and drinks available for purchase\nCoach with lunch: Includes box lunch\, drink and dessert
URL:https://vanburen.org/event/ride-the-train-van-buren-to-winslow-17/
LOCATION:AR
END:VEVENT
BEGIN:VEVENT
DTSTART;TZID=UTC:20240206T000000
DTEND;TZID=UTC:20240206T000000
DTSTAMP:20260421T162056
CREATED:20240326T153010Z
LAST-MODIFIED:20240326T154257Z
UID:10000376-1707177600-1707177600@vanburen.org
SUMMARY:Ride the Train\, Van Buren to Winslow
DESCRIPTION:Van Buren to Winslow\n\n\nThis three-hour\, 70 mile round trip excursion takes you through the ruggedly beautiful Boston Mountain range of the Ozarks\, over three valley trestles and through the 1700-foot long Winslow tunnel for some of the most breathtaking scenery you are likely to see in ‘The Natural State’. \n \nDeparts Van Buren 11:00am  \n– Boston Mountains\, Trestles\, Tunnel \n– Three hour round trip \n\nTicket types\n \nSilver Feather – 108: Silver Feather Premium is a 1940’s style car with a 360° Dome top view with booth/table top seating\, a downstairs dining area with chair/table top seating and a downstairs lounge. \n\nIncludes lunch\, drink and dessert\nGuests may book seats either upstairs in the Vista Dome or downstairs\n\n                                                                                                                                                        \n  \nPremium – #107 & #109: Premium Service includes either 1950’s diner car with booth/table top seating or 1950’s parlor car with chair/table top seating and a back platform for photography (weather permitting). \n\n Includes lunch\, drink\, and dessert\nParties of two may share a table with other guests\n\n  \n \nVintage Coach – #105 & #106: Coach Service is in our 1920’s vintage car with reversible seating and windows on all sides for the perfect view. Ticket includes round trip excursion with snacks and beverages available for purchase\n \n\nCoach: Snacks and drinks available for purchase\nCoach with lunch: Includes box lunch\, drink and dessert
URL:https://vanburen.org/event/ride-the-train-van-buren-to-winslow-18/
LOCATION:AR
END:VEVENT
BEGIN:VEVENT
DTSTART;TZID=UTC:20240206T000000
DTEND;TZID=UTC:20240206T000000
DTSTAMP:20260421T162056
CREATED:20240326T153010Z
LAST-MODIFIED:20240326T153010Z
UID:10000377-1707177600-1707177600@vanburen.org
SUMMARY:Ride the Train\, Van Buren to Winslow
DESCRIPTION:Van Buren to Winslow\n\n\nThis three-hour\, 70 mile round trip excursion takes you through the ruggedly beautiful Boston Mountain range of the Ozarks\, over three valley trestles and through the 1700-foot long Winslow tunnel for some of the most breathtaking scenery you are likely to see in ‘The Natural State’. \n \nDeparts Van Buren 11:00am  \n– Boston Mountains\, Trestles\, Tunnel \n– Three hour round trip \n\nTicket types\n \nSilver Feather – 108: Silver Feather Premium is a 1940’s style car with a 360° Dome top view with booth/table top seating\, a downstairs dining area with chair/table top seating and a downstairs lounge. \n\nIncludes lunch\, drink and dessert\nGuests may book seats either upstairs in the Vista Dome or downstairs\n\n                                                                                                                                                        \n  \nPremium – #107 & #109: Premium Service includes either 1950’s diner car with booth/table top seating or 1950’s parlor car with chair/table top seating and a back platform for photography (weather permitting). \n\n Includes lunch\, drink\, and dessert\nParties of two may share a table with other guests\n\n  \n \nVintage Coach – #105 & #106: Coach Service is in our 1920’s vintage car with reversible seating and windows on all sides for the perfect view. Ticket includes round trip excursion with snacks and beverages available for purchase\n \n\nCoach: Snacks and drinks available for purchase\nCoach with lunch: Includes box lunch\, drink and dessert
URL:https://vanburen.org/event/ride-the-train-van-buren-to-winslow-19/
LOCATION:AR
END:VEVENT
BEGIN:VEVENT
DTSTART;TZID=UTC:20240207T000000
DTEND;TZID=UTC:20240207T000000
DTSTAMP:20260421T162056
CREATED:20240326T153210Z
LAST-MODIFIED:20240326T153411Z
UID:10000378-1707264000-1707264000@vanburen.org
SUMMARY:Six: The Musical.........@ KOH
DESCRIPTION:More information to come.
URL:https://vanburen.org/event/six-the-musical-koh/
LOCATION:AR
END:VEVENT
BEGIN:VEVENT
DTSTART;TZID=UTC:20240207T000000
DTEND;TZID=UTC:20240207T000000
DTSTAMP:20260421T162056
CREATED:20240326T153411Z
LAST-MODIFIED:20241125T174932Z
UID:10000379-1707264000-1707264000@vanburen.org
SUMMARY:Nana's Naughty Knickers.........@KOH
DESCRIPTION:More information to come
URL:https://vanburen.org/event/nanas-naughty-knickers-koh/
LOCATION:AR
END:VEVENT
BEGIN:VEVENT
DTSTART;TZID=UTC:20240207T000000
DTEND;TZID=UTC:20240207T000000
DTSTAMP:20260421T162056
CREATED:20240326T153411Z
LAST-MODIFIED:20241125T174939Z
UID:10000380-1707264000-1707264000@vanburen.org
SUMMARY:Nana's Naughty Knickers.........@KOH
DESCRIPTION:More information to come
URL:https://vanburen.org/event/nanas-naughty-knickers-koh-2/
LOCATION:AR
END:VEVENT
BEGIN:VEVENT
DTSTART;TZID=UTC:20240207T000000
DTEND;TZID=UTC:20240207T000000
DTSTAMP:20260421T162056
CREATED:20240326T153412Z
LAST-MODIFIED:20241125T174926Z
UID:10000381-1707264000-1707264000@vanburen.org
SUMMARY:Nana's Naughty Knickers.........@KOH
DESCRIPTION:More information to come
URL:https://vanburen.org/event/nanas-naughty-knickers-koh-3/
LOCATION:AR
END:VEVENT
BEGIN:VEVENT
DTSTART;TZID=UTC:20240209T000000
DTEND;TZID=UTC:20240209T000000
DTSTAMP:20260421T162056
CREATED:20240326T153612Z
LAST-MODIFIED:20240326T153612Z
UID:10000384-1707436800-1707436800@vanburen.org
SUMMARY:OLD TIMERS DAY- STEAMPUNK FESTIVAL
DESCRIPTION:Full steam ahead for the 46th Annual Old Timers Day Steampunk Festival Saturday and Sunday\, May 11 & 12\, 2024! Located on six blocks of nationally recognized historic Main Street\, Van Buren\, Arkansas. Immerse yourself in the fantastical realm of steampunk at this one-of-a-kind festival that seamlessly blends Victorian aesthetics with steam-powered machinery.\nVENDORS & BOUTIQUES: Embark on a journey through our six blocks of nationally recognized historic Main Street lined with vendors and boutiques\, each offering a mesmerizing array of treasures – from steampunk gadgets to modern boutique clothing\, arts & crafts\, home décor\, antiques\, and more. Vendor applications are still available on our website.\nENTERTAINMENT: The air will be alive with the sights and sounds of thrilling steampunk entertainment. Marvel at daring stilt walkers\, presenting breathtaking acrobatic displays against the backdrop of a steampunk cityscape. Mechanical marvels will roam the streets\, showcasing the ingenuity of inventors who have brought fantastical automatons to life. Be prepared for spontaneous performances by mesmerizing street performers\, each decked out in elaborate steampunk attire.\nLIVE MUSIC: Feel the vibrations of live music echoing through the festival grounds. A stage will host a local lineup of eclectic bands.\nFOOD & BEVERAGES: Savor the flavors of a steampunk feast as food truck vendors and local restaurants offer a variety of culinary delights. Whether you’re in the mood for an adult beverage\, homemade lemonade\, clockwork confections or steam-powered snacks\, the festival promises a gastronomic adventure!\nCOSTUME CONTEST: Join in the festivities by donning your most elaborate steampunk attire and enter the costume contest. Show off your ingenuity and creativity as you compete for the title of “Master Tinkerer” or “Inventor Extraordinaire.” The costume contest is a highlight of the Old Timer’s Day Steampunk Festival\, where participants bring their wildest steampunk dreams to life. See our website for more details.\nThe Old Timer’s Day Steampunk Festival invites you to step into a world where the past and future collide in a symphony of steam and gears. Join us for a weekend of wonder\, where the fantastical becomes reality\, and the spirit of invention knows no bounds.
URL:https://vanburen.org/event/old-timers-day-steampunk-festival-7/
LOCATION:AR
END:VEVENT
BEGIN:VEVENT
DTSTART;TZID=UTC:20240209T000000
DTEND;TZID=UTC:20240209T000000
DTSTAMP:20260421T162056
CREATED:20240326T153813Z
LAST-MODIFIED:20240326T153813Z
UID:10000386-1707436800-1707436800@vanburen.org
SUMMARY:SUMMER STREET EATS FOOD TRUCK FESTIVAL
DESCRIPTION:Join us in Downtown Van Buren where the streets will be lined with Food Trucks of all kinds. Shop our local merchants\, eat some delicious  food from one of our local merchants or one of our amazing vendors. For vendor information please message us on FB\, email us at oldtownvanburen@gmail.com or call 479.922.6862
URL:https://vanburen.org/event/summer-street-eats-food-truck-festival-2/
LOCATION:AR
END:VEVENT
BEGIN:VEVENT
DTSTART;TZID=UTC:20240209T000000
DTEND;TZID=UTC:20240209T000000
DTSTAMP:20260421T162056
CREATED:20240326T153813Z
LAST-MODIFIED:20240326T153813Z
UID:10000387-1707436800-1707436800@vanburen.org
SUMMARY:Christmas in July
DESCRIPTION:More information to come
URL:https://vanburen.org/event/christmas-in-july-3/
LOCATION:AR
END:VEVENT
BEGIN:VEVENT
DTSTART;TZID=UTC:20240209T000000
DTEND;TZID=UTC:20240209T000000
DTSTAMP:20260421T162056
CREATED:20240326T153813Z
LAST-MODIFIED:20240326T153813Z
UID:10000388-1707436800-1707436800@vanburen.org
SUMMARY:Downtown Junk Fest
DESCRIPTION:Join us for our 7th annual Downtown JunkFest\, covering five blocks of our historic Main Street. Junk Fest is a two day event featuring antiques\, repurposed\, architectural salvage\, vintage inspired clothing and jewelry.
URL:https://vanburen.org/event/downtown-junk-fest-2/
LOCATION:AR
END:VEVENT
BEGIN:VEVENT
DTSTART;TZID=UTC:20240209T000000
DTEND;TZID=UTC:20240209T000000
DTSTAMP:20260421T162056
CREATED:20240326T153814Z
LAST-MODIFIED:20240326T153814Z
UID:10000389-1707436800-1707436800@vanburen.org
SUMMARY:Downtown Junk Fest
DESCRIPTION:Join us for our 7th annual Downtown JunkFest\, covering five blocks of our historic Main Street. Junk Fest is a two day event featuring antiques\, repurposed\, architectural salvage\, vintage inspired clothing and jewelry.
URL:https://vanburen.org/event/downtown-junk-fest-3/
LOCATION:AR
END:VEVENT
BEGIN:VEVENT
DTSTART;TZID=UTC:20240209T000000
DTEND;TZID=UTC:20240209T000000
DTSTAMP:20260421T162056
CREATED:20240326T153814Z
LAST-MODIFIED:20240326T154014Z
UID:10000390-1707436800-1707436800@vanburen.org
SUMMARY:Fall Festival
DESCRIPTION:Join us in Downtown Van Buren for our annual Fall Festivals\, where the streets are lined with food trucks\, craft vendors\, local merchants and much more.
URL:https://vanburen.org/event/fall-festival-4/
LOCATION:AR
END:VEVENT
BEGIN:VEVENT
DTSTART;TZID=UTC:20240209T000000
DTEND;TZID=UTC:20240209T000000
DTSTAMP:20260421T162056
CREATED:20240326T154014Z
LAST-MODIFIED:20240326T154014Z
UID:10000391-1707436800-1707436800@vanburen.org
SUMMARY:Halloween on Main Street
DESCRIPTION:Join us in Downtown Van Buren as we have a spooky good time\, zombie crawl\, costume contest and more. Stay tuned for more details
URL:https://vanburen.org/event/halloween-on-main-street-3/
LOCATION:AR
END:VEVENT
BEGIN:VEVENT
DTSTART;TZID=UTC:20240209T000000
DTEND;TZID=UTC:20240209T000000
DTSTAMP:20260421T162056
CREATED:20240326T154014Z
LAST-MODIFIED:20240326T154014Z
UID:10000392-1707436800-1707436800@vanburen.org
SUMMARY:Coughran's Hot Rod Shop Auto Show
DESCRIPTION:IT IS OFFICIAL! WE WILL BE RETURNING TO DOWNTOWN VAN BUREN\, ARKANSAS ON OCTOBER 26\, 2024 FOR OUR LARGEST EVENT YET!! SEE YOU THERE!!!\nStunt bike show\nValve cover racing\nPickle juice chug\nCustom cars\nModern cars\nTrucks\, bikes\, specialty cars and so much more!\nALL MAKES AND MODELS WELCOME!
URL:https://vanburen.org/event/coughrans-hot-rod-shop-auto-show-3/
LOCATION:AR
END:VEVENT
BEGIN:VEVENT
DTSTART;TZID=UTC:20240209T000000
DTEND;TZID=UTC:20240209T000000
DTSTAMP:20260421T162056
CREATED:20240326T154014Z
LAST-MODIFIED:20240326T154014Z
UID:10000393-1707436800-1707436800@vanburen.org
SUMMARY:Friday Night Ladies Night
DESCRIPTION:More information to come.
URL:https://vanburen.org/event/friday-night-ladies-night/
LOCATION:AR
END:VEVENT
BEGIN:VEVENT
DTSTART;TZID=UTC:20240209T000000
DTEND;TZID=UTC:20240209T000000
DTSTAMP:20260421T162056
CREATED:20240326T154014Z
LAST-MODIFIED:20240326T154014Z
UID:10000394-1707436800-1707436800@vanburen.org
SUMMARY:Holiday Open House
DESCRIPTION:More information to come.
URL:https://vanburen.org/event/holiday-open-house-4/
LOCATION:AR
END:VEVENT
BEGIN:VEVENT
DTSTART;TZID=UTC:20240209T000000
DTEND;TZID=UTC:20240209T000000
DTSTAMP:20260421T162056
CREATED:20240326T154130Z
LAST-MODIFIED:20240326T154130Z
UID:10000395-1707436800-1707436800@vanburen.org
SUMMARY:Plaid Friday-Small Business Saturday
DESCRIPTION:More information to come.
URL:https://vanburen.org/event/plaid-friday-small-business-saturday/
LOCATION:AR
END:VEVENT
BEGIN:VEVENT
DTSTART;TZID=UTC:20240209T000000
DTEND;TZID=UTC:20240209T000000
DTSTAMP:20260421T162056
CREATED:20240326T154130Z
LAST-MODIFIED:20240326T154130Z
UID:10000396-1707436800-1707436800@vanburen.org
SUMMARY:Plaid Friday-Small Business Saturday
DESCRIPTION:More information to come.
URL:https://vanburen.org/event/plaid-friday-small-business-saturday-2/
LOCATION:AR
END:VEVENT
BEGIN:VEVENT
DTSTART;TZID=UTC:20240209T000000
DTEND;TZID=UTC:20240209T000000
DTSTAMP:20260421T162056
CREATED:20240326T154130Z
LAST-MODIFIED:20240326T154130Z
UID:10000397-1707436800-1707436800@vanburen.org
SUMMARY:Jingle & Mingle
DESCRIPTION:More information to come.
URL:https://vanburen.org/event/jingle-mingle/
LOCATION:AR
END:VEVENT
BEGIN:VEVENT
DTSTART;TZID=UTC:20240209T000000
DTEND;TZID=UTC:20240209T000000
DTSTAMP:20260421T162056
CREATED:20240326T154130Z
LAST-MODIFIED:20240326T154130Z
UID:10000398-1707436800-1707436800@vanburen.org
SUMMARY:Holiday in Whoville
DESCRIPTION:More information to come.
URL:https://vanburen.org/event/holiday-in-whoville-2/
LOCATION:AR
END:VEVENT
BEGIN:VEVENT
DTSTART;TZID=UTC:20240209T000000
DTEND;TZID=UTC:20240209T000000
DTSTAMP:20260421T162056
CREATED:20240326T154130Z
LAST-MODIFIED:20240326T154130Z
UID:10000399-1707436800-1707436800@vanburen.org
SUMMARY:Van Buren Christmas Parade
DESCRIPTION:More information to come.
URL:https://vanburen.org/event/van-buren-christmas-parade-4/
LOCATION:AR
END:VEVENT
BEGIN:VEVENT
DTSTART;TZID=America/Chicago:20240210T180000
DTEND;TZID=America/Chicago:20240210T180000
DTSTAMP:20260421T162056
CREATED:20240401T183436Z
LAST-MODIFIED:20240401T183436Z
UID:10001178-1707588000-1707588000@vanburen.org
SUMMARY:Movies at the Opera House "Catcher- Breaking the Code of Silence"
DESCRIPTION:
URL:https://vanburen.org/event/movies-at-the-opera-house-catcher-breaking-the-code-of-silence-2/
LOCATION:AR
END:VEVENT
BEGIN:VEVENT
DTSTART;TZID=America/Chicago:20240302T190000
DTEND;TZID=America/Chicago:20240302T190000
DTSTAMP:20260421T162056
CREATED:20240401T183235Z
LAST-MODIFIED:20240401T183235Z
UID:10001167-1709406000-1709406000@vanburen.org
SUMMARY:GONE TOO SOON\, the Ultimate Michael Jackson Experience     @ KOH
DESCRIPTION:“GONE TO SOON” is a reflection of the incredible career of Michael Jackson in his prime\, with all the massive hits and signature stage moves including an incredible cast of musicians. \nThis mind-blowing production takes you back in time with a Ultimate Michael Jackson Tribute Artist delivering a theatrical event that is the next best thing to seeing Michael himself. You will be singing and dancing along to some of his greatest hits of all time.  \nThis is by far the most authentic Michael Jackson Experience touring in 2023/2024!!!!!  \nIf you love “The King Of Pop” then welcome to “Gone To Soon”.   Your about to see the next-best thing!!!!
URL:https://vanburen.org/event/gone-too-soon-the-ultimate-michael-jackson-experience-koh-2/
LOCATION:AR
END:VEVENT
END:VCALENDAR