BEGIN:VCALENDAR
VERSION:2.0
PRODID:-//Van Buren Advertising &amp; Promotions Commission - ECPv6.15.20//NONSGML v1.0//EN
CALSCALE:GREGORIAN
METHOD:PUBLISH
X-ORIGINAL-URL:https://vanburen.org
X-WR-CALDESC:Events for Van Buren Advertising &amp; Promotions Commission
REFRESH-INTERVAL;VALUE=DURATION:PT1H
X-Robots-Tag:noindex
X-PUBLISHED-TTL:PT1H
BEGIN:VTIMEZONE
TZID:America/Chicago
BEGIN:DAYLIGHT
TZOFFSETFROM:-0600
TZOFFSETTO:-0500
TZNAME:CDT
DTSTART:20220313T080000
END:DAYLIGHT
BEGIN:STANDARD
TZOFFSETFROM:-0500
TZOFFSETTO:-0600
TZNAME:CST
DTSTART:20221106T070000
END:STANDARD
BEGIN:DAYLIGHT
TZOFFSETFROM:-0600
TZOFFSETTO:-0500
TZNAME:CDT
DTSTART:20230312T080000
END:DAYLIGHT
BEGIN:STANDARD
TZOFFSETFROM:-0500
TZOFFSETTO:-0600
TZNAME:CST
DTSTART:20231105T070000
END:STANDARD
BEGIN:DAYLIGHT
TZOFFSETFROM:-0600
TZOFFSETTO:-0500
TZNAME:CDT
DTSTART:20240310T080000
END:DAYLIGHT
BEGIN:STANDARD
TZOFFSETFROM:-0500
TZOFFSETTO:-0600
TZNAME:CST
DTSTART:20241103T070000
END:STANDARD
END:VTIMEZONE
BEGIN:VTIMEZONE
TZID:UTC
BEGIN:STANDARD
TZOFFSETFROM:+0000
TZOFFSETTO:+0000
TZNAME:UTC
DTSTART:20220101T000000
END:STANDARD
END:VTIMEZONE
BEGIN:VEVENT
DTSTART;TZID=America/Chicago:20231021T190000
DTEND;TZID=America/Chicago:20231021T190000
DTSTAMP:20260422T023222
CREATED:20240401T182609Z
LAST-MODIFIED:20240401T182609Z
UID:10001127-1697914800-1697914800@vanburen.org
SUMMARY:TROUT FISHING IN AMERICA!     @ the KOH
DESCRIPTION:Keith Grimwood and Ezra Idlet formed Trout Fishing in America in 1979 as a means of survival.  They traveled to California as a part of the Texas-based five-piece band St. Elmo’s Fire with hopes of being discovered and signed by a major record label.  When no such opportunity arose\, and the promising tour dissolved\, Keith and Ezra peeled off from their bandmates to fend for themselves.  Busking on the streets of Santa Cruz with an acoustic guitar\, and an upright bass\, the pair quickly learned that engaging listeners instantly was the only path towards dollars and coins in the open guitar case.  When entry in a music contest required them to have a name for their act\, they chose Trout Fishing in America as an homage to Keith’s love of writer Richard Brautigan and Ezra’s love of fishing.\nThey returned to Texas and continued performing as a duo\, landing gigs in the southeast United States.  For a band comprised only of a guitar\, a bass\, and two vocalists\, Keith and Ezra could sonically fill whatever space they played.  Trout’s genre-defying musical style and unique stage presence did not lend itself to standard marketing strategies so their following developed through word-of-mouth recommendations from fans and club owners.   No one could explain what kind of music Trout played but would also tell you that theirs was not a show to miss. \nRather than waiting for a record label’s attention\, they formed their own Trout Records label in the 1980s and released two vinyl albums and two cassettes.  Drawing inspiration from childhoods spent listening to top-40 AM radio\, the two songwriters seasoned their music with stylings from rock and roll\, blues\, folk\, country\, bluegrass\, funk\, Latin\, and reggae…whatever sound would best bring out the flavor of the lyrics they wrote.  From the beginning\, they were a song writing team with Keith typically being the lyrical generator while Ezra developed the music.  Their collaborative natures allowed them to edit each other’s contributions without egos clashing. \nThrough hard work\, strong musicianship\, solid friendship\, supportive families\, and a genuine ability to connect with their audience\, Trout’s homegrown success and appeal exploded in the 1990s.  This led to regular touring throughout the US and Canada in their infamous red truck\, Robert RedFord.  They retired The Red Truck in 1997 after accumulating over half a million miles.  The 1990s ushered in the era of compact discs and Trout released 9 more albums from 1990 – 1999 on their label.  They were nominated for Grammy awards in 2001\, 2004\, 2006\, and 2008. \nKeith and Ezra have always been road dogs\, driving tens of thousands of miles throughout the United States every year.  In March 2020\, years of touring came to a halt.  After a month apart\, they reunited at the Trout House Studio and did what they do best:  they wrote songs together.  With live gigs disappearing\, Keith and Ezra had lots of time to experiment and create.  The studio became their safe house. They wrote over a dozen new songs and performed monthly live streams to stay connected with their fans.  The result is Trout’s 25th album\, “Safe House”. \nIt is not unusual for three or four generations of a family to show up at a Trout performance and this is a point of pride for both Keith and Ezra.  It may still be impossible to tell you what kind of music Trout plays\, but after attending a show\, you’ll know exactly what you’ve witnessed:  two guys who still love what they do and are excited to share it with you.
URL:https://vanburen.org/event/trout-fishing-in-america-the-koh-2/
LOCATION:AR
END:VEVENT
BEGIN:VEVENT
DTSTART;TZID=America/Chicago:20231025T110000
DTEND;TZID=America/Chicago:20231025T140000
DTSTAMP:20260422T023222
CREATED:20240401T182431Z
LAST-MODIFIED:20240401T182431Z
UID:10001108-1698231600-1698242400@vanburen.org
SUMMARY:Ride the Train Van Buren to Winslow
DESCRIPTION:This three-hour\, 70 mile round trip excursion takes you through the ruggedly beautiful Boston Mountain range of the Ozarks\, over three valley trestles and through the 1700-foot long Winslow tunnel for some of the most breathtaking scenery you are likely to see in ‘The Natural State’. \nDeparts Van Buren 11:00am  \n\nBoston Mountains\, Trestles\, Tunnel\nThree hour round trip
URL:https://vanburen.org/event/ride-the-train-van-buren-to-winslow-81/
LOCATION:AR
END:VEVENT
BEGIN:VEVENT
DTSTART;TZID=UTC:20231027T000000
DTEND;TZID=UTC:20231027T000000
DTSTAMP:20260422T023222
CREATED:20240326T152623Z
LAST-MODIFIED:20240326T152623Z
UID:10000345-1698364800-1698364800@vanburen.org
SUMMARY:1st Annual Christmas Tree Lighting Ceremony
DESCRIPTION:
URL:https://vanburen.org/event/1st-annual-christmas-tree-lighting-ceremony/
LOCATION:AR
END:VEVENT
BEGIN:VEVENT
DTSTART;TZID=America/Chicago:20231027T170000
DTEND;TZID=America/Chicago:20231027T200000
DTSTAMP:20260422T023222
CREATED:20240401T174210Z
LAST-MODIFIED:20240401T174210Z
UID:10001007-1698426000-1698436800@vanburen.org
SUMMARY:HALLOWEEN ON MAIN
DESCRIPTION:
URL:https://vanburen.org/event/halloween-on-main-6/
LOCATION:AR
END:VEVENT
BEGIN:VEVENT
DTSTART;TZID=America/Chicago:20231028T080000
DTEND;TZID=America/Chicago:20231028T170000
DTSTAMP:20260422T023222
CREATED:20240401T174612Z
LAST-MODIFIED:20240401T174612Z
UID:10001014-1698480000-1698512400@vanburen.org
SUMMARY:COUGHRAN'S HOT ROD SHOP & AUTO SHOW
DESCRIPTION:Details soon!
URL:https://vanburen.org/event/coughrans-hot-rod-shop-auto-show-5/
LOCATION:AR
END:VEVENT
BEGIN:VEVENT
DTSTART;TZID=America/Chicago:20231104T110000
DTEND;TZID=America/Chicago:20231104T140000
DTSTAMP:20260422T023222
CREATED:20240401T182523Z
LAST-MODIFIED:20240401T182523Z
UID:10001109-1699095600-1699106400@vanburen.org
SUMMARY:Ride the Train Van Buren to Winslow
DESCRIPTION:This three-hour\, 70 mile round trip excursion takes you through the ruggedly beautiful Boston Mountain range of the Ozarks\, over three valley trestles and through the 1700-foot long Winslow tunnel for some of the most breathtaking scenery you are likely to see in ‘The Natural State’. \nDeparts Van Buren 11:00am  \n\nBoston Mountains\, Trestles\, Tunnel\nThree hour round trip
URL:https://vanburen.org/event/ride-the-train-van-buren-to-winslow-82/
LOCATION:AR
END:VEVENT
BEGIN:VEVENT
DTSTART;TZID=America/Chicago:20231104T140000
DTEND;TZID=America/Chicago:20231104T140000
DTSTAMP:20260422T023222
CREATED:20240401T182537Z
LAST-MODIFIED:20240401T182537Z
UID:10001115-1699106400-1699106400@vanburen.org
SUMMARY:Movies @ KOH    "Hideout"
DESCRIPTION:This year the King Opera House is be offering a series of movies from the Fort Smith Film Festival. Admission is free\, but a $5 donation is suggested. Please note that these independent movies are not rated.\n \nDrug dealer Guo-hao hopes to make enough money so that he and his girlfriend can leave their life of crime behind. One day\, he is contacted by Michael\, a drug broker with an offer to buy a batch of rare cocaine. \nGuo-hao teams up with long-time buddy Da-wei to borrow money from local crime boss Uncle Ma to complete this deal. \nOn the day of the exchange\, however\, Michael is found dead and the drugs are already gone. The owner of the cocaine threatens to kill Guo-hao if he fails to come up with the drugs or money. At the same time\, Uncle Ma dispatches his henchmen to recover the loan. \nIn the middle of the night\, Guo-hao receives a phone call from a mysterious man claiming to be in possession of the lost cocaine\, telling Guo-hao he has a new deal for him…
URL:https://vanburen.org/event/movies-koh-hideout-2/
LOCATION:AR
END:VEVENT
BEGIN:VEVENT
DTSTART;TZID=UTC:20231107T000000
DTEND;TZID=UTC:20231107T000000
DTSTAMP:20260422T023222
CREATED:20240326T152623Z
LAST-MODIFIED:20240326T152623Z
UID:10000346-1699315200-1699315200@vanburen.org
SUMMARY:Santa's Workshop   Sponsored by The Rotary Club of Van Buren
DESCRIPTION:
URL:https://vanburen.org/event/santas-workshop-sponsored-by-the-rotary-club-of-van-buren-2/
LOCATION:AR
END:VEVENT
BEGIN:VEVENT
DTSTART;TZID=UTC:20231107T000000
DTEND;TZID=UTC:20231107T000000
DTSTAMP:20260422T023222
CREATED:20240326T152629Z
LAST-MODIFIED:20240326T152629Z
UID:10000347-1699315200-1699315200@vanburen.org
SUMMARY:18th Annual Festival of Trees    presented to you by The Rotary Club of Van Buren
DESCRIPTION:
URL:https://vanburen.org/event/18th-annual-festival-of-trees-presented-to-you-by-the-rotary-club-of-van-buren/
LOCATION:AR
END:VEVENT
BEGIN:VEVENT
DTSTART;TZID=America/Chicago:20231110T160000
DTEND;TZID=America/Chicago:20231110T200000
DTSTAMP:20260422T023222
CREATED:20240401T174210Z
LAST-MODIFIED:20240401T174210Z
UID:10001008-1699632000-1699646400@vanburen.org
SUMMARY:Annual Holiday Open House Girls Night Out in Historic Downtown Van Buren
DESCRIPTION:
URL:https://vanburen.org/event/annual-holiday-open-house-girls-night-out-in-historic-downtown-van-buren-2/
LOCATION:AR
END:VEVENT
BEGIN:VEVENT
DTSTART;TZID=America/Chicago:20231111T100000
DTEND;TZID=America/Chicago:20231111T200000
DTSTAMP:20260422T023222
CREATED:20240401T183217Z
LAST-MODIFIED:20240401T183217Z
UID:10001159-1699696800-1699732800@vanburen.org
SUMMARY:Annual Holiday Open House in Historic Downtown Van Buren
DESCRIPTION:
URL:https://vanburen.org/event/annual-holiday-open-house-in-historic-downtown-van-buren-2/
LOCATION:AR
END:VEVENT
BEGIN:VEVENT
DTSTART;TZID=America/Chicago:20231112T130000
DTEND;TZID=America/Chicago:20231112T150000
DTSTAMP:20260422T023222
CREATED:20240401T182800Z
LAST-MODIFIED:20240401T182800Z
UID:10001136-1699794000-1699801200@vanburen.org
SUMMARY:21st ANNUAL VAN BUREN VETERANS DAY PARADE
DESCRIPTION:
URL:https://vanburen.org/event/21st-annual-van-buren-veterans-day-parade-2/
LOCATION:AR
END:VEVENT
BEGIN:VEVENT
DTSTART;TZID=UTC:20231113T000000
DTEND;TZID=UTC:20231113T000000
DTSTAMP:20260422T023222
CREATED:20240326T152629Z
LAST-MODIFIED:20240326T152629Z
UID:10000348-1699833600-1699833600@vanburen.org
SUMMARY:Lighting of the Crawford County Court House
DESCRIPTION:
URL:https://vanburen.org/event/lighting-of-the-crawford-county-court-house/
LOCATION:AR
END:VEVENT
BEGIN:VEVENT
DTSTART;TZID=America/Chicago:20231117T183000
DTEND;TZID=America/Chicago:20231117T193000
DTSTAMP:20260422T023222
CREATED:20240401T183218Z
LAST-MODIFIED:20240401T183218Z
UID:10001160-1700245800-1700249400@vanburen.org
SUMMARY:1st Annual Christmas Tree Lighting Ceremony
DESCRIPTION:
URL:https://vanburen.org/event/1st-annual-christmas-tree-lighting-ceremony-2/
LOCATION:AR
END:VEVENT
BEGIN:VEVENT
DTSTART;TZID=America/Chicago:20231117T190000
DTEND;TZID=America/Chicago:20231117T190000
DTSTAMP:20260422T023222
CREATED:20240401T183017Z
LAST-MODIFIED:20240401T183017Z
UID:10001153-1700247600-1700247600@vanburen.org
SUMMARY:James & the Giant Peach Jr presented by CSA   @ the KOH
DESCRIPTION:Based on one of Roald Dahl’s most poignantly quirky stories\, Roald Dahl’s James and the Giant Peach JR. is a brand new take on this “masterpeach” of a tale.  Featuring a wickedly tuneful score and a witty and charming book\, this adventurous musical about courage and self-discovery is destined to be a classic. \n​ \nWhen James is sent by his conniving aunts to chop down their old fruit tree\, he discovers a magic potion that grows a tremendous peach\, rolls into the ocean and launches a journey of enormous proportions. James befriends a collection of singing insects that ride the giant piece of fruit across the ocean\, facing hunger\, sharks and plenty of disagreements along the way.
URL:https://vanburen.org/event/james-the-giant-peach-jr-presented-by-csa-the-koh-4/
LOCATION:AR
END:VEVENT
BEGIN:VEVENT
DTSTART;TZID=America/Chicago:20231118T000000
DTEND;TZID=America/Chicago:20231231T000000
DTSTAMP:20260422T023222
CREATED:20240401T182800Z
LAST-MODIFIED:20240401T182800Z
UID:10001137-1700265600-1703980800@vanburen.org
SUMMARY:Van Buren's Christmas at the Parks
DESCRIPTION:More information to come!
URL:https://vanburen.org/event/van-burens-christmas-at-the-parks-4/
LOCATION:AR
END:VEVENT
BEGIN:VEVENT
DTSTART;TZID=America/Chicago:20231118T140000
DTEND;TZID=America/Chicago:20231118T140000
DTSTAMP:20260422T023222
CREATED:20240401T183033Z
LAST-MODIFIED:20240401T183033Z
UID:10001154-1700316000-1700316000@vanburen.org
SUMMARY:James & the Giant Peach Jr presented by CSA   @ the KOH
DESCRIPTION:Based on one of Roald Dahl’s most poignantly quirky stories\, Roald Dahl’s James and the Giant Peach JR. is a brand new take on this “masterpeach” of a tale.  Featuring a wickedly tuneful score and a witty and charming book\, this adventurous musical about courage and self-discovery is destined to be a classic. \n​ \nWhen James is sent by his conniving aunts to chop down their old fruit tree\, he discovers a magic potion that grows a tremendous peach\, rolls into the ocean and launches a journey of enormous proportions. James befriends a collection of singing insects that ride the giant piece of fruit across the ocean\, facing hunger\, sharks and plenty of disagreements along the way.
URL:https://vanburen.org/event/james-the-giant-peach-jr-presented-by-csa-the-koh-5/
LOCATION:AR
END:VEVENT
BEGIN:VEVENT
DTSTART;TZID=America/Chicago:20231118T190000
DTEND;TZID=America/Chicago:20231118T190000
DTSTAMP:20260422T023222
CREATED:20240401T183034Z
LAST-MODIFIED:20240401T183034Z
UID:10001155-1700334000-1700334000@vanburen.org
SUMMARY:James & the Giant Peach Jr presented by CSA   @ the KOH
DESCRIPTION:Based on one of Roald Dahl’s most poignantly quirky stories\, Roald Dahl’s James and the Giant Peach JR. is a brand new take on this “masterpeach” of a tale.  Featuring a wickedly tuneful score and a witty and charming book\, this adventurous musical about courage and self-discovery is destined to be a classic. \n​ \nWhen James is sent by his conniving aunts to chop down their old fruit tree\, he discovers a magic potion that grows a tremendous peach\, rolls into the ocean and launches a journey of enormous proportions. James befriends a collection of singing insects that ride the giant piece of fruit across the ocean\, facing hunger\, sharks and plenty of disagreements along the way.
URL:https://vanburen.org/event/james-the-giant-peach-jr-presented-by-csa-the-koh-6/
LOCATION:AR
END:VEVENT
BEGIN:VEVENT
DTSTART;TZID=America/Chicago:20231124T100000
DTEND;TZID=America/Chicago:20231124T170000
DTSTAMP:20260422T023222
CREATED:20240401T174410Z
LAST-MODIFIED:20240401T174410Z
UID:10001009-1700820000-1700845200@vanburen.org
SUMMARY:PLAID FRIDAY
DESCRIPTION:INFORMATION SOON!
URL:https://vanburen.org/event/plaid-friday-2/
LOCATION:AR
END:VEVENT
BEGIN:VEVENT
DTSTART;TZID=America/Chicago:20231125T100000
DTEND;TZID=America/Chicago:20231125T170000
DTSTAMP:20260422T023222
CREATED:20240401T174410Z
LAST-MODIFIED:20240401T174410Z
UID:10001010-1700906400-1700931600@vanburen.org
SUMMARY:SMALL BUSINESS SATURDAY ON MAIN
DESCRIPTION:DETAILS SOON!
URL:https://vanburen.org/event/small-business-saturday-on-main-2/
LOCATION:AR
END:VEVENT
BEGIN:VEVENT
DTSTART;TZID=America/Chicago:20231130T190000
DTEND;TZID=America/Chicago:20231130T190000
DTSTAMP:20260422T023222
CREATED:20240401T182609Z
LAST-MODIFIED:20240401T182609Z
UID:10001128-1701370800-1701370800@vanburen.org
SUMMARY:A Christmas Carol – Earthen Vessels Drama Company     @ the KOH
DESCRIPTION:This Christmas tradition returns to the King Opera House stage for the 10th time\, as Earthen VesselsDrama Company\, a ministry of Shady Grove Baptist Church\, Van Buren\, presents their adaptation of Dickens’ classic tale. With stirring performances\, period costumes\, and uniquely arranged Christmas carols\, all the elements of a classic Christmas celebration weave together to tell this beautiful story of one fateful night when a miser named Scrooge finds hope\, redemption\, and the true spirit of Christmas that transforms his life. Join us for this heartwarming tale that is perfect for the whole family!
URL:https://vanburen.org/event/a-christmas-carol-earthen-vessels-drama-company-the-koh-5/
LOCATION:AR
END:VEVENT
BEGIN:VEVENT
DTSTART;TZID=America/Chicago:20231201T173000
DTEND;TZID=America/Chicago:20231201T203000
DTSTAMP:20260422T023222
CREATED:20240401T183017Z
LAST-MODIFIED:20240401T183017Z
UID:10001150-1701451800-1701462600@vanburen.org
SUMMARY:Drennen-Scott Christmas Open House
DESCRIPTION:
URL:https://vanburen.org/event/drennen-scott-christmas-open-house-2/
LOCATION:AR
END:VEVENT
BEGIN:VEVENT
DTSTART;TZID=America/Chicago:20231201T173000
DTEND;TZID=America/Chicago:20231201T220000
DTSTAMP:20260422T023222
CREATED:20240401T182800Z
LAST-MODIFIED:20240401T182800Z
UID:10001138-1701451800-1701468000@vanburen.org
SUMMARY:Van Buren's Christmas Ice Skating Rink Sponsored by Generations Bank
DESCRIPTION:
URL:https://vanburen.org/event/van-burens-christmas-ice-skating-rink-sponsored-by-generations-bank-5/
LOCATION:AR
END:VEVENT
BEGIN:VEVENT
DTSTART;TZID=America/Chicago:20231201T180000
DTEND;TZID=America/Chicago:20231201T180000
DTSTAMP:20260422T023222
CREATED:20240401T183218Z
LAST-MODIFIED:20240401T183218Z
UID:10001162-1701453600-1701453600@vanburen.org
SUMMARY:18th Annual Festival of Trees    presented to you by The Rotary Club of Van Buren
DESCRIPTION:
URL:https://vanburen.org/event/18th-annual-festival-of-trees-presented-to-you-by-the-rotary-club-of-van-buren-2/
LOCATION:AR
END:VEVENT
BEGIN:VEVENT
DTSTART;TZID=America/Chicago:20231201T180000
DTEND;TZID=America/Chicago:20231201T190000
DTSTAMP:20260422T023222
CREATED:20240401T181024Z
LAST-MODIFIED:20240401T181024Z
UID:10001072-1701453600-1701457200@vanburen.org
SUMMARY:Holiday Express - Van Buren to Rudy
DESCRIPTION:Enjoy hot chocolate\, cookies\, and visits with Santa at the depot.
URL:https://vanburen.org/event/holiday-express-van-buren-to-rudy-6/
LOCATION:AR
END:VEVENT
BEGIN:VEVENT
DTSTART;TZID=America/Chicago:20231201T190000
DTEND;TZID=America/Chicago:20231201T190000
DTSTAMP:20260422T023222
CREATED:20240401T182631Z
LAST-MODIFIED:20240401T182631Z
UID:10001129-1701457200-1701457200@vanburen.org
SUMMARY:A Christmas Carol – Earthen Vessels Drama Company     @ the KOH
DESCRIPTION:This Christmas tradition returns to the King Opera House stage for the 10th time\, as Earthen VesselsDrama Company\, a ministry of Shady Grove Baptist Church\, Van Buren\, presents their adaptation of Dickens’ classic tale. With stirring performances\, period costumes\, and uniquely arranged Christmas carols\, all the elements of a classic Christmas celebration weave together to tell this beautiful story of one fateful night when a miser named Scrooge finds hope\, redemption\, and the true spirit of Christmas that transforms his life. Join us for this heartwarming tale that is perfect for the whole family!
URL:https://vanburen.org/event/a-christmas-carol-earthen-vessels-drama-company-the-koh-6/
LOCATION:AR
END:VEVENT
BEGIN:VEVENT
DTSTART;TZID=America/Chicago:20231201T200000
DTEND;TZID=America/Chicago:20231201T210000
DTSTAMP:20260422T023222
CREATED:20240401T181828Z
LAST-MODIFIED:20240401T181828Z
UID:10001091-1701460800-1701464400@vanburen.org
SUMMARY:Holiday Express - Van Buren to Rudy
DESCRIPTION:Enjoy hot chocolate\, cookies\, and visits with Santa at the depot.
URL:https://vanburen.org/event/holiday-express-van-buren-to-rudy-25/
LOCATION:AR
END:VEVENT
BEGIN:VEVENT
DTSTART;TZID=America/Chicago:20231202T100000
DTEND;TZID=America/Chicago:20231202T110000
DTSTAMP:20260422T023222
CREATED:20240401T181024Z
LAST-MODIFIED:20240401T181024Z
UID:10001073-1701511200-1701514800@vanburen.org
SUMMARY:Holiday Express - Van Buren to Rudy
DESCRIPTION:Enjoy hot chocolate\, cookies\, and visits with Santa at the depot.
URL:https://vanburen.org/event/holiday-express-van-buren-to-rudy-7/
LOCATION:AR
END:VEVENT
BEGIN:VEVENT
DTSTART;TZID=America/Chicago:20231202T100000
DTEND;TZID=America/Chicago:20231202T140000
DTSTAMP:20260422T023222
CREATED:20240401T183218Z
LAST-MODIFIED:20240401T183218Z
UID:10001161-1701511200-1701525600@vanburen.org
SUMMARY:Santa's Workshop   Sponsored by The Rotary Club of Van Buren
DESCRIPTION:
URL:https://vanburen.org/event/santas-workshop-sponsored-by-the-rotary-club-of-van-buren-4/
LOCATION:AR
END:VEVENT
BEGIN:VEVENT
DTSTART;TZID=America/Chicago:20231202T100000
DTEND;TZID=America/Chicago:20231202T200000
DTSTAMP:20260422T023222
CREATED:20240401T174411Z
LAST-MODIFIED:20240401T174411Z
UID:10001011-1701511200-1701547200@vanburen.org
SUMMARY:JINGLE & MINGLE ON MAIN
DESCRIPTION:STAY TOONED!
URL:https://vanburen.org/event/jingle-mingle-on-main-10/
LOCATION:AR
END:VEVENT
END:VCALENDAR