BEGIN:VCALENDAR
VERSION:2.0
PRODID:-//Van Buren Advertising &amp; Promotions Commission - ECPv6.15.20//NONSGML v1.0//EN
CALSCALE:GREGORIAN
METHOD:PUBLISH
X-ORIGINAL-URL:https://vanburen.org
X-WR-CALDESC:Events for Van Buren Advertising &amp; Promotions Commission
REFRESH-INTERVAL;VALUE=DURATION:PT1H
X-Robots-Tag:noindex
X-PUBLISHED-TTL:PT1H
BEGIN:VTIMEZONE
TZID:UTC
BEGIN:STANDARD
TZOFFSETFROM:+0000
TZOFFSETTO:+0000
TZNAME:UTC
DTSTART:20220101T000000
END:STANDARD
END:VTIMEZONE
BEGIN:VTIMEZONE
TZID:America/Chicago
BEGIN:DAYLIGHT
TZOFFSETFROM:-0600
TZOFFSETTO:-0500
TZNAME:CDT
DTSTART:20220313T080000
END:DAYLIGHT
BEGIN:STANDARD
TZOFFSETFROM:-0500
TZOFFSETTO:-0600
TZNAME:CST
DTSTART:20221106T070000
END:STANDARD
BEGIN:DAYLIGHT
TZOFFSETFROM:-0600
TZOFFSETTO:-0500
TZNAME:CDT
DTSTART:20230312T080000
END:DAYLIGHT
BEGIN:STANDARD
TZOFFSETFROM:-0500
TZOFFSETTO:-0600
TZNAME:CST
DTSTART:20231105T070000
END:STANDARD
BEGIN:DAYLIGHT
TZOFFSETFROM:-0600
TZOFFSETTO:-0500
TZNAME:CDT
DTSTART:20240310T080000
END:DAYLIGHT
BEGIN:STANDARD
TZOFFSETFROM:-0500
TZOFFSETTO:-0600
TZNAME:CST
DTSTART:20241103T070000
END:STANDARD
BEGIN:DAYLIGHT
TZOFFSETFROM:-0600
TZOFFSETTO:-0500
TZNAME:CDT
DTSTART:20250309T080000
END:DAYLIGHT
BEGIN:STANDARD
TZOFFSETFROM:-0500
TZOFFSETTO:-0600
TZNAME:CST
DTSTART:20251102T070000
END:STANDARD
END:VTIMEZONE
BEGIN:VEVENT
DTSTART;TZID=UTC:20231206T000000
DTEND;TZID=UTC:20231206T000000
DTSTAMP:20260422T023400
CREATED:20240326T152835Z
LAST-MODIFIED:20240326T152835Z
UID:10000356-1701820800-1701820800@vanburen.org
SUMMARY:William Lee Martin Comedy Stampede Tour   @ KOH
DESCRIPTION:Faith. Family. Funny. \nIntroducing William Lee Martin\, the charismatic Texan whose stand-up comedy isn’t just about laughter; it’s a journey into the heart of humor.  With a career spanning back to 1996\, he’s been a steadfast presence on stages across the nation\, from the iconic Grand Ole Opry to the dazzling lights of MGM in Las Vegas. \nWilliam Lee is more than just a comedian; he’s a Christian whose humor is refreshingly clean and disarmingly clever\, appealing to a wide range of audiences without pushing any agenda. In the midst of the 2020 pandemic\, his “4 o’clock Daily Talk” on social media became a shining beacon of positivity\, captivating audiences and catapulting his popularity to new heights on Facebook and other platforms. \nWith an impressive online following\, including over 667\,000 Facebook followers\, 375\,000 TikTok fans\, 10.0 million TikTok likes\, 6 million YouTube views\, 45.5k YouTube subscribers\, and 74.9k Instagram followers\, he continues to be a beloved and influential figure in the world of comedy\, entertainment\, and positivity. So\, saddle up for a journey of laughter with William Lee Martin\, a true Texan whose humor knows no bounds and whose heart is as big as the Lone Star State itself.
URL:https://vanburen.org/event/william-lee-martin-comedy-stampede-tour-koh/
LOCATION:AR
END:VEVENT
BEGIN:VEVENT
DTSTART;TZID=UTC:20231206T000000
DTEND;TZID=UTC:20231206T000000
DTSTAMP:20260422T023400
CREATED:20240326T152850Z
LAST-MODIFIED:20240326T152850Z
UID:10000357-1701820800-1701820800@vanburen.org
SUMMARY:MKDB presents JOY! A Gospel Celebration Through Song and Dance!     @ KOH
DESCRIPTION:
URL:https://vanburen.org/event/mkdb-presents-joy-a-gospel-celebration-through-song-and-dance-koh/
LOCATION:AR
END:VEVENT
BEGIN:VEVENT
DTSTART;TZID=UTC:20231206T000000
DTEND;TZID=UTC:20231206T000000
DTSTAMP:20260422T023400
CREATED:20240326T152850Z
LAST-MODIFIED:20240326T152850Z
UID:10000358-1701820800-1701820800@vanburen.org
SUMMARY:Gabrielle Gore presents Holidays for Heroes     @ KOH
DESCRIPTION:
URL:https://vanburen.org/event/gabrielle-gore-presents-holidays-for-heroes-koh/
LOCATION:AR
END:VEVENT
BEGIN:VEVENT
DTSTART;TZID=America/Chicago:20231206T090000
DTEND;TZID=America/Chicago:20231206T100000
DTSTAMP:20260422T023400
CREATED:20240401T181827Z
LAST-MODIFIED:20240401T181827Z
UID:10001089-1701853200-1701856800@vanburen.org
SUMMARY:Holiday Express - Van Buren to Rudy
DESCRIPTION:Enjoy hot chocolate\, cookies\, and visits with Santa at the depot.
URL:https://vanburen.org/event/holiday-express-van-buren-to-rudy-23/
LOCATION:AR
END:VEVENT
BEGIN:VEVENT
DTSTART;TZID=America/Chicago:20231206T110000
DTEND;TZID=America/Chicago:20231206T120000
DTSTAMP:20260422T023400
CREATED:20240401T181828Z
LAST-MODIFIED:20240401T181828Z
UID:10001090-1701860400-1701864000@vanburen.org
SUMMARY:Holiday Express - Van Buren to Rudy
DESCRIPTION:Enjoy hot chocolate\, cookies\, and visits with Santa at the depot.
URL:https://vanburen.org/event/holiday-express-van-buren-to-rudy-24/
LOCATION:AR
END:VEVENT
BEGIN:VEVENT
DTSTART;TZID=America/Chicago:20231208T173000
DTEND;TZID=America/Chicago:20231208T220000
DTSTAMP:20260422T023400
CREATED:20240401T182816Z
LAST-MODIFIED:20240401T182816Z
UID:10001141-1702056600-1702072800@vanburen.org
SUMMARY:Van Buren's Christmas Ice Skating Rink Sponsored by Generations Bank
DESCRIPTION:
URL:https://vanburen.org/event/van-burens-christmas-ice-skating-rink-sponsored-by-generations-bank-8/
LOCATION:AR
END:VEVENT
BEGIN:VEVENT
DTSTART;TZID=America/Chicago:20231208T190000
DTEND;TZID=America/Chicago:20231208T190000
DTSTAMP:20260422T023400
CREATED:20240401T182537Z
LAST-MODIFIED:20240401T182537Z
UID:10001116-1702062000-1702062000@vanburen.org
SUMMARY:Arts On Main presents: THE 39 STEPS  @ KOH
DESCRIPTION:Mix a Hitchcock masterpiece with a juicy spy novel\, add a dash of Monty Python\, and you have The 39 Steps\, a fast-paced whodunit for anyone who loves the magic of theatre! This two-time Tony® and Drama Desk Award-winning treat is packed with nonstop laughs\, over 150 zany characters (played by a ridiculously talented cast of four)\, an onstage plane crash\, handcuffs\, missing fingers\, and some good old-fashioned romance! In The 39 Steps\, a man with a boring life meets a woman with a thick accent who says she’s a spy. When he takes her home\, she is murdered. Soon\, a mysterious organization called “The 39 Steps” is hot on the man’s trail in a nationwide manhunt that climaxes in a death-defying finale! A riotous blend of virtuoso performances and wildly inventive stagecraft\, The 39 Steps amounts to an unforgettable evening of pure pleasure!
URL:https://vanburen.org/event/arts-on-main-presents-the-39-steps-koh-2/
LOCATION:AR
END:VEVENT
BEGIN:VEVENT
DTSTART;TZID=America/Chicago:20231208T190000
DTEND;TZID=America/Chicago:20231208T190000
DTSTAMP:20260422T023400
CREATED:20240401T182632Z
LAST-MODIFIED:20240401T182632Z
UID:10001132-1702062000-1702062000@vanburen.org
SUMMARY:The 39 Steps  An Arts On Main Theater production   @ the KOH
DESCRIPTION:Mix a Hitchcock masterpiece with a juicy spy novel\, add a dash of Monty Python and you have The 39 Steps\, a fast-paced whodunit for anyone who loves the magic of theatre! This two-time Tony and Drama Desk Award-winning treat is packed with nonstop laughs\, over 150 zany characters (played by a ridiculously talented cast of four)\, an onstage plane crash\, handcuffs\, missing fingers\, and some good old-fashioned romance!
URL:https://vanburen.org/event/the-39-steps-an-arts-on-main-theater-production-the-koh-4/
LOCATION:AR
END:VEVENT
BEGIN:VEVENT
DTSTART;TZID=America/Chicago:20231209T100000
DTEND;TZID=America/Chicago:20231209T170000
DTSTAMP:20260422T023400
CREATED:20240401T174411Z
LAST-MODIFIED:20240401T174411Z
UID:10001012-1702116000-1702141200@vanburen.org
SUMMARY:HOLIDAY IN WHOVILLE
DESCRIPTION:MORE INFORMATION TO COME!
URL:https://vanburen.org/event/holiday-in-whoville-3/
LOCATION:AR
END:VEVENT
BEGIN:VEVENT
DTSTART;TZID=America/Chicago:20231209T110000
DTEND;TZID=America/Chicago:20231209T220000
DTSTAMP:20260422T023400
CREATED:20240401T182816Z
LAST-MODIFIED:20240401T182816Z
UID:10001142-1702119600-1702159200@vanburen.org
SUMMARY:Van Buren's Christmas Ice Skating Rink Sponsored by Generations Bank
DESCRIPTION:
URL:https://vanburen.org/event/van-burens-christmas-ice-skating-rink-sponsored-by-generations-bank-9/
LOCATION:AR
END:VEVENT
BEGIN:VEVENT
DTSTART;TZID=America/Chicago:20231209T140000
DTEND;TZID=America/Chicago:20231209T140000
DTSTAMP:20260422T023400
CREATED:20240401T182632Z
LAST-MODIFIED:20240401T182632Z
UID:10001133-1702130400-1702130400@vanburen.org
SUMMARY:The 39 Steps  An Arts On Main Theater production   @ the KOH
DESCRIPTION:Mix a Hitchcock masterpiece with a juicy spy novel\, add a dash of Monty Python and you have The 39 Steps\, a fast-paced whodunit for anyone who loves the magic of theatre! This two-time Tony and Drama Desk Award-winning treat is packed with nonstop laughs\, over 150 zany characters (played by a ridiculously talented cast of four)\, an onstage plane crash\, handcuffs\, missing fingers\, and some good old-fashioned romance!
URL:https://vanburen.org/event/the-39-steps-an-arts-on-main-theater-production-the-koh-5/
LOCATION:AR
END:VEVENT
BEGIN:VEVENT
DTSTART;TZID=America/Chicago:20231209T180000
DTEND;TZID=America/Chicago:20231209T180000
DTSTAMP:20260422T023400
CREATED:20240401T174411Z
LAST-MODIFIED:20240401T174411Z
UID:10001013-1702144800-1702144800@vanburen.org
SUMMARY:Van Buren's Christmas Parade
DESCRIPTION:More details to come!
URL:https://vanburen.org/event/van-burens-christmas-parade-4/
LOCATION:AR
END:VEVENT
BEGIN:VEVENT
DTSTART;TZID=America/Chicago:20231209T190000
DTEND;TZID=America/Chicago:20231209T190000
DTSTAMP:20260422T023400
CREATED:20240401T182800Z
LAST-MODIFIED:20240401T182800Z
UID:10001134-1702148400-1702148400@vanburen.org
SUMMARY:The 39 Steps  An Arts On Main Theater production   @ the KOH
DESCRIPTION:Mix a Hitchcock masterpiece with a juicy spy novel\, add a dash of Monty Python and you have The 39 Steps\, a fast-paced whodunit for anyone who loves the magic of theatre! This two-time Tony and Drama Desk Award-winning treat is packed with nonstop laughs\, over 150 zany characters (played by a ridiculously talented cast of four)\, an onstage plane crash\, handcuffs\, missing fingers\, and some good old-fashioned romance!
URL:https://vanburen.org/event/the-39-steps-an-arts-on-main-theater-production-the-koh-6/
LOCATION:AR
END:VEVENT
BEGIN:VEVENT
DTSTART;TZID=America/Chicago:20231210T130000
DTEND;TZID=America/Chicago:20231210T170000
DTSTAMP:20260422T023400
CREATED:20240401T182816Z
LAST-MODIFIED:20240401T182816Z
UID:10001143-1702213200-1702227600@vanburen.org
SUMMARY:Van Buren's Christmas Ice Skating Rink Sponsored by Generations Bank
DESCRIPTION:
URL:https://vanburen.org/event/van-burens-christmas-ice-skating-rink-sponsored-by-generations-bank-10/
LOCATION:AR
END:VEVENT
BEGIN:VEVENT
DTSTART;TZID=America/Chicago:20231215T173000
DTEND;TZID=America/Chicago:20231215T220000
DTSTAMP:20260422T023400
CREATED:20240401T182832Z
LAST-MODIFIED:20240401T182832Z
UID:10001144-1702661400-1702677600@vanburen.org
SUMMARY:Van Buren's Christmas Ice Skating Rink Sponsored by Generations Bank
DESCRIPTION:
URL:https://vanburen.org/event/van-burens-christmas-ice-skating-rink-sponsored-by-generations-bank-11/
LOCATION:AR
END:VEVENT
BEGIN:VEVENT
DTSTART;TZID=America/Chicago:20231215T190000
DTEND;TZID=America/Chicago:20231215T190000
DTSTAMP:20260422T023400
CREATED:20240401T183034Z
LAST-MODIFIED:20240401T183034Z
UID:10001156-1702666800-1702666800@vanburen.org
SUMMARY:A Christmas Story the Musical presented by CSA @ the KOH
DESCRIPTION:This musical\, which received rave reviews on its Broadway run\, is based on the movie classic that runs round-the-clock on television every Christmas. Set in the 1940s in the fictional town of Hohman\, Indiana\, the musical follows 9-year-old Ralphie Parker and his quest for the Holy Grail of Christmas gifts—an Official Red Ryder carbine-action 200-shot Range Model air rifle. Rebuffed at every turn with a similar echoing response\, Ralphie plots numerous schemes to achieve his desperate desire for the coveted BB gun. All the iconic scenes from the movie are here: Ralphie’s friend\, Flick\, getting his tongue stuck to the flagpole; his brother\, Randy\, getting dressed in his snowsuit; the bullies\, Farkus and Dill; the leg lamp award; the bunny suit; Christmas dinner; and many others. The delightfully versatile score ranges from gentle ballads to show-stopping full-ensemble numbers such as “Ralphie to the Rescue!”\, “A Major Award\,” “Sticky Situation\,” “Up on Santa’s Lap\,” “Somewhere Hovering Over Indiana” and the inevitable “You’ll Shoot Your Eye Out!” A Christmas Story\, The Musical will bring an exciting new dimension to those who have seen the movie and will certainly stand on its own for those who haven’t.
URL:https://vanburen.org/event/a-christmas-story-the-musical-presented-by-csa-the-koh-2/
LOCATION:AR
END:VEVENT
BEGIN:VEVENT
DTSTART;TZID=America/Chicago:20231216T110000
DTEND;TZID=America/Chicago:20231216T220000
DTSTAMP:20260422T023400
CREATED:20240401T182833Z
LAST-MODIFIED:20240401T182833Z
UID:10001145-1702724400-1702764000@vanburen.org
SUMMARY:Van Buren's Christmas Ice Skating Rink Sponsored by Generations Bank
DESCRIPTION:
URL:https://vanburen.org/event/van-burens-christmas-ice-skating-rink-sponsored-by-generations-bank-12/
LOCATION:AR
END:VEVENT
BEGIN:VEVENT
DTSTART;TZID=America/Chicago:20231216T140000
DTEND;TZID=America/Chicago:20231216T140000
DTSTAMP:20260422T023400
CREATED:20240401T183034Z
LAST-MODIFIED:20240401T183034Z
UID:10001157-1702735200-1702735200@vanburen.org
SUMMARY:A Christmas Story the Musical presented by CSA @ the KOH
DESCRIPTION:This musical\, which received rave reviews on its Broadway run\, is based on the movie classic that runs round-the-clock on television every Christmas. Set in the 1940s in the fictional town of Hohman\, Indiana\, the musical follows 9-year-old Ralphie Parker and his quest for the Holy Grail of Christmas gifts—an Official Red Ryder carbine-action 200-shot Range Model air rifle. Rebuffed at every turn with a similar echoing response\, Ralphie plots numerous schemes to achieve his desperate desire for the coveted BB gun. All the iconic scenes from the movie are here: Ralphie’s friend\, Flick\, getting his tongue stuck to the flagpole; his brother\, Randy\, getting dressed in his snowsuit; the bullies\, Farkus and Dill; the leg lamp award; the bunny suit; Christmas dinner; and many others. The delightfully versatile score ranges from gentle ballads to show-stopping full-ensemble numbers such as “Ralphie to the Rescue!”\, “A Major Award\,” “Sticky Situation\,” “Up on Santa’s Lap\,” “Somewhere Hovering Over Indiana” and the inevitable “You’ll Shoot Your Eye Out!” A Christmas Story\, The Musical will bring an exciting new dimension to those who have seen the movie and will certainly stand on its own for those who haven’t.
URL:https://vanburen.org/event/a-christmas-story-the-musical-presented-by-csa-the-koh-3/
LOCATION:AR
END:VEVENT
BEGIN:VEVENT
DTSTART;TZID=America/Chicago:20231216T190000
DTEND;TZID=America/Chicago:20231216T190000
DTSTAMP:20260422T023400
CREATED:20240401T183034Z
LAST-MODIFIED:20240401T183034Z
UID:10001158-1702753200-1702753200@vanburen.org
SUMMARY:A Christmas Story the Musical presented by CSA @ the KOH
DESCRIPTION:This musical\, which received rave reviews on its Broadway run\, is based on the movie classic that runs round-the-clock on television every Christmas. Set in the 1940s in the fictional town of Hohman\, Indiana\, the musical follows 9-year-old Ralphie Parker and his quest for the Holy Grail of Christmas gifts—an Official Red Ryder carbine-action 200-shot Range Model air rifle. Rebuffed at every turn with a similar echoing response\, Ralphie plots numerous schemes to achieve his desperate desire for the coveted BB gun. All the iconic scenes from the movie are here: Ralphie’s friend\, Flick\, getting his tongue stuck to the flagpole; his brother\, Randy\, getting dressed in his snowsuit; the bullies\, Farkus and Dill; the leg lamp award; the bunny suit; Christmas dinner; and many others. The delightfully versatile score ranges from gentle ballads to show-stopping full-ensemble numbers such as “Ralphie to the Rescue!”\, “A Major Award\,” “Sticky Situation\,” “Up on Santa’s Lap\,” “Somewhere Hovering Over Indiana” and the inevitable “You’ll Shoot Your Eye Out!” A Christmas Story\, The Musical will bring an exciting new dimension to those who have seen the movie and will certainly stand on its own for those who haven’t.
URL:https://vanburen.org/event/a-christmas-story-the-musical-presented-by-csa-the-koh-4/
LOCATION:AR
END:VEVENT
BEGIN:VEVENT
DTSTART;TZID=America/Chicago:20231217T130000
DTEND;TZID=America/Chicago:20231217T170000
DTSTAMP:20260422T023400
CREATED:20240401T182833Z
LAST-MODIFIED:20240401T182833Z
UID:10001146-1702818000-1702832400@vanburen.org
SUMMARY:Van Buren's Christmas Ice Skating Rink Sponsored by Generations Bank
DESCRIPTION:
URL:https://vanburen.org/event/van-burens-christmas-ice-skating-rink-sponsored-by-generations-bank-13/
LOCATION:AR
END:VEVENT
BEGIN:VEVENT
DTSTART;TZID=America/Chicago:20231218T190000
DTEND;TZID=America/Chicago:20231218T190000
DTSTAMP:20260422T023400
CREATED:20240401T183419Z
LAST-MODIFIED:20240401T183419Z
UID:10001172-1702926000-1702926000@vanburen.org
SUMMARY:MKDB presents JOY! A Gospel Celebration Through Song and Dance!     @ KOH
DESCRIPTION:
URL:https://vanburen.org/event/mkdb-presents-joy-a-gospel-celebration-through-song-and-dance-koh-2/
LOCATION:AR
END:VEVENT
BEGIN:VEVENT
DTSTART;TZID=America/Chicago:20231219T190000
DTEND;TZID=America/Chicago:20231219T190000
DTSTAMP:20260422T023400
CREATED:20240401T183419Z
LAST-MODIFIED:20240401T183419Z
UID:10001173-1703012400-1703012400@vanburen.org
SUMMARY:Gabrielle Gore presents Holidays for Heroes     @ KOH
DESCRIPTION:
URL:https://vanburen.org/event/gabrielle-gore-presents-holidays-for-heroes-koh-2/
LOCATION:AR
END:VEVENT
BEGIN:VEVENT
DTSTART;TZID=America/Chicago:20231223T140000
DTEND;TZID=America/Chicago:20231223T140000
DTSTAMP:20260422T023400
CREATED:20240401T182537Z
LAST-MODIFIED:20240401T182537Z
UID:10001117-1703340000-1703340000@vanburen.org
SUMMARY:Movies @ KOH "The Penitent Thief"
DESCRIPTION:This year the King Opera House is be offering a series of movies from the Fort Smith Film Festival. Admission is free\, but a $5 donation is suggested. Please note that these independent movies are not rated.\nThe Penitent Thief is the story of the two unnamed men who were crucified alongside Jesus and how they came to be beside him on the cross that fateful day.
URL:https://vanburen.org/event/movies-koh-the-penitent-thief-2/
LOCATION:AR
END:VEVENT
BEGIN:VEVENT
DTSTART;TZID=America/Chicago:20231229T173000
DTEND;TZID=America/Chicago:20231229T220000
DTSTAMP:20260422T023400
CREATED:20240401T182833Z
LAST-MODIFIED:20240401T182833Z
UID:10001147-1703871000-1703887200@vanburen.org
SUMMARY:Van Buren's Christmas Ice Skating Rink Sponsored by Generations Bank
DESCRIPTION:
URL:https://vanburen.org/event/van-burens-christmas-ice-skating-rink-sponsored-by-generations-bank-14/
LOCATION:AR
END:VEVENT
BEGIN:VEVENT
DTSTART;TZID=America/Chicago:20231230T110000
DTEND;TZID=America/Chicago:20231230T220000
DTSTAMP:20260422T023400
CREATED:20240401T182833Z
LAST-MODIFIED:20240401T182833Z
UID:10001148-1703934000-1703973600@vanburen.org
SUMMARY:Van Buren's Christmas Ice Skating Rink Sponsored by Generations Bank
DESCRIPTION:
URL:https://vanburen.org/event/van-burens-christmas-ice-skating-rink-sponsored-by-generations-bank-15/
LOCATION:AR
END:VEVENT
BEGIN:VEVENT
DTSTART;TZID=America/Chicago:20231231T130000
DTEND;TZID=America/Chicago:20231231T170000
DTSTAMP:20260422T023400
CREATED:20240401T183016Z
LAST-MODIFIED:20240401T183016Z
UID:10001149-1704027600-1704042000@vanburen.org
SUMMARY:Van Buren's Christmas Ice Skating Rink Sponsored by Generations Bank
DESCRIPTION:
URL:https://vanburen.org/event/van-burens-christmas-ice-skating-rink-sponsored-by-generations-bank-16/
LOCATION:AR
END:VEVENT
BEGIN:VEVENT
DTSTART;TZID=America/Chicago:20240125T190000
DTEND;TZID=America/Chicago:20240125T190000
DTSTAMP:20260422T023400
CREATED:20240401T183234Z
LAST-MODIFIED:20240401T183234Z
UID:10001164-1706209200-1706209200@vanburen.org
SUMMARY:Twitty and Lynn – A Salute to Conway and Loretta     at KOH
DESCRIPTION:There’s a moment right at the very beginning of any Twitty & Lynn show that affords country music fans the chance to look back in time. Just after the band has played the signature intro to “Louisiana Woman\, Mississippi Man\,” Tre Twitty and Tayla Lynn shoot each other a glance that summons the electrifying chemistry of their grandparents: Tre is the grandson of Conway Twitty\, Tayla is the granddaughter of Loretta Lynn.\nAudiences can’t believe their eyes. From that moment\, for the next 90 minutes\, they’re in the presence of living country music history. \n“Fans have told Tayla and me that when they see us onstage singing\, talking\, and just looking at each other\, they think\, ‘Wow\, there must be something genetic in those two families\,’” Tre says. “It validates the experience of the concert for them. We’re telling our grandparents’ story through our story.”
URL:https://vanburen.org/event/twitty-and-lynn-a-salute-to-conway-and-loretta-at-koh-2/
LOCATION:AR
END:VEVENT
BEGIN:VEVENT
DTSTART;TZID=UTC:20240129T000000
DTEND;TZID=UTC:20240129T000000
DTSTAMP:20260422T023400
CREATED:20240326T152850Z
LAST-MODIFIED:20240326T152850Z
UID:10000359-1706486400-1706486400@vanburen.org
SUMMARY:Sherlock the Musical... presented by The Young Actors Guild @ The Van Buren Fine Arts Center
DESCRIPTION:Are you watching close enough?Sherlock Holmes\, London’s greatest Victorian-era detective\, and his loyal friend and companion\, Dr. John Watson\, are faced with their most dire case yet.\nWhen a high-ranking government official disappears\, Sherlock will race against time to solve the mystery and uncover a more sinister plot than the sleuth and his companion ever could have imagined. The game is on! \nMusic & Lyrics by Denning Burton \nBook by Denning Burton and Stefan van de Graaff \nDirected by Missy Gipson \nMusic Directed by Gini Law \nMusic\, Book & Story: Steve Martin <https://www.theatricalrights.com/author/steve-martin/> \nMusic\, Lyrics & Story: Edie Brickell <https://www.theatricalrights.com/author/edie-brickell/>
URL:https://vanburen.org/event/sherlock-the-musical-presented-by-the-young-actors-guild-the-van-buren-fine-arts-center/
LOCATION:AR
END:VEVENT
BEGIN:VEVENT
DTSTART;TZID=UTC:20240129T000000
DTEND;TZID=UTC:20240129T000000
DTSTAMP:20260422T023400
CREATED:20240326T152851Z
LAST-MODIFIED:20240326T152906Z
UID:10000360-1706486400-1706486400@vanburen.org
SUMMARY:Sherlock the Musical... presented by The Young Actors Guild @ The Van Buren Fine Arts Center
DESCRIPTION:Are you watching close enough?Sherlock Holmes\, London’s greatest Victorian-era detective\, and his loyal friend and companion\, Dr. John Watson\, are faced with their most dire case yet.\nWhen a high-ranking government official disappears\, Sherlock will race against time to solve the mystery and uncover a more sinister plot than the sleuth and his companion ever could have imagined. The game is on! \nMusic & Lyrics by Denning Burton \nBook by Denning Burton and Stefan van de Graaff \nDirected by Missy Gipson \nMusic Directed by Gini Law \nMusic\, Book & Story: Steve Martin <https://www.theatricalrights.com/author/steve-martin/> \nMusic\, Lyrics & Story: Edie Brickell <https://www.theatricalrights.com/author/edie-brickell/>
URL:https://vanburen.org/event/sherlock-the-musical-presented-by-the-young-actors-guild-the-van-buren-fine-arts-center-2/
LOCATION:AR
END:VEVENT
BEGIN:VEVENT
DTSTART;TZID=UTC:20240129T000000
DTEND;TZID=UTC:20240129T000000
DTSTAMP:20260422T023400
CREATED:20240326T152851Z
LAST-MODIFIED:20240326T152851Z
UID:10000361-1706486400-1706486400@vanburen.org
SUMMARY:Sherlock the Musical... presented by The Young Actors Guild @ The Van Buren Fine Arts Center
DESCRIPTION:Are you watching close enough?Sherlock Holmes\, London’s greatest Victorian-era detective\, and his loyal friend and companion\, Dr. John Watson\, are faced with their most dire case yet.\nWhen a high-ranking government official disappears\, Sherlock will race against time to solve the mystery and uncover a more sinister plot than the sleuth and his companion ever could have imagined. The game is on! \nMusic & Lyrics by Denning Burton \nBook by Denning Burton and Stefan van de Graaff \nDirected by Missy Gipson \nMusic Directed by Gini Law \nMusic\, Book & Story: Steve Martin <https://www.theatricalrights.com/author/steve-martin/> \nMusic\, Lyrics & Story: Edie Brickell <https://www.theatricalrights.com/author/edie-brickell/>
URL:https://vanburen.org/event/sherlock-the-musical-presented-by-the-young-actors-guild-the-van-buren-fine-arts-center-3/
LOCATION:AR
END:VEVENT
END:VCALENDAR