BEGIN:VCALENDAR
VERSION:2.0
PRODID:-//Van Buren Advertising &amp; Promotions Commission - ECPv6.15.20//NONSGML v1.0//EN
CALSCALE:GREGORIAN
METHOD:PUBLISH
X-ORIGINAL-URL:https://vanburen.org
X-WR-CALDESC:Events for Van Buren Advertising &amp; Promotions Commission
REFRESH-INTERVAL;VALUE=DURATION:PT1H
X-Robots-Tag:noindex
X-PUBLISHED-TTL:PT1H
BEGIN:VTIMEZONE
TZID:America/Chicago
BEGIN:DAYLIGHT
TZOFFSETFROM:-0600
TZOFFSETTO:-0500
TZNAME:CDT
DTSTART:20220313T080000
END:DAYLIGHT
BEGIN:STANDARD
TZOFFSETFROM:-0500
TZOFFSETTO:-0600
TZNAME:CST
DTSTART:20221106T070000
END:STANDARD
BEGIN:DAYLIGHT
TZOFFSETFROM:-0600
TZOFFSETTO:-0500
TZNAME:CDT
DTSTART:20230312T080000
END:DAYLIGHT
BEGIN:STANDARD
TZOFFSETFROM:-0500
TZOFFSETTO:-0600
TZNAME:CST
DTSTART:20231105T070000
END:STANDARD
BEGIN:DAYLIGHT
TZOFFSETFROM:-0600
TZOFFSETTO:-0500
TZNAME:CDT
DTSTART:20240310T080000
END:DAYLIGHT
BEGIN:STANDARD
TZOFFSETFROM:-0500
TZOFFSETTO:-0600
TZNAME:CST
DTSTART:20241103T070000
END:STANDARD
END:VTIMEZONE
BEGIN:VEVENT
DTSTART;TZID=America/Chicago:20230407T190000
DTEND;TZID=America/Chicago:20230407T190000
DTSTAMP:20260422T060949
CREATED:20240401T180019Z
LAST-MODIFIED:20240401T180019Z
UID:10001048-1680894000-1680894000@vanburen.org
SUMMARY:Paul Brock Band High powered music from Ireland
DESCRIPTION:
URL:https://vanburen.org/event/paul-brock-band-high-powered-music-from-ireland-2/
LOCATION:AR
END:VEVENT
BEGIN:VEVENT
DTSTART;TZID=America/Chicago:20230408T100000
DTEND;TZID=America/Chicago:20230408T170000
DTSTAMP:20260422T060949
CREATED:20240401T173808Z
LAST-MODIFIED:20240401T173808Z
UID:10000996-1680948000-1680973200@vanburen.org
SUMMARY:Easter Shopping on Main
DESCRIPTION:More information to come.
URL:https://vanburen.org/event/easter-shopping-on-main-2/
LOCATION:AR
END:VEVENT
BEGIN:VEVENT
DTSTART;TZID=America/Chicago:20230408T110000
DTEND;TZID=America/Chicago:20230408T140000
DTSTAMP:20260422T060949
CREATED:20240401T175818Z
LAST-MODIFIED:20240401T175818Z
UID:10001041-1680951600-1680962400@vanburen.org
SUMMARY:Ride the Excursion Train Van Buren to Winslow roundtrip
DESCRIPTION:This three-hour\, 70-mile round trip excursion takes you through the ruggedly beautiful Boston Mountain range of the Ozarks\, over three valley trestles and through the 1700-foot-long Winslow tunnel.
URL:https://vanburen.org/event/ride-the-excursion-train-van-buren-to-winslow-roundtrip-2/
LOCATION:AR
END:VEVENT
BEGIN:VEVENT
DTSTART;TZID=America/Chicago:20230408T190000
DTEND;TZID=America/Chicago:20230408T190000
DTSTAMP:20260422T060949
CREATED:20240401T180219Z
LAST-MODIFIED:20240401T180219Z
UID:10001049-1680980400-1680980400@vanburen.org
SUMMARY:Impact Wrestling Federation:  Slam-a-Mania!
DESCRIPTION:
URL:https://vanburen.org/event/impact-wrestling-federation-slam-a-mania-2/
LOCATION:AR
END:VEVENT
BEGIN:VEVENT
DTSTART;TZID=America/Chicago:20230414T110000
DTEND;TZID=America/Chicago:20230414T140000
DTSTAMP:20260422T060949
CREATED:20240401T175818Z
LAST-MODIFIED:20240401T175818Z
UID:10001042-1681470000-1681480800@vanburen.org
SUMMARY:Ride the Excursion Train Van Buren to Winslow roundtrip
DESCRIPTION:This three-hour\, 70-mile round trip excursion takes you through the ruggedly beautiful Boston Mountain range of the Ozarks\, over three valley trestles and through the 1700-foot-long Winslow tunnel.
URL:https://vanburen.org/event/ride-the-excursion-train-van-buren-to-winslow-roundtrip-3/
LOCATION:AR
END:VEVENT
BEGIN:VEVENT
DTSTART;VALUE=DATE:20230421
DTEND;VALUE=DATE:20230422
DTSTAMP:20260422T060949
CREATED:20240401T174813Z
LAST-MODIFIED:20240401T174813Z
UID:10001023-1682035200-1682121599@vanburen.org
SUMMARY:Western Arkansas Ballet presents Sleeping Beauty Ballet at the King Opera House
DESCRIPTION:More information to come
URL:https://vanburen.org/event/western-arkansas-ballet-presents-sleeping-beauty-ballet-at-the-king-opera-house-4/
LOCATION:AR
END:VEVENT
BEGIN:VEVENT
DTSTART;VALUE=DATE:20230422
DTEND;VALUE=DATE:20230423
DTSTAMP:20260422T060949
CREATED:20240401T175013Z
LAST-MODIFIED:20240401T175013Z
UID:10001024-1682121600-1682207999@vanburen.org
SUMMARY:Western Arkansas Ballet presents Sleeping Beauty Ballet at the King Opera House
DESCRIPTION:More information to come
URL:https://vanburen.org/event/western-arkansas-ballet-presents-sleeping-beauty-ballet-at-the-king-opera-house-5/
LOCATION:AR
END:VEVENT
BEGIN:VEVENT
DTSTART;TZID=America/Chicago:20230422T100000
DTEND;TZID=America/Chicago:20230422T180000
DTSTAMP:20260422T060949
CREATED:20240401T180019Z
LAST-MODIFIED:20240401T180019Z
UID:10001045-1682157600-1682186400@vanburen.org
SUMMARY:2023 Earth Day Festival
DESCRIPTION:
URL:https://vanburen.org/event/2023-earth-day-festival-2/
LOCATION:AR
END:VEVENT
BEGIN:VEVENT
DTSTART;TZID=America/Chicago:20230422T110000
DTEND;TZID=America/Chicago:20230422T140000
DTSTAMP:20260422T060949
CREATED:20240401T175818Z
LAST-MODIFIED:20240401T175818Z
UID:10001043-1682161200-1682172000@vanburen.org
SUMMARY:Ride the Excursion Train Van Buren to Winslow roundtrip
DESCRIPTION:This three-hour\, 70-mile round trip excursion takes you through the ruggedly beautiful Boston Mountain range of the Ozarks\, over three valley trestles and through the 1700-foot-long Winslow tunnel.
URL:https://vanburen.org/event/ride-the-excursion-train-van-buren-to-winslow-roundtrip-4/
LOCATION:AR
END:VEVENT
BEGIN:VEVENT
DTSTART;VALUE=DATE:20230423
DTEND;VALUE=DATE:20230424
DTSTAMP:20260422T060949
CREATED:20240401T175013Z
LAST-MODIFIED:20240401T175013Z
UID:10001025-1682208000-1682294399@vanburen.org
SUMMARY:Western Arkansas Ballet presents Sleeping Beauty Ballet at the King Opera House
DESCRIPTION:More information to come
URL:https://vanburen.org/event/western-arkansas-ballet-presents-sleeping-beauty-ballet-at-the-king-opera-house-6/
LOCATION:AR
END:VEVENT
BEGIN:VEVENT
DTSTART;TZID=America/Chicago:20230424T190000
DTEND;TZID=America/Chicago:20230424T190000
DTSTAMP:20260422T060949
CREATED:20240401T180220Z
LAST-MODIFIED:20240401T180220Z
UID:10001053-1682362800-1682362800@vanburen.org
SUMMARY:Patch the Pirate Goes West\, a musical presented by Young Christian Musicians Ensemble at KOH
DESCRIPTION:
URL:https://vanburen.org/event/patch-the-pirate-goes-west-a-musical-presented-by-young-christian-musicians-ensemble-at-koh-2/
LOCATION:AR
END:VEVENT
BEGIN:VEVENT
DTSTART;TZID=America/Chicago:20230426T110000
DTEND;TZID=America/Chicago:20230426T140000
DTSTAMP:20260422T060949
CREATED:20240401T180018Z
LAST-MODIFIED:20240401T180018Z
UID:10001044-1682506800-1682517600@vanburen.org
SUMMARY:Ride the Excursion Train Van Buren to Winslow roundtrip
DESCRIPTION:This three-hour\, 70-mile round trip excursion takes you through the ruggedly beautiful Boston Mountain range of the Ozarks\, over three valley trestles and through the 1700-foot-long Winslow tunnel.
URL:https://vanburen.org/event/ride-the-excursion-train-van-buren-to-winslow-roundtrip-5/
LOCATION:AR
END:VEVENT
END:VCALENDAR