BEGIN:VCALENDAR
VERSION:2.0
PRODID:-//Van Buren Advertising &amp; Promotions Commission - ECPv6.15.20//NONSGML v1.0//EN
CALSCALE:GREGORIAN
METHOD:PUBLISH
X-ORIGINAL-URL:https://vanburen.org
X-WR-CALDESC:Events for Van Buren Advertising &amp; Promotions Commission
REFRESH-INTERVAL;VALUE=DURATION:PT1H
X-Robots-Tag:noindex
X-PUBLISHED-TTL:PT1H
BEGIN:VTIMEZONE
TZID:America/Chicago
BEGIN:DAYLIGHT
TZOFFSETFROM:-0600
TZOFFSETTO:-0500
TZNAME:CDT
DTSTART:20220313T080000
END:DAYLIGHT
BEGIN:STANDARD
TZOFFSETFROM:-0500
TZOFFSETTO:-0600
TZNAME:CST
DTSTART:20221106T070000
END:STANDARD
BEGIN:DAYLIGHT
TZOFFSETFROM:-0600
TZOFFSETTO:-0500
TZNAME:CDT
DTSTART:20230312T080000
END:DAYLIGHT
BEGIN:STANDARD
TZOFFSETFROM:-0500
TZOFFSETTO:-0600
TZNAME:CST
DTSTART:20231105T070000
END:STANDARD
BEGIN:DAYLIGHT
TZOFFSETFROM:-0600
TZOFFSETTO:-0500
TZNAME:CDT
DTSTART:20240310T080000
END:DAYLIGHT
BEGIN:STANDARD
TZOFFSETFROM:-0500
TZOFFSETTO:-0600
TZNAME:CST
DTSTART:20241103T070000
END:STANDARD
END:VTIMEZONE
BEGIN:VTIMEZONE
TZID:UTC
BEGIN:STANDARD
TZOFFSETFROM:+0000
TZOFFSETTO:+0000
TZNAME:UTC
DTSTART:20220101T000000
END:STANDARD
END:VTIMEZONE
BEGIN:VEVENT
DTSTART;TZID=America/Chicago:20230505T190000
DTEND;TZID=America/Chicago:20230505T190000
DTSTAMP:20260422T060949
CREATED:20240401T175014Z
LAST-MODIFIED:20240401T175014Z
UID:10001027-1683313200-1683313200@vanburen.org
SUMMARY:Community School of the Arts Production: Matilda jr
DESCRIPTION:
URL:https://vanburen.org/event/community-school-of-the-arts-production-matilda-jr-4/
LOCATION:AR
END:VEVENT
BEGIN:VEVENT
DTSTART;TZID=America/Chicago:20230506T110000
DTEND;TZID=America/Chicago:20230506T140000
DTSTAMP:20260422T060949
CREATED:20240401T180421Z
LAST-MODIFIED:20240401T180421Z
UID:10001054-1683370800-1683381600@vanburen.org
SUMMARY:Ride the Train Van Buren to Winslow roundtrip
DESCRIPTION:This three-hour\, 70-mile round trip excursion takes you through the ruggedly beautiful Boston Mountain range of the Ozarks\, over three valley trestles and through the 1700-foot-long Winslow tunnel.
URL:https://vanburen.org/event/ride-the-train-van-buren-to-winslow-roundtrip-8/
LOCATION:AR
END:VEVENT
BEGIN:VEVENT
DTSTART;TZID=America/Chicago:20230506T140000
DTEND;TZID=America/Chicago:20230506T140000
DTSTAMP:20260422T060949
CREATED:20240401T175014Z
LAST-MODIFIED:20240401T175014Z
UID:10001028-1683381600-1683381600@vanburen.org
SUMMARY:Community School of the Arts Production: Matilda jr
DESCRIPTION:
URL:https://vanburen.org/event/community-school-of-the-arts-production-matilda-jr-5/
LOCATION:AR
END:VEVENT
BEGIN:VEVENT
DTSTART;TZID=America/Chicago:20230506T190000
DTEND;TZID=America/Chicago:20230506T190000
DTSTAMP:20260422T060949
CREATED:20240401T175418Z
LAST-MODIFIED:20240401T175418Z
UID:10001029-1683399600-1683399600@vanburen.org
SUMMARY:Community School of the Arts Production: Matilda jr
DESCRIPTION:
URL:https://vanburen.org/event/community-school-of-the-arts-production-matilda-jr-6/
LOCATION:AR
END:VEVENT
BEGIN:VEVENT
DTSTART;TZID=America/Chicago:20230507T170000
DTEND;TZID=America/Chicago:20230507T170000
DTSTAMP:20260422T060949
CREATED:20240401T180219Z
LAST-MODIFIED:20240401T180219Z
UID:10001050-1683478800-1683478800@vanburen.org
SUMMARY:Miss K's Dance Bungalow
DESCRIPTION:
URL:https://vanburen.org/event/miss-ks-dance-bungalow-3/
LOCATION:AR
END:VEVENT
BEGIN:VEVENT
DTSTART;TZID=America/Chicago:20230508T190000
DTEND;TZID=America/Chicago:20230508T190000
DTSTAMP:20260422T060949
CREATED:20240401T180220Z
LAST-MODIFIED:20240401T180220Z
UID:10001051-1683572400-1683572400@vanburen.org
SUMMARY:Miss K's Dance Bungalow
DESCRIPTION:
URL:https://vanburen.org/event/miss-ks-dance-bungalow-4/
LOCATION:AR
END:VEVENT
BEGIN:VEVENT
DTSTART;VALUE=DATE:20230513
DTEND;VALUE=DATE:20230514
DTSTAMP:20260422T060949
CREATED:20240401T175014Z
LAST-MODIFIED:20240401T175014Z
UID:10001026-1683936000-1684022399@vanburen.org
SUMMARY:Western Arkansas Ballet Spring Concert at The KOH
DESCRIPTION:More information to come.
URL:https://vanburen.org/event/western-arkansas-ballet-spring-concert-at-the-koh-2/
LOCATION:AR
END:VEVENT
BEGIN:VEVENT
DTSTART;TZID=America/Chicago:20230513T090000
DTEND;TZID=America/Chicago:20230513T180000
DTSTAMP:20260422T060949
CREATED:20240401T173808Z
LAST-MODIFIED:20240401T173808Z
UID:10000997-1683968400-1684000800@vanburen.org
SUMMARY:OLD TIMERS DAY STEAMPUNK FESTIVAL
DESCRIPTION:MORE INFORMATION TO COME.
URL:https://vanburen.org/event/old-timers-day-steampunk-festival-13/
LOCATION:AR
END:VEVENT
BEGIN:VEVENT
DTSTART;TZID=America/Chicago:20230513T110000
DTEND;TZID=America/Chicago:20230513T140000
DTSTAMP:20260422T060949
CREATED:20240401T180421Z
LAST-MODIFIED:20240401T180421Z
UID:10001055-1683975600-1683986400@vanburen.org
SUMMARY:Ride the Train Van Buren to Winslow roundtrip
DESCRIPTION:This three-hour\, 70-mile round trip excursion takes you through the ruggedly beautiful Boston Mountain range of the Ozarks\, over three valley trestles and through the 1700-foot-long Winslow tunnel.
URL:https://vanburen.org/event/ride-the-train-van-buren-to-winslow-roundtrip-9/
LOCATION:AR
END:VEVENT
BEGIN:VEVENT
DTSTART;TZID=America/Chicago:20230514T100000
DTEND;TZID=America/Chicago:20230514T160000
DTSTAMP:20260422T060949
CREATED:20240401T173808Z
LAST-MODIFIED:20240401T173808Z
UID:10000998-1684058400-1684080000@vanburen.org
SUMMARY:OLD TIMERS DAY STEAMPUNK FESTIVAL
DESCRIPTION:MORE INFORMATION TO COME.
URL:https://vanburen.org/event/old-timers-day-steampunk-festival-14/
LOCATION:AR
END:VEVENT
BEGIN:VEVENT
DTSTART;TZID=UTC:20230516T000000
DTEND;TZID=UTC:20230516T000000
DTSTAMP:20260422T060949
CREATED:20240326T150814Z
LAST-MODIFIED:20240326T150814Z
UID:10000294-1684195200-1684195200@vanburen.org
SUMMARY:CITY OF VAN BUREN FIREWORKS
DESCRIPTION:
URL:https://vanburen.org/event/city-of-van-buren-fireworks-2/
LOCATION:AR
END:VEVENT
BEGIN:VEVENT
DTSTART;VALUE=DATE:20230519
DTEND;VALUE=DATE:20230520
DTSTAMP:20260422T060949
CREATED:20240401T175418Z
LAST-MODIFIED:20240401T175418Z
UID:10001030-1684454400-1684540799@vanburen.org
SUMMARY:The Edwards Twins – the Ultimate Variety Show!      Held at the KOH
DESCRIPTION:Remember all the wonderful Variety shows we all grew up on in the 70’s & 80’s? Now is your chance to see them live and re-created by Las Vegas’ number one impersonators of all time. All your favorite legendary Superstars come alive in An Evening with The Stars. The NBC Today show says “it’s one of the most extra­ordinary shows we have ever seen.” Sonny & Cher\, Billy Joel\, Elton John\, Neil Diamond\, Lionel Richie\, Stevie Wonder\, Ray Charles\, Lady Gaga\, Celine Dion\, Rod Stewart\, Bette Midler\, Barbra Streisand\, Andrea Bocelli\, Tom Jones\, and many many more hosted by THE EDWARDS TWINS FROM LAS VEGAS. All live vocals Each Star sings their number 1 hits as well as of your favorite Songs …\nIn a world of tribute shows and impersonators there is NO other show like The Edwards Twins … PERIOD! \nTwin brothers Anthony and Eddie Edwards are the country’s premiere Celebrity Illusionists! Utilizing the latest Hollywood grade make up and prosthetics as well as the fashion designers of the stars themselves- the end result is a non-stop parade of stars on stage that are all at once AMAZING\, FUNNY and ENTERTAINING. As one newspaper review noted “they bring such love and attention to recreating celebrities that in many ways it’s better than watching the real thing!” \nThe Brothers have been seen on shows such as The Tonight Show\, Entertainment Tonight\, The Today Show\, Ellen and currently appear in the “Kominsky Method” with Michael Douglas and Alan Arkin. The Edwards Twins perform over 250 shows per year around the country and the world. They recent performed 10 packed shows at The World Casino in Singapore and tour the state of Florida to sold out audiences from January until April annually. \nTICKET INFORMATION TO COME!
URL:https://vanburen.org/event/the-edwards-twins-the-ultimate-variety-show-held-at-the-koh-2/
LOCATION:AR
END:VEVENT
BEGIN:VEVENT
DTSTART;TZID=America/Chicago:20230520T110000
DTEND;TZID=America/Chicago:20230520T140000
DTSTAMP:20260422T060949
CREATED:20240401T180421Z
LAST-MODIFIED:20240401T180421Z
UID:10001056-1684580400-1684591200@vanburen.org
SUMMARY:Ride the Train Van Buren to Winslow roundtrip
DESCRIPTION:This three-hour\, 70-mile round trip excursion takes you through the ruggedly beautiful Boston Mountain range of the Ozarks\, over three valley trestles and through the 1700-foot-long Winslow tunnel.
URL:https://vanburen.org/event/ride-the-train-van-buren-to-winslow-roundtrip-10/
LOCATION:AR
END:VEVENT
BEGIN:VEVENT
DTSTART;TZID=America/Chicago:20230520T200000
DTEND;TZID=America/Chicago:20230521T020000
DTSTAMP:20260422T060949
CREATED:20240401T174612Z
LAST-MODIFIED:20240401T174612Z
UID:10001018-1684612800-1684634400@vanburen.org
SUMMARY:HAUNTED ROOMS AMERICA INVITES YOU TO "King Opera House A Historic Venue Haunted by The Ghost of a Murdered Actor!"
DESCRIPTION:Located on Main Street in the heart of Van Buren’s Historic District\, the King Opera House has entertained the local community for over 140 years.Stories of the paranormal goings-on here have lasted nearly as long\, with reports going back to the early 1900s. Our ghost hunt at this historic opera house will take you back to the Victorian era. Join Haunted Rooms America as we explore the darkness of this incredibly haunted building.\nWhat’s Included?\nYour ghost hunt at The King Opera House includes the following:\nGhost Hunting Vigils\,\nStructured Vigils\,\nGhost Hunt with experienced Ghost Hunting Team\,\nUse of our traditional and state-of-the-art paranormal equipment which includes\, trigger objects and EMF Meters\, and more\,\nPrivate time to explore this location and to undertake your very own private vigils\,\nUnlimited refreshments are available throughout the night\, including Soft Drinks\, and Bottled Water.\nSelection of snacks.
URL:https://vanburen.org/event/haunted-rooms-america-invites-you-to-king-opera-house-a-historic-venue-haunted-by-the-ghost-of-a-murdered-actor-4/
LOCATION:AR
END:VEVENT
BEGIN:VEVENT
DTSTART;TZID=America/Chicago:20230527T110000
DTEND;TZID=America/Chicago:20230527T140000
DTSTAMP:20260422T060949
CREATED:20240401T180421Z
LAST-MODIFIED:20240401T180421Z
UID:10001057-1685185200-1685196000@vanburen.org
SUMMARY:Ride the Train Van Buren to Winslow roundtrip
DESCRIPTION:This three-hour\, 70-mile round trip excursion takes you through the ruggedly beautiful Boston Mountain range of the Ozarks\, over three valley trestles and through the 1700-foot-long Winslow tunnel.
URL:https://vanburen.org/event/ride-the-train-van-buren-to-winslow-roundtrip-11/
LOCATION:AR
END:VEVENT
BEGIN:VEVENT
DTSTART;TZID=America/Chicago:20230527T130000
DTEND;TZID=America/Chicago:20230527T130000
DTSTAMP:20260422T060949
CREATED:20240401T180823Z
LAST-MODIFIED:20240401T180823Z
UID:10001067-1685192400-1685192400@vanburen.org
SUMMARY:Van Buren Pioneer Day Parade
DESCRIPTION:
URL:https://vanburen.org/event/van-buren-pioneer-day-parade-4/
LOCATION:AR
END:VEVENT
END:VCALENDAR