BEGIN:VCALENDAR
VERSION:2.0
PRODID:-//Van Buren Advertising &amp; Promotions Commission - ECPv6.15.20//NONSGML v1.0//EN
CALSCALE:GREGORIAN
METHOD:PUBLISH
X-ORIGINAL-URL:https://vanburen.org
X-WR-CALDESC:Events for Van Buren Advertising &amp; Promotions Commission
REFRESH-INTERVAL;VALUE=DURATION:PT1H
X-Robots-Tag:noindex
X-PUBLISHED-TTL:PT1H
BEGIN:VTIMEZONE
TZID:America/Chicago
BEGIN:DAYLIGHT
TZOFFSETFROM:-0600
TZOFFSETTO:-0500
TZNAME:CDT
DTSTART:20220313T080000
END:DAYLIGHT
BEGIN:STANDARD
TZOFFSETFROM:-0500
TZOFFSETTO:-0600
TZNAME:CST
DTSTART:20221106T070000
END:STANDARD
BEGIN:DAYLIGHT
TZOFFSETFROM:-0600
TZOFFSETTO:-0500
TZNAME:CDT
DTSTART:20230312T080000
END:DAYLIGHT
BEGIN:STANDARD
TZOFFSETFROM:-0500
TZOFFSETTO:-0600
TZNAME:CST
DTSTART:20231105T070000
END:STANDARD
BEGIN:DAYLIGHT
TZOFFSETFROM:-0600
TZOFFSETTO:-0500
TZNAME:CDT
DTSTART:20240310T080000
END:DAYLIGHT
BEGIN:STANDARD
TZOFFSETFROM:-0500
TZOFFSETTO:-0600
TZNAME:CST
DTSTART:20241103T070000
END:STANDARD
END:VTIMEZONE
BEGIN:VTIMEZONE
TZID:UTC
BEGIN:STANDARD
TZOFFSETFROM:+0000
TZOFFSETTO:+0000
TZNAME:UTC
DTSTART:20220101T000000
END:STANDARD
END:VTIMEZONE
BEGIN:VEVENT
DTSTART;TZID=America/Chicago:20230701T110000
DTEND;TZID=America/Chicago:20230701T140000
DTSTAMP:20260422T005015
CREATED:20240401T180622Z
LAST-MODIFIED:20240401T180622Z
UID:10001063-1688209200-1688220000@vanburen.org
SUMMARY:Ride the Train Van Buren to Winslow roundtrip
DESCRIPTION:This three-hour\, 70-mile round trip excursion takes you through the ruggedly beautiful Boston Mountain range of the Ozarks\, over three valley trestles and through the 1700-foot-long Winslow tunnel.
URL:https://vanburen.org/event/ride-the-train-van-buren-to-winslow-roundtrip-17/
LOCATION:AR
END:VEVENT
BEGIN:VEVENT
DTSTART;TZID=America/Chicago:20230704T190000
DTEND;TZID=America/Chicago:20230704T190000
DTSTAMP:20260422T005015
CREATED:20240401T181024Z
LAST-MODIFIED:20240401T181024Z
UID:10001070-1688497200-1688497200@vanburen.org
SUMMARY:CITY OF VAN BUREN FIREWORKS
DESCRIPTION:
URL:https://vanburen.org/event/city-of-van-buren-fireworks-3/
LOCATION:AR
END:VEVENT
BEGIN:VEVENT
DTSTART;TZID=UTC:20230706T000000
DTEND;TZID=UTC:20230706T000000
DTSTAMP:20260422T005015
CREATED:20240326T151618Z
LAST-MODIFIED:20240326T151618Z
UID:10000307-1688601600-1688601600@vanburen.org
SUMMARY:Slick Hickory Outlaw Country Band @ KOH
DESCRIPTION:Slick Hickory Outlaw Country Band is a group of musicians that do songs from the early days of the Bakersfield sound of the 60’s  70’s 80’s. You will hear songs such as Buck Owens – I’ve Got a Tiger by the Tail\, Merle Haggard – “Ramblin´ Fever”\, Waylon Jennings – Lonesome\, On’ry and Mean\, Willie Nelson – Whiskey River\, \nAmong many more hits by other artists of the Outlaw Era! We have spent a lifetime of doing  Stand Up\, Unpolished\, Unrehearsed\, Hard-drivin’ Outlaw Country!
URL:https://vanburen.org/event/slick-hickory-outlaw-country-band-koh/
LOCATION:AR
END:VEVENT
BEGIN:VEVENT
DTSTART;TZID=UTC:20230706T000000
DTEND;TZID=UTC:20230706T000000
DTSTAMP:20260422T005015
CREATED:20240326T151618Z
LAST-MODIFIED:20240326T151618Z
UID:10000306-1688601600-1688601600@vanburen.org
SUMMARY:Movie @ the KOH "Indians\, Outlaws\, Marshalls\, and the Hangin Judge"
DESCRIPTION:This year the King Opera House is be offering a series of movies from the Fort Smith Film Festival. Admission is free\, but a $5 donation is suggested. Please note that these independent movies are not rated.\nIndians\, Outlaws\, Marshals and the Hangin’ Judge \nWhile set in the late 19th century\, the stories documented in this film resonate today: gun violence\, racial strife\, police brutality and American Indian rights. This is a true tale of Indian removal\, crime\, capital punishment and a charismatic federal judge who sentenced scores of felons to “hang by the neck until you are dead.” Outlaw gangs hid from the law in lands given to native people\, until Indian Territory was taken away and turned back to settlers. Told in first person using the actual words written by St. Louis Republic newspaper reporter Ada Patterson in September 1896\, this real-life story is set in and around Fort Smith\, Arkansas\, in the same time and place as the fictional Western novel and film\, True Grit. Patterson narrates\, much as Mattie Ross tells the story in the Charles Portis classic. With careful and honest detail to the words and visual history of the era\, we re-create Patterson’s interview with Judge Isaac Parker\, the infamous “hanging Judge\,” conducted on the date (September 1\, 1896) Parker’s court was stripped by Congress of its jurisdiction over Indian Territory. Parker\, who was dying of kidney disease\, tells Patterson a gripping tale of his court\, and his view of American Indians: “Twenty-one year’s experience has taught me they are a religiously inclined\, law-abiding\, authority-respecting people\,” and of the “brutes” who stood trial before his bench. “
URL:https://vanburen.org/event/movie-the-koh-indians-outlaws-marshalls-and-the-hangin-judge/
LOCATION:AR
END:VEVENT
BEGIN:VEVENT
DTSTART;TZID=UTC:20230706T000000
DTEND;TZID=UTC:20230706T000000
DTSTAMP:20260422T005015
CREATED:20240326T151624Z
LAST-MODIFIED:20240326T151624Z
UID:10000308-1688601600-1688601600@vanburen.org
SUMMARY:TYRUS LIVE ONE NIGHT ONLY @ KOH
DESCRIPTION:Fox News Channel Contributor\, Comedian\, NWA Wrestling Superstar\, and Bestselling Author\, Tyrus\, takes the stage LIVE and in-person.\nYou see him on TV daily on The Gutfeld Show\, The Five\, The Big Saturday and Sunday show and now is your chance to spend an intimate evening listening to him discuss current events with his “no-nonsense” approach to life in his very own heartfelt and comical way. \nTyrus has a unique perspective on life and the issues facing the world today. This comes from surrounding himself with a diverse inner circle of friends such as former White House Press Secretary\, Dana Perino\, and Hip Hop Pioneer\, Snoop Dogg. \nTyrus should have been another statistic born to a teen mom and bouncing around the foster care system. But instead\, he is being touted as “the voice of the people” by Americans like me and you all over the country. Come laugh\, cry\, and learn what makes this behemoth of a man so endearing. Join Tyrus for a Meet & Greet after the show where you can get a photo and autograph. His New York Times best selling memoir “Just Tyrus” will be for sale at the event as well.
URL:https://vanburen.org/event/tyrus-live-one-night-only-koh/
LOCATION:AR
END:VEVENT
BEGIN:VEVENT
DTSTART;TZID=UTC:20230706T000000
DTEND;TZID=UTC:20230706T000000
DTSTAMP:20260422T005015
CREATED:20240326T151624Z
LAST-MODIFIED:20240326T151624Z
UID:10000309-1688601600-1688601600@vanburen.org
SUMMARY:Livin on Grandma's Prayers @ KOH
DESCRIPTION:Come and enjoy this original drama by Cosaundra Chapple.\n \nWhen Grandma’ Bradley’s daughter died suddenly of cancer\, she left behind a daughter. Although reluctant to take on the huge responsibility of adopting her grand daughter\, she knew it was the right thing to do. Throughout years of family drama\, Grandma’ was constantly praying and her prayers changed things!
URL:https://vanburen.org/event/livin-on-grandmas-prayers-koh/
LOCATION:AR
END:VEVENT
BEGIN:VEVENT
DTSTART;TZID=UTC:20230706T000000
DTEND;TZID=UTC:20230706T000000
DTSTAMP:20260422T005015
CREATED:20240326T151624Z
LAST-MODIFIED:20240326T151624Z
UID:10000310-1688601600-1688601600@vanburen.org
SUMMARY:Movies @ KOH      "Hunger"
DESCRIPTION:This year the King Opera House is be offering a series of movies from the Fort Smith Film Festival. Admission is free\, but a $5 donation is suggested. Please note that these independent movies are not rated.\n  \n \nThriller Movies featuring our 2022 Winner\, Hunger \nA child is being tormented by a voracious well demanding food from him. But as he proves unable to satisfy its hunger\, he drags himself to find another way of feeding it.
URL:https://vanburen.org/event/movies-koh-hunger/
LOCATION:AR
END:VEVENT
BEGIN:VEVENT
DTSTART;TZID=UTC:20230706T000000
DTEND;TZID=UTC:20230706T000000
DTSTAMP:20260422T005015
CREATED:20240326T151624Z
LAST-MODIFIED:20240326T151624Z
UID:10000311-1688601600-1688601600@vanburen.org
SUMMARY:Movies @ KOH    "Hideout"
DESCRIPTION:This year the King Opera House is be offering a series of movies from the Fort Smith Film Festival. Admission is free\, but a $5 donation is suggested. Please note that these independent movies are not rated.\n \nDrug dealer Guo-hao hopes to make enough money so that he and his girlfriend can leave their life of crime behind. One day\, he is contacted by Michael\, a drug broker with an offer to buy a batch of rare cocaine. \nGuo-hao teams up with long-time buddy Da-wei to borrow money from local crime boss Uncle Ma to complete this deal. \nOn the day of the exchange\, however\, Michael is found dead and the drugs are already gone. The owner of the cocaine threatens to kill Guo-hao if he fails to come up with the drugs or money. At the same time\, Uncle Ma dispatches his henchmen to recover the loan. \nIn the middle of the night\, Guo-hao receives a phone call from a mysterious man claiming to be in possession of the lost cocaine\, telling Guo-hao he has a new deal for him…
URL:https://vanburen.org/event/movies-koh-hideout/
LOCATION:AR
END:VEVENT
BEGIN:VEVENT
DTSTART;TZID=UTC:20230706T000000
DTEND;TZID=UTC:20230706T000000
DTSTAMP:20260422T005015
CREATED:20240326T151625Z
LAST-MODIFIED:20240326T151625Z
UID:10000312-1688601600-1688601600@vanburen.org
SUMMARY:Arts On Main presents: THE 39 STEPS  @ KOH
DESCRIPTION:Mix a Hitchcock masterpiece with a juicy spy novel\, add a dash of Monty Python\, and you have The 39 Steps\, a fast-paced whodunit for anyone who loves the magic of theatre! This two-time Tony® and Drama Desk Award-winning treat is packed with nonstop laughs\, over 150 zany characters (played by a ridiculously talented cast of four)\, an onstage plane crash\, handcuffs\, missing fingers\, and some good old-fashioned romance! In The 39 Steps\, a man with a boring life meets a woman with a thick accent who says she’s a spy. When he takes her home\, she is murdered. Soon\, a mysterious organization called “The 39 Steps” is hot on the man’s trail in a nationwide manhunt that climaxes in a death-defying finale! A riotous blend of virtuoso performances and wildly inventive stagecraft\, The 39 Steps amounts to an unforgettable evening of pure pleasure!
URL:https://vanburen.org/event/arts-on-main-presents-the-39-steps-koh/
LOCATION:AR
END:VEVENT
BEGIN:VEVENT
DTSTART;TZID=UTC:20230706T000000
DTEND;TZID=UTC:20230706T000000
DTSTAMP:20260422T005015
CREATED:20240326T151819Z
LAST-MODIFIED:20240326T151819Z
UID:10000313-1688601600-1688601600@vanburen.org
SUMMARY:Movies @ KOH "The Penitent Thief"
DESCRIPTION:This year the King Opera House is be offering a series of movies from the Fort Smith Film Festival. Admission is free\, but a $5 donation is suggested. Please note that these independent movies are not rated.\nThe Penitent Thief is the story of the two unnamed men who were crucified alongside Jesus and how they came to be beside him on the cross that fateful day.
URL:https://vanburen.org/event/movies-koh-the-penitent-thief/
LOCATION:AR
END:VEVENT
BEGIN:VEVENT
DTSTART;TZID=America/Chicago:20230708T100000
DTEND;TZID=America/Chicago:20230708T180000
DTSTAMP:20260422T005015
CREATED:20240401T174008Z
LAST-MODIFIED:20240401T174008Z
UID:10001000-1688810400-1688839200@vanburen.org
SUMMARY:Second Saturday "Americana Days" Shopping on Main
DESCRIPTION:
URL:https://vanburen.org/event/second-saturday-americana-days-shopping-on-main-2/
LOCATION:AR
END:VEVENT
BEGIN:VEVENT
DTSTART;TZID=America/Chicago:20230708T110000
DTEND;TZID=America/Chicago:20230708T140000
DTSTAMP:20260422T005015
CREATED:20240401T180823Z
LAST-MODIFIED:20240401T180823Z
UID:10001064-1688814000-1688824800@vanburen.org
SUMMARY:Ride the Train Van Buren to Winslow roundtrip
DESCRIPTION:This three-hour\, 70-mile round trip excursion takes you through the ruggedly beautiful Boston Mountain range of the Ozarks\, over three valley trestles and through the 1700-foot-long Winslow tunnel.
URL:https://vanburen.org/event/ride-the-train-van-buren-to-winslow-roundtrip-18/
LOCATION:AR
END:VEVENT
BEGIN:VEVENT
DTSTART;TZID=America/Chicago:20230708T140000
DTEND;TZID=America/Chicago:20230708T140000
DTSTAMP:20260422T005015
CREATED:20240401T182523Z
LAST-MODIFIED:20240401T182523Z
UID:10001110-1688824800-1688824800@vanburen.org
SUMMARY:Movie @ the KOH "Indians\, Outlaws\, Marshalls\, and the Hangin Judge"
DESCRIPTION:This year the King Opera House is be offering a series of movies from the Fort Smith Film Festival. Admission is free\, but a $5 donation is suggested. Please note that these independent movies are not rated.\nIndians\, Outlaws\, Marshals and the Hangin’ Judge \nWhile set in the late 19th century\, the stories documented in this film resonate today: gun violence\, racial strife\, police brutality and American Indian rights. This is a true tale of Indian removal\, crime\, capital punishment and a charismatic federal judge who sentenced scores of felons to “hang by the neck until you are dead.” Outlaw gangs hid from the law in lands given to native people\, until Indian Territory was taken away and turned back to settlers. Told in first person using the actual words written by St. Louis Republic newspaper reporter Ada Patterson in September 1896\, this real-life story is set in and around Fort Smith\, Arkansas\, in the same time and place as the fictional Western novel and film\, True Grit. Patterson narrates\, much as Mattie Ross tells the story in the Charles Portis classic. With careful and honest detail to the words and visual history of the era\, we re-create Patterson’s interview with Judge Isaac Parker\, the infamous “hanging Judge\,” conducted on the date (September 1\, 1896) Parker’s court was stripped by Congress of its jurisdiction over Indian Territory. Parker\, who was dying of kidney disease\, tells Patterson a gripping tale of his court\, and his view of American Indians: “Twenty-one year’s experience has taught me they are a religiously inclined\, law-abiding\, authority-respecting people\,” and of the “brutes” who stood trial before his bench. “
URL:https://vanburen.org/event/movie-the-koh-indians-outlaws-marshalls-and-the-hangin-judge-2/
LOCATION:AR
END:VEVENT
BEGIN:VEVENT
DTSTART;TZID=America/Chicago:20230715T190000
DTEND;TZID=America/Chicago:20230715T190000
DTSTAMP:20260422T005015
CREATED:20240401T182523Z
LAST-MODIFIED:20240401T182523Z
UID:10001111-1689447600-1689447600@vanburen.org
SUMMARY:Slick Hickory Outlaw Country Band @ KOH
DESCRIPTION:Slick Hickory Outlaw Country Band is a group of musicians that do songs from the early days of the Bakersfield sound of the 60’s  70’s 80’s. You will hear songs such as Buck Owens – I’ve Got a Tiger by the Tail\, Merle Haggard – “Ramblin´ Fever”\, Waylon Jennings – Lonesome\, On’ry and Mean\, Willie Nelson – Whiskey River\, \nAmong many more hits by other artists of the Outlaw Era! We have spent a lifetime of doing  Stand Up\, Unpolished\, Unrehearsed\, Hard-drivin’ Outlaw Country!
URL:https://vanburen.org/event/slick-hickory-outlaw-country-band-koh-2/
LOCATION:AR
END:VEVENT
BEGIN:VEVENT
DTSTART;TZID=America/Chicago:20230716T193000
DTEND;TZID=America/Chicago:20230716T193000
DTSTAMP:20260422T005015
CREATED:20240401T182523Z
LAST-MODIFIED:20240401T182523Z
UID:10001112-1689535800-1689535800@vanburen.org
SUMMARY:TYRUS LIVE ONE NIGHT ONLY @ KOH
DESCRIPTION:Fox News Channel Contributor\, Comedian\, NWA Wrestling Superstar\, and Bestselling Author\, Tyrus\, takes the stage LIVE and in-person.\nYou see him on TV daily on The Gutfeld Show\, The Five\, The Big Saturday and Sunday show and now is your chance to spend an intimate evening listening to him discuss current events with his “no-nonsense” approach to life in his very own heartfelt and comical way. \nTyrus has a unique perspective on life and the issues facing the world today. This comes from surrounding himself with a diverse inner circle of friends such as former White House Press Secretary\, Dana Perino\, and Hip Hop Pioneer\, Snoop Dogg. \nTyrus should have been another statistic born to a teen mom and bouncing around the foster care system. But instead\, he is being touted as “the voice of the people” by Americans like me and you all over the country. Come laugh\, cry\, and learn what makes this behemoth of a man so endearing. Join Tyrus for a Meet & Greet after the show where you can get a photo and autograph. His New York Times best selling memoir “Just Tyrus” will be for sale at the event as well.
URL:https://vanburen.org/event/tyrus-live-one-night-only-koh-2/
LOCATION:AR
END:VEVENT
BEGIN:VEVENT
DTSTART;TZID=America/Chicago:20230722T100000
DTEND;TZID=America/Chicago:20230722T170000
DTSTAMP:20260422T005015
CREATED:20240401T174009Z
LAST-MODIFIED:20240401T174009Z
UID:10001001-1690020000-1690045200@vanburen.org
SUMMARY:Christmas in July on Main
DESCRIPTION:Details soon!
URL:https://vanburen.org/event/christmas-in-july-on-main-2/
LOCATION:AR
END:VEVENT
BEGIN:VEVENT
DTSTART;TZID=America/Chicago:20230722T110000
DTEND;TZID=America/Chicago:20230722T140000
DTSTAMP:20260422T005016
CREATED:20240401T180823Z
LAST-MODIFIED:20240401T180823Z
UID:10001065-1690023600-1690034400@vanburen.org
SUMMARY:Ride the Train Van Buren to Winslow roundtrip
DESCRIPTION:This three-hour\, 70-mile round trip excursion takes you through the ruggedly beautiful Boston Mountain range of the Ozarks\, over three valley trestles and through the 1700-foot-long Winslow tunnel.
URL:https://vanburen.org/event/ride-the-train-van-buren-to-winslow-roundtrip-19/
LOCATION:AR
END:VEVENT
BEGIN:VEVENT
DTSTART;TZID=America/Chicago:20230722T190000
DTEND;TZID=America/Chicago:20230722T190000
DTSTAMP:20260422T005016
CREATED:20240401T175418Z
LAST-MODIFIED:20240401T175418Z
UID:10001033-1690052400-1690052400@vanburen.org
SUMMARY:The Remnants of Rock
DESCRIPTION:Rock and Roll was born in the late 1950s\, and by the end of the 1960s\, the music had produced such legends as Elvis Presley\, The Beatles\, The Beach Boys\, Motown and the Memphis sound. The consensus among historians is that the greatest popular music of all time was created during this ten-year period. Unquestionably\, the music defined a generation and continues to be embraced by younger generations. For example\, The Beatles sold approximately 70 million albums between 1963-69\, but have since sold over 2.3 billion albums.\nThe Remnants of Rock is composed of original band members that started out together in 1968\, with the addition of the current keyboard player. The band’s goal is to successfully recreate the music of the 1960s as authentically as possible. Imagine walking into the student union for the homecoming dance on any college campus during the years 1965-1969 and hearing the best dance band you’ve ever heard! Close your eyes and think back\, because this is the performance The Remnants will deliver. The band plays only the top hits from 1959-1969 – which is often called the sweet spot of the era.
URL:https://vanburen.org/event/the-remnants-of-rock-2/
LOCATION:AR
END:VEVENT
BEGIN:VEVENT
DTSTART;TZID=America/Chicago:20230729T110000
DTEND;TZID=America/Chicago:20230729T140000
DTSTAMP:20260422T005016
CREATED:20240401T180823Z
LAST-MODIFIED:20240401T180823Z
UID:10001066-1690628400-1690639200@vanburen.org
SUMMARY:Ride the Train Van Buren to Winslow roundtrip
DESCRIPTION:This three-hour\, 70-mile round trip excursion takes you through the ruggedly beautiful Boston Mountain range of the Ozarks\, over three valley trestles and through the 1700-foot-long Winslow tunnel.
URL:https://vanburen.org/event/ride-the-train-van-buren-to-winslow-roundtrip-20/
LOCATION:AR
END:VEVENT
END:VCALENDAR