BEGIN:VCALENDAR
VERSION:2.0
PRODID:-//Van Buren Advertising &amp; Promotions Commission - ECPv6.15.20//NONSGML v1.0//EN
CALSCALE:GREGORIAN
METHOD:PUBLISH
X-ORIGINAL-URL:https://vanburen.org
X-WR-CALDESC:Events for Van Buren Advertising &amp; Promotions Commission
REFRESH-INTERVAL;VALUE=DURATION:PT1H
X-Robots-Tag:noindex
X-PUBLISHED-TTL:PT1H
BEGIN:VTIMEZONE
TZID:America/Chicago
BEGIN:DAYLIGHT
TZOFFSETFROM:-0600
TZOFFSETTO:-0500
TZNAME:CDT
DTSTART:20230312T080000
END:DAYLIGHT
BEGIN:STANDARD
TZOFFSETFROM:-0500
TZOFFSETTO:-0600
TZNAME:CST
DTSTART:20231105T070000
END:STANDARD
BEGIN:DAYLIGHT
TZOFFSETFROM:-0600
TZOFFSETTO:-0500
TZNAME:CDT
DTSTART:20240310T080000
END:DAYLIGHT
BEGIN:STANDARD
TZOFFSETFROM:-0500
TZOFFSETTO:-0600
TZNAME:CST
DTSTART:20241103T070000
END:STANDARD
BEGIN:DAYLIGHT
TZOFFSETFROM:-0600
TZOFFSETTO:-0500
TZNAME:CDT
DTSTART:20250309T080000
END:DAYLIGHT
BEGIN:STANDARD
TZOFFSETFROM:-0500
TZOFFSETTO:-0600
TZNAME:CST
DTSTART:20251102T070000
END:STANDARD
END:VTIMEZONE
BEGIN:VEVENT
DTSTART;TZID=America/Chicago:20240302T190000
DTEND;TZID=America/Chicago:20240302T190000
DTSTAMP:20260421T114217
CREATED:20240401T183235Z
LAST-MODIFIED:20240401T183235Z
UID:10001167-1709406000-1709406000@vanburen.org
SUMMARY:GONE TOO SOON\, the Ultimate Michael Jackson Experience     @ KOH
DESCRIPTION:“GONE TO SOON” is a reflection of the incredible career of Michael Jackson in his prime\, with all the massive hits and signature stage moves including an incredible cast of musicians. \nThis mind-blowing production takes you back in time with a Ultimate Michael Jackson Tribute Artist delivering a theatrical event that is the next best thing to seeing Michael himself. You will be singing and dancing along to some of his greatest hits of all time.  \nThis is by far the most authentic Michael Jackson Experience touring in 2023/2024!!!!!  \nIf you love “The King Of Pop” then welcome to “Gone To Soon”.   Your about to see the next-best thing!!!!
URL:https://vanburen.org/event/gone-too-soon-the-ultimate-michael-jackson-experience-koh-2/
LOCATION:AR
END:VEVENT
BEGIN:VEVENT
DTSTART;TZID=America/Chicago:20240309T110000
DTEND;TZID=America/Chicago:20240309T140000
DTSTAMP:20260421T114217
CREATED:20240401T183821Z
LAST-MODIFIED:20240401T183821Z
UID:10001193-1709982000-1709992800@vanburen.org
SUMMARY:Ride the Train\, Van Buren to Winslow
DESCRIPTION:This three-hour\, 70 mile round trip excursion takes you through the ruggedly beautiful Boston Mountain range of the Ozarks\, over three valley trestles and through the 1700-foot long Winslow tunnel for some of the most breathtaking scenery you are likely to see in ‘The Natural State’.\n \nDeparts Van Buren 11:00am  \n– Boston Mountains\, Trestles\, Tunnel \n– Three hour round trip \nTicket types\n \nSilver Feather – 108: Silver Feather Premium is a 1940’s style car with a 360° Dome top view with booth/table top seating\, a downstairs dining area with chair/table top seating and a downstairs lounge. \n\nIncludes lunch\, drink and dessert\nGuests may book seats either upstairs in the Vista Dome or downstairs\n\n                                                                                                                                                        \n  \nPremium – #107 & #109: Premium Service includes either 1950’s diner car with booth/table top seating or 1950’s parlor car with chair/table top seating and a back platform for photography (weather permitting). \n\n Includes lunch\, drink\, and dessert\nParties of two may share a table with other guests\n\n  \n \nVintage Coach – #105 & #106: Coach Service is in our 1920’s vintage car with reversible seating and windows on all sides for the perfect view. Ticket includes round trip excursion with snacks and beverages available for purchase\n \n\nCoach: Snacks and drinks available for purchase\nCoach with lunch: Includes box lunch\, drink and dessert
URL:https://vanburen.org/event/ride-the-train-van-buren-to-winslow-83/
LOCATION:AR
END:VEVENT
BEGIN:VEVENT
DTSTART;TZID=America/Chicago:20240314T190000
DTEND;TZID=America/Chicago:20240314T190000
DTSTAMP:20260421T114217
CREATED:20240401T183619Z
LAST-MODIFIED:20240401T183619Z
UID:10001179-1710442800-1710442800@vanburen.org
SUMMARY:Something Rotten presented by Community School of the Arts at The King Opera House
DESCRIPTION:
URL:https://vanburen.org/event/something-rotten-presented-by-community-school-of-the-arts-at-the-king-opera-house-4/
LOCATION:AR
END:VEVENT
BEGIN:VEVENT
DTSTART;TZID=America/Chicago:20240315T190000
DTEND;TZID=America/Chicago:20240315T190000
DTSTAMP:20260421T114217
CREATED:20240401T183620Z
LAST-MODIFIED:20240401T183620Z
UID:10001180-1710529200-1710529200@vanburen.org
SUMMARY:Something Rotten presented by Community School of the Arts at The King Opera House
DESCRIPTION:
URL:https://vanburen.org/event/something-rotten-presented-by-community-school-of-the-arts-at-the-king-opera-house-5/
LOCATION:AR
END:VEVENT
BEGIN:VEVENT
DTSTART;TZID=America/Chicago:20240316T140000
DTEND;TZID=America/Chicago:20240316T140000
DTSTAMP:20260421T114217
CREATED:20240401T183620Z
LAST-MODIFIED:20240401T183620Z
UID:10001181-1710597600-1710597600@vanburen.org
SUMMARY:Something Rotten presented by Community School of the Arts at The King Opera House
DESCRIPTION:
URL:https://vanburen.org/event/something-rotten-presented-by-community-school-of-the-arts-at-the-king-opera-house-6/
LOCATION:AR
END:VEVENT
BEGIN:VEVENT
DTSTART;TZID=America/Chicago:20240316T190000
DTEND;TZID=America/Chicago:20240316T190000
DTSTAMP:20260421T114217
CREATED:20240401T183620Z
LAST-MODIFIED:20240401T183620Z
UID:10001182-1710615600-1710615600@vanburen.org
SUMMARY:Something Rotten presented by Community School of the Arts at The King Opera House
DESCRIPTION:
URL:https://vanburen.org/event/something-rotten-presented-by-community-school-of-the-arts-at-the-king-opera-house-7/
LOCATION:AR
END:VEVENT
BEGIN:VEVENT
DTSTART;TZID=America/Chicago:20240317T140000
DTEND;TZID=America/Chicago:20240317T140000
DTSTAMP:20260421T114217
CREATED:20240401T183620Z
LAST-MODIFIED:20240401T183620Z
UID:10001183-1710684000-1710684000@vanburen.org
SUMMARY:Something Rotten presented by Community School of the Arts at The King Opera House
DESCRIPTION:
URL:https://vanburen.org/event/something-rotten-presented-by-community-school-of-the-arts-at-the-king-opera-house-8/
LOCATION:AR
END:VEVENT
BEGIN:VEVENT
DTSTART;TZID=America/Chicago:20240322T110000
DTEND;TZID=America/Chicago:20240322T140000
DTSTAMP:20260421T114217
CREATED:20240401T183838Z
LAST-MODIFIED:20240401T183838Z
UID:10001194-1711105200-1711116000@vanburen.org
SUMMARY:Ride the Train\, Van Buren to Winslow
DESCRIPTION:This three-hour\, 70 mile round trip excursion takes you through the ruggedly beautiful Boston Mountain range of the Ozarks\, over three valley trestles and through the 1700-foot long Winslow tunnel for some of the most breathtaking scenery you are likely to see in ‘The Natural State’.\n \nDeparts Van Buren 11:00am  \n– Boston Mountains\, Trestles\, Tunnel \n– Three hour round trip \nTicket types\n \nSilver Feather – 108: Silver Feather Premium is a 1940’s style car with a 360° Dome top view with booth/table top seating\, a downstairs dining area with chair/table top seating and a downstairs lounge. \n\nIncludes lunch\, drink and dessert\nGuests may book seats either upstairs in the Vista Dome or downstairs\n\n                                                                                                                                                        \n  \nPremium – #107 & #109: Premium Service includes either 1950’s diner car with booth/table top seating or 1950’s parlor car with chair/table top seating and a back platform for photography (weather permitting). \n\n Includes lunch\, drink\, and dessert\nParties of two may share a table with other guests\n\n  \n \nVintage Coach – #105 & #106: Coach Service is in our 1920’s vintage car with reversible seating and windows on all sides for the perfect view. Ticket includes round trip excursion with snacks and beverages available for purchase\n \n\nCoach: Snacks and drinks available for purchase\nCoach with lunch: Includes box lunch\, drink and dessert
URL:https://vanburen.org/event/ride-the-train-van-buren-to-winslow-84/
LOCATION:AR
END:VEVENT
BEGIN:VEVENT
DTSTART;TZID=America/Chicago:20240323T190000
DTEND;TZID=America/Chicago:20240323T190000
DTSTAMP:20260421T114217
CREATED:20240401T183235Z
LAST-MODIFIED:20240401T183235Z
UID:10001168-1711220400-1711220400@vanburen.org
SUMMARY:Magic – Beyond the Ghost Light    @ KOH
DESCRIPTION:Beyond the Ghost Light is a magic show like no other….\nWhere the theatre itself\, the King Opera House\, plays an integral part in the show. \nIt’s been said that every theatre has at least one ghost and as one of the most haunted theatres in the country the King Opera House is no exception. \nTradition holds that a single light is left centre stage each night to appease the spirits and allow them to perform one last time before dawn…this light is known as The Ghost Light. \nWhat lies beyond the edge of the candle’s last flicker of light? What mysteries await in the realm of the shadows in the haunted world of the stage? \nWorld renowned paranormalist Vince Johari and master magician Carlos David invite you to join them as they travel through the doorway to the other side and explore the amazing world Beyond the Ghost Light.
URL:https://vanburen.org/event/magic-beyond-the-ghost-light-koh-2/
LOCATION:AR
END:VEVENT
BEGIN:VEVENT
DTSTART;TZID=America/Chicago:20240328T110000
DTEND;TZID=America/Chicago:20240328T140000
DTSTAMP:20260421T114217
CREATED:20240401T183838Z
LAST-MODIFIED:20240401T183838Z
UID:10001195-1711623600-1711634400@vanburen.org
SUMMARY:Ride the Train\, Van Buren to Winslow
DESCRIPTION:This three-hour\, 70 mile round trip excursion takes you through the ruggedly beautiful Boston Mountain range of the Ozarks\, over three valley trestles and through the 1700-foot long Winslow tunnel for some of the most breathtaking scenery you are likely to see in ‘The Natural State’.\n \nDeparts Van Buren 11:00am  \n– Boston Mountains\, Trestles\, Tunnel \n– Three hour round trip \nTicket types\n \nSilver Feather – 108: Silver Feather Premium is a 1940’s style car with a 360° Dome top view with booth/table top seating\, a downstairs dining area with chair/table top seating and a downstairs lounge. \n\nIncludes lunch\, drink and dessert\nGuests may book seats either upstairs in the Vista Dome or downstairs\n\n                                                                                                                                                        \n  \nPremium – #107 & #109: Premium Service includes either 1950’s diner car with booth/table top seating or 1950’s parlor car with chair/table top seating and a back platform for photography (weather permitting). \n\n Includes lunch\, drink\, and dessert\nParties of two may share a table with other guests\n\n  \n \nVintage Coach – #105 & #106: Coach Service is in our 1920’s vintage car with reversible seating and windows on all sides for the perfect view. Ticket includes round trip excursion with snacks and beverages available for purchase\n \n\nCoach: Snacks and drinks available for purchase\nCoach with lunch: Includes box lunch\, drink and dessert
URL:https://vanburen.org/event/ride-the-train-van-buren-to-winslow-85/
LOCATION:AR
END:VEVENT
END:VCALENDAR