BEGIN:VCALENDAR
VERSION:2.0
PRODID:-//Van Buren Advertising &amp; Promotions Commission - ECPv6.15.20//NONSGML v1.0//EN
CALSCALE:GREGORIAN
METHOD:PUBLISH
X-ORIGINAL-URL:https://vanburen.org
X-WR-CALDESC:Events for Van Buren Advertising &amp; Promotions Commission
REFRESH-INTERVAL;VALUE=DURATION:PT1H
X-Robots-Tag:noindex
X-PUBLISHED-TTL:PT1H
BEGIN:VTIMEZONE
TZID:UTC
BEGIN:STANDARD
TZOFFSETFROM:+0000
TZOFFSETTO:+0000
TZNAME:UTC
DTSTART:20250101T000000
END:STANDARD
END:VTIMEZONE
BEGIN:VEVENT
DTSTART;VALUE=DATE:20261010
DTEND;VALUE=DATE:20261012
DTSTAMP:20260420T101355
CREATED:20260203T200749Z
LAST-MODIFIED:20260203T200749Z
UID:10003375-1791590400-1791763199@vanburen.org
SUMMARY:Fall Festival Tradin' Days and Rib Cookoff
DESCRIPTION:
URL:https://vanburen.org/event/fall-festival-tradin-days-and-rib-cookoff/
LOCATION:Main Street Historic District\, 700-400 Main Street\, Van Buren\, AR\, 72956\, United States
ORGANIZER;CN="Old Town Merchants Association":MAILTO:oldtownvanburen@gmail.com
END:VEVENT
BEGIN:VEVENT
DTSTART;VALUE=DATE:20261024
DTEND;VALUE=DATE:20261025
DTSTAMP:20260420T101355
CREATED:20260203T201045Z
LAST-MODIFIED:20260203T201045Z
UID:10003376-1792800000-1792886399@vanburen.org
SUMMARY:Coughran's Car Show
DESCRIPTION:
URL:https://vanburen.org/event/coughrans-car-show/
LOCATION:Main Street Historic District\, 700-400 Main Street\, Van Buren\, AR\, 72956\, United States
ORGANIZER;CN="Coughran Hot Rod Shop Auto Show":MAILTO:coughrangraphicdesigns@gmail.com
END:VEVENT
END:VCALENDAR